BEGIN:VCALENDAR
VERSION:2.0
PRODID:-//Crafty Belle Group - ECPv6.15.18//NONSGML v1.0//EN
CALSCALE:GREGORIAN
METHOD:PUBLISH
X-ORIGINAL-URL:https://craftybelle.uk
X-WR-CALDESC:Events for Crafty Belle Group
REFRESH-INTERVAL;VALUE=DURATION:PT1H
X-Robots-Tag:noindex
X-PUBLISHED-TTL:PT1H
BEGIN:VTIMEZONE
TZID:Europe/London
BEGIN:DAYLIGHT
TZOFFSETFROM:+0000
TZOFFSETTO:+0100
TZNAME:BST
DTSTART:20200329T010000
END:DAYLIGHT
BEGIN:STANDARD
TZOFFSETFROM:+0100
TZOFFSETTO:+0000
TZNAME:GMT
DTSTART:20201025T010000
END:STANDARD
BEGIN:DAYLIGHT
TZOFFSETFROM:+0000
TZOFFSETTO:+0100
TZNAME:BST
DTSTART:20210328T010000
END:DAYLIGHT
BEGIN:STANDARD
TZOFFSETFROM:+0100
TZOFFSETTO:+0000
TZNAME:GMT
DTSTART:20211031T010000
END:STANDARD
BEGIN:DAYLIGHT
TZOFFSETFROM:+0000
TZOFFSETTO:+0100
TZNAME:BST
DTSTART:20220327T010000
END:DAYLIGHT
BEGIN:STANDARD
TZOFFSETFROM:+0100
TZOFFSETTO:+0000
TZNAME:GMT
DTSTART:20221030T010000
END:STANDARD
BEGIN:DAYLIGHT
TZOFFSETFROM:+0000
TZOFFSETTO:+0100
TZNAME:BST
DTSTART:20230326T010000
END:DAYLIGHT
BEGIN:STANDARD
TZOFFSETFROM:+0100
TZOFFSETTO:+0000
TZNAME:GMT
DTSTART:20231029T010000
END:STANDARD
END:VTIMEZONE
BEGIN:VEVENT
DTSTART;TZID=Europe/London:20211105T210000
DTEND;TZID=Europe/London:20211105T230000
DTSTAMP:20260423T184705
CREATED:20211027T104931Z
LAST-MODIFIED:20211027T113835Z
UID:10000003-1636146000-1636153200@craftybelle.uk
SUMMARY:Two Man Ting
DESCRIPTION:http://www.twomanting.co.uk/\n\nTwoManTing was formed in 2004 when Sierra Leonean drummer Jah-man Aggrey\, and guitarist Jon Lewis were playing together as part of dance band\, Le Cod Afrique\, at venues such as Montreux Jazz Festival and WOMAD.\n\n \n\nThe duo immediately became a hit on the UK festival circuit with their brand of bouncy “Sunshine Afro-roots”. Shows have included Glastonbury\, Secret Garden Party\, Wilderness and Green Man Festivals to name but a few. Using guitar\, live loops and percussion the duo creates a highly danceable full band sound and their reputation has earned them recent support slots with the likes of Tinariwen\, The Oyster Band\, Edward 2 and Dub Colossus. Their music is often featured on BBC Radio 3 and 6Music.\n\n \n\nShows feature palm-wine\, acoustic dub and highlife grooves with thoughtful and thought-provoking lyrics on subjects ranging from childhood memories\, political protest and er….duvets.\n\n \n\nThe latest album “Rhymes with Orange” draws on a range of sounds from 1970s Sierra Leone to 1980s UK punk through to the Soukous beats of the Congo.\n\n \n\n“Brilliant – if you want a bit of early summer\, then get this into your ear-holes!”\n\n(Lauren Laverne\, BBC 6Music)\n\n \n\n“John Peel would play something like this on his programme and the world would suddenly seem a better place”\n\n(Steve Lamacq\, BBC 6Music)
URL:https://craftybelle.uk/event/two-man-ting/
LOCATION:James St. Tavern\, 47-48 James Street\, Oxford\, Oxfordshire\, OX4 1EU\, United Kingdom
CATEGORIES:James St.
ATTACH;FMTTYPE=image/jpeg:https://craftybelle.uk/wp-content/uploads/2021/10/Two-Man-Ting.jpg
END:VEVENT
BEGIN:VEVENT
DTSTART;TZID=Europe/London:20211106T203000
DTEND;TZID=Europe/London:20211106T223000
DTSTAMP:20260423T184705
CREATED:20211027T105728Z
LAST-MODIFIED:20220228T144422Z
UID:10000004-1636230600-1636237800@craftybelle.uk
SUMMARY:Scott Gordon Band
DESCRIPTION:The SGB are comin’ back to that lovely\, lovely James Street Tavern. Armed with the knowledge that their new record has just been released on an unsuspecting public a few weeks ago. You know what’s comin’ – original rootsy blues and western\, a Norn Iron accent\, rollin’ basslines\, some jazz-fuelled drums and that awesome Chicago dub blues harmonica! Come and catch them while ya still can! Find more information at https://www.reverbnation.com/thatscottfella
URL:https://craftybelle.uk/event/scott-gordon-band/2021-11-06/
LOCATION:James St. Tavern\, 47-48 James Street\, Oxford\, Oxfordshire\, OX4 1EU\, United Kingdom
CATEGORIES:James St.
ATTACH;FMTTYPE=image/jpeg:https://craftybelle.uk/wp-content/uploads/2021/10/Scott-Gordon-2.jpg
END:VEVENT
BEGIN:VEVENT
DTSTART;TZID=Europe/London:20211113T203000
DTEND;TZID=Europe/London:20211113T230000
DTSTAMP:20260423T184705
CREATED:20211027T110706Z
LAST-MODIFIED:20211027T113928Z
UID:10000006-1636835400-1636844400@craftybelle.uk
SUMMARY:Tom Dalby
DESCRIPTION:Tom Dalby will be back playing some cool covers and mashups as well as songs from his upcoming EP “live at Challow Park Studios”\n\nFor more information head to Tom’s Facebook Page: https://www.facebook.com/tomdalbymusic2/
URL:https://craftybelle.uk/event/tom-dalby/
LOCATION:James St. Tavern\, 47-48 James Street\, Oxford\, Oxfordshire\, OX4 1EU\, United Kingdom
CATEGORIES:James St.
ATTACH;FMTTYPE=image/jpeg:https://craftybelle.uk/wp-content/uploads/2021/10/Tom-Dalby-1.jpeg
END:VEVENT
BEGIN:VEVENT
DTSTART;TZID=Europe/London:20211119T210000
DTEND;TZID=Europe/London:20211119T230000
DTSTAMP:20260423T184705
CREATED:20211027T111803Z
LAST-MODIFIED:20211027T113753Z
UID:10000007-1637355600-1637362800@craftybelle.uk
SUMMARY:Mambo Panthers
DESCRIPTION:The Mambo Panthers are returning once again to James St!\n \nOxford’s favourite live Latin Band will be wowing you with a versatile and eclectic mixture of Cuban son\, Swing\, Cumbia\, Jazz\, Rock\, African rhythms and South American sounds.\n\nCheck out a recent performance with us here: https://fb.watch/8UXA-IW-ow/
URL:https://craftybelle.uk/event/mambo-panthers/
LOCATION:James St. Tavern\, 47-48 James Street\, Oxford\, Oxfordshire\, OX4 1EU\, United Kingdom
CATEGORIES:James St.
ATTACH;FMTTYPE=image/png:https://craftybelle.uk/wp-content/uploads/2021/10/Mambo-Panthers.png
END:VEVENT
BEGIN:VEVENT
DTSTART;TZID=Europe/London:20211120T200000
DTEND;TZID=Europe/London:20211120T220000
DTSTAMP:20260423T184705
CREATED:20211027T112109Z
LAST-MODIFIED:20211027T113740Z
UID:10000008-1637438400-1637445600@craftybelle.uk
SUMMARY:Dan Rawle
DESCRIPTION:Dan Rawle is a singer/guitarist combining a fun\, relaxed vibe and a boundless energy to bring you an eclectic range of music from the 50’s to modern day. An act not to be missed\, you’ll find yourself singing your hearts out and dancing the night away!
URL:https://craftybelle.uk/event/dan-rawle/
LOCATION:James St. Tavern\, 47-48 James Street\, Oxford\, Oxfordshire\, OX4 1EU\, United Kingdom
CATEGORIES:James St.
ATTACH;FMTTYPE=image/jpeg:https://craftybelle.uk/wp-content/uploads/2021/10/Dan-Rawle.jpg
END:VEVENT
BEGIN:VEVENT
DTSTART;TZID=Europe/London:20211126T203000
DTEND;TZID=Europe/London:20211126T230000
DTSTAMP:20260423T184705
CREATED:20211027T112737Z
LAST-MODIFIED:20211027T112738Z
UID:10000009-1637958600-1637967600@craftybelle.uk
SUMMARY:James St. Live Lounge
DESCRIPTION:More info TBC\, watch this space!
URL:https://craftybelle.uk/event/james-st-live-lounge-2/
LOCATION:James St. Tavern\, 47-48 James Street\, Oxford\, Oxfordshire\, OX4 1EU\, United Kingdom
CATEGORIES:James St.
END:VEVENT
BEGIN:VEVENT
DTSTART;TZID=Europe/London:20211211T203000
DTEND;TZID=Europe/London:20211211T230000
DTSTAMP:20260423T184705
CREATED:20211027T113725Z
LAST-MODIFIED:20211027T114126Z
UID:10000010-1639254600-1639263600@craftybelle.uk
SUMMARY:Tom Dalby
DESCRIPTION:Tom Dalby will be back playing some cool covers and mashups as well as songs from his upcoming EP “live at Challow Park Studios” \nFor more information head to Tom’s Facebook Page: https://www.facebook.com/tomdalbymusic2/
URL:https://craftybelle.uk/event/tom-dalby-2/
LOCATION:James St. Tavern\, 47-48 James Street\, Oxford\, Oxfordshire\, OX4 1EU\, United Kingdom
CATEGORIES:James St.
ATTACH;FMTTYPE=image/jpeg:https://craftybelle.uk/wp-content/uploads/2021/10/Tom-Dalby-2.jpeg
END:VEVENT
BEGIN:VEVENT
DTSTART;TZID=Europe/London:20211217T210000
DTEND;TZID=Europe/London:20211217T233000
DTSTAMP:20260423T184705
CREATED:20211027T114651Z
LAST-MODIFIED:20211027T114652Z
UID:10000011-1639774800-1639783800@craftybelle.uk
SUMMARY:Quarry Katz Christmas Bonanza!
DESCRIPTION:The Quarry Katz mission is simple: to have the best time playing raw and dirty\, high energy\, 1950’s inspired Rock n Roll. Fuel your glass\, jump on the train and get ready for a rock’n’roll Christmas journey! You’ll be bobbin’.
URL:https://craftybelle.uk/event/quarry-katz-christmas-bonanza/
LOCATION:James St. Tavern\, 47-48 James Street\, Oxford\, Oxfordshire\, OX4 1EU\, United Kingdom
CATEGORIES:James St.
ATTACH;FMTTYPE=image/jpeg:https://craftybelle.uk/wp-content/uploads/2021/10/Quarry-Katz-1-1.jpg
END:VEVENT
BEGIN:VEVENT
DTSTART;TZID=Europe/London:20220115T210000
DTEND;TZID=Europe/London:20220115T230000
DTSTAMP:20260423T184705
CREATED:20220107T212042Z
LAST-MODIFIED:20220107T212042Z
UID:10000012-1642280400-1642287600@craftybelle.uk
SUMMARY:Jake Rizzo
DESCRIPTION:Superstar Jake Rizzo will be back performing at James St Tavern wowing us with his unique mix of upbeat covers and stunning original material. Never one to be missed!
URL:https://craftybelle.uk/event/jake-rizzo/
LOCATION:James St. Tavern\, 47-48 James Street\, Oxford\, Oxfordshire\, OX4 1EU\, United Kingdom
CATEGORIES:James St.
END:VEVENT
BEGIN:VEVENT
DTSTART;TZID=Europe/London:20220125T180000
DTEND;TZID=Europe/London:20220125T213000
DTSTAMP:20260423T184705
CREATED:20220107T214721Z
LAST-MODIFIED:20220107T223617Z
UID:10000013-1643133600-1643146200@craftybelle.uk
SUMMARY:Bookies Burns Night
DESCRIPTION:We’ll be back on Tuesday January 25th to join in the annual celebration of the life and poetry of Robert Burns\, and we’ll be hitting you up with a gorgeous Scottish inspired menu. Our good friend Steve Hay will be addressing the haggis table by table\, and the incredibly talented William from the Reading Scottish Pipe Band will be piping throughout the evening! \nAn absolute corker of an evening not to be missed\, and booking is essential. Please call us on 01865 553549. \nPLEASE NOTE. THERE WILL BE NO QUIZ ON THIS EVENING
URL:https://craftybelle.uk/event/bookies-burns-night/
LOCATION:The Old Bookbinders\, 17-18 Victor Street\, Oxford\, Oxfordshire\, OX2 6BT\, United Kingdom
CATEGORIES:Bookbinders
END:VEVENT
BEGIN:VEVENT
DTSTART;TZID=Europe/London:20220127T200000
DTEND;TZID=Europe/London:20220127T223000
DTSTAMP:20260423T184705
CREATED:20220127T135042Z
LAST-MODIFIED:20241016T172722Z
UID:10000018-1643313600-1643322600@craftybelle.uk
SUMMARY:JST Comedy Open Mic
DESCRIPTION:The first (and best) Comedy Open Mic in Oxford\, JST’s Open Mic is the spot to see new emerging talent performing alongside tried and tested semi-pros. Every Thursday join our hosts Kryten Wolfgang and Torin Pocock and watch the hottest comedy from a mixture of old local favorites and some fresh-faced performers just starting out. You might even find the Next Big Thing right on your doorstep!\n \nFancy giving it a go? Want to come and try out new comedy material? Stand-Up? Sketch? Musical Comedy? Whatever you’ve got we want to see it. Feel free to message us with any questions you might have.\n \nNote to performers: The best way to test new material is in front of a good crowd\, so if you’d like to perform on the mic please share on social media\, spread the word\, and bring people along! The bigger and friendlier the crowd the better the show!
URL:https://craftybelle.uk/event/comedy/2022-01-27/
LOCATION:James St. Tavern\, 47-48 James Street\, Oxford\, Oxfordshire\, OX4 1EU\, United Kingdom
CATEGORIES:James St.
ATTACH;FMTTYPE=image/png:https://craftybelle.uk/wp-content/uploads/2024/08/Comedy-Chattering-teeth-square-e1729101522577.png
END:VEVENT
BEGIN:VEVENT
DTSTART;TZID=Europe/London:20220128T203000
DTEND;TZID=Europe/London:20220128T230000
DTSTAMP:20260423T184705
CREATED:20220127T131343Z
LAST-MODIFIED:20220127T132553Z
UID:10000015-1643401800-1643410800@craftybelle.uk
SUMMARY:JST Live Lounge
DESCRIPTION:   \nOur famed Live Lounge is back\, hosted by the glorious Lee Bo! We have 3 absolutely smashing local acts to start the new year off with a bang!\nRICH RAINFORD – A local legend with soaring vocals and catchy hooks.\nSARAH DERRICK – A stunning voice hitting you with a gorgeous mixture of soul\, country and R&B\nHIGH HORSE – A Bluesy/Americana group that always gets the house a-rocking!\n  As ever\, entry is FREE. 8.30pm kick off so arrive early to get a decent seat!
URL:https://craftybelle.uk/event/jst-live-lounge/
LOCATION:James St. Tavern\, 47-48 James Street\, Oxford\, Oxfordshire\, OX4 1EU\, United Kingdom
CATEGORIES:James St.
ATTACH;FMTTYPE=image/jpeg:https://craftybelle.uk/wp-content/uploads/2022/01/Live-Lounge-28.01-Banner.jpg
END:VEVENT
BEGIN:VEVENT
DTSTART;TZID=Europe/London:20220129T210000
DTEND;TZID=Europe/London:20220129T230000
DTSTAMP:20260423T184705
CREATED:20220127T131828Z
LAST-MODIFIED:20230201T195245Z
UID:10000016-1643490000-1643497200@craftybelle.uk
SUMMARY:Dan Rawle
DESCRIPTION:Dan Rawle is a singer/guitarist combining a fun\, relaxed vibe and a boundless energy to bring you an eclectic range of music from the 50’s to modern day. Creating an ideal atmosphere for any event\, from parties to background entertainment.
URL:https://craftybelle.uk/event/dan-rawle-2/2022-01-29/
LOCATION:James St. Tavern\, 47-48 James Street\, Oxford\, Oxfordshire\, OX4 1EU\, United Kingdom
CATEGORIES:James St.
ATTACH;FMTTYPE=image/jpeg:https://craftybelle.uk/wp-content/uploads/2021/10/Dan-Rawle.jpg
END:VEVENT
BEGIN:VEVENT
DTSTART;TZID=Europe/London:20220130T143000
DTEND;TZID=Europe/London:20220130T183000
DTSTAMP:20260423T184705
CREATED:20220127T140549Z
LAST-MODIFIED:20220127T140718Z
UID:10000164-1643553000-1643567400@craftybelle.uk
SUMMARY:James St Open Mic
DESCRIPTION:The finest Open Mic this side of town! Hosted by the amazing Lee Bo. Join the best talent in Oxford\, have a sing\, or just sit and enjoy the vibes.\nWhat more could you want on a Sunday afternoon?
URL:https://craftybelle.uk/event/james-st-open-mic/
LOCATION:James St. Tavern\, 47-48 James Street\, Oxford\, Oxfordshire\, OX4 1EU\, United Kingdom
CATEGORIES:James St.
ATTACH;FMTTYPE=image/jpeg:https://craftybelle.uk/wp-content/uploads/2022/01/Open-Mic-2.jpg
END:VEVENT
BEGIN:VEVENT
DTSTART;TZID=Europe/London:20220130T200000
DTEND;TZID=Europe/London:20220130T220000
DTSTAMP:20260423T184705
CREATED:20220125T174632Z
LAST-MODIFIED:20220125T175538Z
UID:10000014-1643572800-1643580000@craftybelle.uk
SUMMARY:Nate Kitch is Going in a Field to Lie DOWN
DESCRIPTION:  \n\n\n\nExperience Nate Kitch: the comic try out new ideas in this Work in Progress show\, it will involve Numbers\, Words\, Chess & even a Bag. \nAn hour (or so) of Live Stand-up Comedy\, raw\, compelling and nothing is certain; in fairness he did once make a pub laugh reading out a leaflet…   \n  \nREVIEWS FOR NATE KITCH \n“a real WTF? Comic” – Chortle \n“offbeat…he might come up with something very special” – Beyond the Joke \n“Bold!” – Mark Watson \n“Nate Kitch’s chess-based anti-comedy and disgust at the conventions of stand-up seemed to just about baffle everybody” – The List \n  \nVisit natekitch.co.uk for more information. Tickets are £1.99 and can be purchased in advance HERE\, or can be bought on the door. \n  \nSTRICTLY LIMITED SPACES SO BOOKING ADVISED
URL:https://craftybelle.uk/event/nate-kitch/
LOCATION:The Old Bookbinders\, 17-18 Victor Street\, Oxford\, Oxfordshire\, OX2 6BT\, United Kingdom
CATEGORIES:Bookbinders
ATTACH;FMTTYPE=image/jpeg:https://craftybelle.uk/wp-content/uploads/2022/01/Nate-WIP.jpg
END:VEVENT
BEGIN:VEVENT
DTSTART;TZID=Europe/London:20220201T200000
DTEND;TZID=Europe/London:20220201T220000
DTSTAMP:20260423T184705
CREATED:20220127T143838Z
LAST-MODIFIED:20220209T124238Z
UID:10000318-1643745600-1643752800@craftybelle.uk
SUMMARY:Old Bookbinders Pub Quiz
DESCRIPTION:Our fiendish Pub Quiz comes in every Tuesday and helps raise funds for Helen & Douglas House\, Oxford’s local children’s hospice. 6 tricky rounds for you to answer\, hosted by our gorgeous Landlord Josh. £1 per person to enter\, liquid prizes for winners! PLEASE ARRIVE EARLY AS IT STARTS AT 8PM PROMPTLY!
URL:https://craftybelle.uk/event/old-bookbinders-pub-quiz/2022-02-01/
LOCATION:The Old Bookbinders\, 17-18 Victor Street\, Oxford\, Oxfordshire\, OX2 6BT\, United Kingdom
CATEGORIES:Bookbinders
ATTACH;FMTTYPE=image/png:https://craftybelle.uk/wp-content/uploads/2022/01/Helen-Douglas.png
END:VEVENT
BEGIN:VEVENT
DTSTART;TZID=Europe/London:20220203T200000
DTEND;TZID=Europe/London:20220203T223000
DTSTAMP:20260423T184705
CREATED:20220127T135042Z
LAST-MODIFIED:20241016T172722Z
UID:10000019-1643918400-1643927400@craftybelle.uk
SUMMARY:JST Comedy Open Mic
DESCRIPTION:The first (and best) Comedy Open Mic in Oxford\, JST’s Open Mic is the spot to see new emerging talent performing alongside tried and tested semi-pros. Every Thursday join our hosts Kryten Wolfgang and Torin Pocock and watch the hottest comedy from a mixture of old local favorites and some fresh-faced performers just starting out. You might even find the Next Big Thing right on your doorstep!\n \nFancy giving it a go? Want to come and try out new comedy material? Stand-Up? Sketch? Musical Comedy? Whatever you’ve got we want to see it. Feel free to message us with any questions you might have.\n \nNote to performers: The best way to test new material is in front of a good crowd\, so if you’d like to perform on the mic please share on social media\, spread the word\, and bring people along! The bigger and friendlier the crowd the better the show!
URL:https://craftybelle.uk/event/comedy/2022-02-03/
LOCATION:James St. Tavern\, 47-48 James Street\, Oxford\, Oxfordshire\, OX4 1EU\, United Kingdom
CATEGORIES:James St.
ATTACH;FMTTYPE=image/png:https://craftybelle.uk/wp-content/uploads/2024/08/Comedy-Chattering-teeth-square-e1729101522577.png
END:VEVENT
BEGIN:VEVENT
DTSTART;TZID=Europe/London:20220203T200000
DTEND;TZID=Europe/London:20220203T223000
DTSTAMP:20260423T184705
CREATED:20220127T142822Z
LAST-MODIFIED:20220127T142848Z
UID:10000317-1643918400-1643927400@craftybelle.uk
SUMMARY:You Should Have Been Here Last Week
DESCRIPTION:Presenting the best comedy open mic you can see without a time machine! Every Thursday at the James St. Tavern\, see all the freshest comedy from your old favorites and the newest performers just starting out. Or come and try out new comedy material. Want to perform Stand-Up? Sketch? Musical Comedy? Whatever you’ve got we want to see it.\n \nFeel free to message us with any questions you might have.\n \nNote to performers: The best way to test new material is in front of a good crowd\, so if you’d like to perform on the mic please share on social media\, spread the word\, and bring people along! The bigger and friendlier the crowd the better the show! Thanks
URL:https://craftybelle.uk/event/you-should-have-been-here-last-week-2/
LOCATION:James St. Tavern\, 47-48 James Street\, Oxford\, Oxfordshire\, OX4 1EU\, United Kingdom
CATEGORIES:James St.
ATTACH;FMTTYPE=image/jpeg:https://craftybelle.uk/wp-content/uploads/2022/01/Comedy-Banner-Thursdays-1.jpg
END:VEVENT
BEGIN:VEVENT
DTSTART;TZID=Europe/London:20220204T220000
DTEND;TZID=Europe/London:20220205T010000
DTSTAMP:20260423T184705
CREATED:20220127T141155Z
LAST-MODIFIED:20220127T141156Z
UID:10000165-1644012000-1644022800@craftybelle.uk
SUMMARY:Semi-Detached presents: Blinders (DJ set)
DESCRIPTION:Watch this space for more info!
URL:https://craftybelle.uk/event/semi-detached-presents-blinders-dj-set/
LOCATION:James St. Tavern\, 47-48 James Street\, Oxford\, Oxfordshire\, OX4 1EU\, United Kingdom
CATEGORIES:James St.
ATTACH;FMTTYPE=image/jpeg:https://craftybelle.uk/wp-content/uploads/2022/01/Semi-detached.jpg
END:VEVENT
BEGIN:VEVENT
DTSTART;TZID=Europe/London:20220205T210000
DTEND;TZID=Europe/London:20220205T230000
DTSTAMP:20260423T184705
CREATED:20220127T141435Z
LAST-MODIFIED:20220727T142854Z
UID:10000166-1644094800-1644102000@craftybelle.uk
SUMMARY:Tom Dalby
DESCRIPTION:Playing some cool covers and mashups as well as songs from his upcoming EP “Live at Challow Park Studios”
URL:https://craftybelle.uk/event/tom-dalby-3/2022-02-05/
LOCATION:James St. Tavern\, 47-48 James Street\, Oxford\, Oxfordshire\, OX4 1EU\, United Kingdom
CATEGORIES:James St.
ATTACH;FMTTYPE=image/jpeg:https://craftybelle.uk/wp-content/uploads/2021/10/Tom-Dalby-2.jpeg
END:VEVENT
BEGIN:VEVENT
DTSTART;TZID=Europe/London:20220206T143000
DTEND;TZID=Europe/London:20220206T183000
DTSTAMP:20260423T184705
CREATED:20220127T141805Z
LAST-MODIFIED:20220209T123751Z
UID:10000169-1644157800-1644172200@craftybelle.uk
SUMMARY:James St Open Mic
DESCRIPTION:The finest Open Mic this side of town! Hosted by the amazing Lee Bo. Join the best talent in Oxford\, have a sing\, or just sit and enjoy the vibes.\nWhat more could you want on a Sunday afternoon?
URL:https://craftybelle.uk/event/james-st-open-mic-2/2022-02-06/
LOCATION:James St. Tavern\, 47-48 James Street\, Oxford\, Oxfordshire\, OX4 1EU\, United Kingdom
CATEGORIES:James St.
ATTACH;FMTTYPE=image/jpeg:https://craftybelle.uk/wp-content/uploads/2022/01/Open-Mic-2.jpg
END:VEVENT
BEGIN:VEVENT
DTSTART;TZID=Europe/London:20220208T200000
DTEND;TZID=Europe/London:20220208T220000
DTSTAMP:20260423T184705
CREATED:20220127T143838Z
LAST-MODIFIED:20220209T124238Z
UID:10000319-1644350400-1644357600@craftybelle.uk
SUMMARY:Old Bookbinders Pub Quiz
DESCRIPTION:Our fiendish Pub Quiz comes in every Tuesday and helps raise funds for Helen & Douglas House\, Oxford’s local children’s hospice. 6 tricky rounds for you to answer\, hosted by our gorgeous Landlord Josh. £1 per person to enter\, liquid prizes for winners! PLEASE ARRIVE EARLY AS IT STARTS AT 8PM PROMPTLY!
URL:https://craftybelle.uk/event/old-bookbinders-pub-quiz/2022-02-08/
LOCATION:The Old Bookbinders\, 17-18 Victor Street\, Oxford\, Oxfordshire\, OX2 6BT\, United Kingdom
CATEGORIES:Bookbinders
ATTACH;FMTTYPE=image/png:https://craftybelle.uk/wp-content/uploads/2022/01/Helen-Douglas.png
END:VEVENT
BEGIN:VEVENT
DTSTART;TZID=Europe/London:20220208T200000
DTEND;TZID=Europe/London:20220208T220000
DTSTAMP:20260423T184705
CREATED:20220127T144233Z
LAST-MODIFIED:20220127T144749Z
UID:10000466-1644350400-1644357600@craftybelle.uk
SUMMARY:Old Bookbinders Pub Quiz
DESCRIPTION:Our fiendish Pub Quiz comes in every Tuesday and helps raise funds for Helen & Douglas House\, Oxford’s local children’s hospice. \n\n6 tricky rounds for you to answer\, hosted by our gorgeous Landlord Josh. £1 per person to enter\, liquid prizes for winners! \n\nPLEASE ARRIVE EARLY AS IT STARTS AT 8PM PROMPTLY!
URL:https://craftybelle.uk/event/old-bookbinders-pub-quiz-2/
LOCATION:The Old Bookbinders\, 17-18 Victor Street\, Oxford\, Oxfordshire\, OX2 6BT\, United Kingdom
CATEGORIES:Bookbinders
ATTACH;FMTTYPE=image/png:https://craftybelle.uk/wp-content/uploads/2022/01/Helen-Douglas.png
END:VEVENT
BEGIN:VEVENT
DTSTART;TZID=Europe/London:20220210T200000
DTEND;TZID=Europe/London:20220210T223000
DTSTAMP:20260423T184705
CREATED:20220127T135042Z
LAST-MODIFIED:20241016T172722Z
UID:10000020-1644523200-1644532200@craftybelle.uk
SUMMARY:JST Comedy Open Mic
DESCRIPTION:The first (and best) Comedy Open Mic in Oxford\, JST’s Open Mic is the spot to see new emerging talent performing alongside tried and tested semi-pros. Every Thursday join our hosts Kryten Wolfgang and Torin Pocock and watch the hottest comedy from a mixture of old local favorites and some fresh-faced performers just starting out. You might even find the Next Big Thing right on your doorstep!\n \nFancy giving it a go? Want to come and try out new comedy material? Stand-Up? Sketch? Musical Comedy? Whatever you’ve got we want to see it. Feel free to message us with any questions you might have.\n \nNote to performers: The best way to test new material is in front of a good crowd\, so if you’d like to perform on the mic please share on social media\, spread the word\, and bring people along! The bigger and friendlier the crowd the better the show!
URL:https://craftybelle.uk/event/comedy/2022-02-10/
LOCATION:James St. Tavern\, 47-48 James Street\, Oxford\, Oxfordshire\, OX4 1EU\, United Kingdom
CATEGORIES:James St.
ATTACH;FMTTYPE=image/png:https://craftybelle.uk/wp-content/uploads/2024/08/Comedy-Chattering-teeth-square-e1729101522577.png
END:VEVENT
BEGIN:VEVENT
DTSTART;TZID=Europe/London:20220211T210000
DTEND;TZID=Europe/London:20220211T230000
DTSTAMP:20260423T184705
CREATED:20220127T155057Z
LAST-MODIFIED:20220503T124601Z
UID:10000469-1644613200-1644620400@craftybelle.uk
SUMMARY:The Factory Lights
DESCRIPTION:Factory Lights are one of Oxford’s most versatile bands. The band\, which released its debut EP in 2015 has just produced its first full-length album\, “Keeping the Lights on”. Drawing on a fusion of musical genres with hints of Pink Martini\, The Jam\, Bruce Springsteen and Pink Floyd\, the new album is a confident mix of highly danceable energetic songs (Johnny Marr\, Virtual Party Tonight\, All about You) and more reflective and occasionally plaintiff ballads which explore the human condition in all of its manifestations.
URL:https://craftybelle.uk/event/the-factory-lights/2022-02-11/
LOCATION:James St. Tavern\, 47-48 James Street\, Oxford\, Oxfordshire\, OX4 1EU\, United Kingdom
CATEGORIES:James St.
ATTACH;FMTTYPE=image/jpeg:https://craftybelle.uk/wp-content/uploads/2022/01/Factory-Lights.jpg
END:VEVENT
BEGIN:VEVENT
DTSTART;TZID=Europe/London:20220212T210000
DTEND;TZID=Europe/London:20220212T230000
DTSTAMP:20260423T184705
CREATED:20220209T122655Z
LAST-MODIFIED:20220503T124829Z
UID:10000473-1644699600-1644706800@craftybelle.uk
SUMMARY:Meghan Nicholson
DESCRIPTION:Meghan is a solo female singer and acoustic guitar player. Originally from the North East of England\, Meghan has played at venues and festivals around the UK\, with acoustic renditions of songs from a range of genres\, including pop\, rock and singer/songwriter
URL:https://craftybelle.uk/event/meghan-nicholson/2022-02-12/
LOCATION:James St. Tavern\, 47-48 James Street\, Oxford\, Oxfordshire\, OX4 1EU\, United Kingdom
CATEGORIES:James St.
ATTACH;FMTTYPE=image/jpeg:https://craftybelle.uk/wp-content/uploads/2022/02/Meghan-scaled.jpg
END:VEVENT
BEGIN:VEVENT
DTSTART;TZID=Europe/London:20220213T143000
DTEND;TZID=Europe/London:20220213T183000
DTSTAMP:20260423T184705
CREATED:20220127T141805Z
LAST-MODIFIED:20220209T123751Z
UID:10000170-1644762600-1644777000@craftybelle.uk
SUMMARY:James St Open Mic
DESCRIPTION:The finest Open Mic this side of town! Hosted by the amazing Lee Bo. Join the best talent in Oxford\, have a sing\, or just sit and enjoy the vibes.\nWhat more could you want on a Sunday afternoon?
URL:https://craftybelle.uk/event/james-st-open-mic-2/2022-02-13/
LOCATION:James St. Tavern\, 47-48 James Street\, Oxford\, Oxfordshire\, OX4 1EU\, United Kingdom
CATEGORIES:James St.
ATTACH;FMTTYPE=image/jpeg:https://craftybelle.uk/wp-content/uploads/2022/01/Open-Mic-2.jpg
END:VEVENT
BEGIN:VEVENT
DTSTART;TZID=Europe/London:20220214T170000
DTEND;TZID=Europe/London:20220214T230000
DTSTAMP:20260423T184705
CREATED:20220127T145922Z
LAST-MODIFIED:20220127T150239Z
UID:10000468-1644858000-1644879600@craftybelle.uk
SUMMARY:Valentine's Day
DESCRIPTION:Love it or hate it\, Valentine’s Day is fast approaching. Whether you’re looking to define your ‘situationship’\, wanting to reignite that flame over a romantic candlelit dinner\, or simply want to celebrate the love you have for your other half\, we’ll be opening up especially on this particular Monday with a gorgeous 3 course set menu to get you swooning.   \n\n  \nBooking is essential so call us on 01865 553549 to reserve your spot on this special day.
URL:https://craftybelle.uk/event/valentines-day/
LOCATION:The Old Bookbinders\, 17-18 Victor Street\, Oxford\, Oxfordshire\, OX2 6BT\, United Kingdom
CATEGORIES:Bookbinders
ATTACH;FMTTYPE=image/jpeg:https://craftybelle.uk/wp-content/uploads/2022/01/Valentines-hearts.jpg
END:VEVENT
BEGIN:VEVENT
DTSTART;TZID=Europe/London:20220215T200000
DTEND;TZID=Europe/London:20220215T220000
DTSTAMP:20260423T184705
CREATED:20220127T143838Z
LAST-MODIFIED:20220209T124238Z
UID:10000320-1644955200-1644962400@craftybelle.uk
SUMMARY:Old Bookbinders Pub Quiz
DESCRIPTION:Our fiendish Pub Quiz comes in every Tuesday and helps raise funds for Helen & Douglas House\, Oxford’s local children’s hospice. 6 tricky rounds for you to answer\, hosted by our gorgeous Landlord Josh. £1 per person to enter\, liquid prizes for winners! PLEASE ARRIVE EARLY AS IT STARTS AT 8PM PROMPTLY!
URL:https://craftybelle.uk/event/old-bookbinders-pub-quiz/2022-02-15/
LOCATION:The Old Bookbinders\, 17-18 Victor Street\, Oxford\, Oxfordshire\, OX2 6BT\, United Kingdom
CATEGORIES:Bookbinders
ATTACH;FMTTYPE=image/png:https://craftybelle.uk/wp-content/uploads/2022/01/Helen-Douglas.png
END:VEVENT
BEGIN:VEVENT
DTSTART;TZID=Europe/London:20220215T200000
DTEND;TZID=Europe/London:20220215T220000
DTSTAMP:20260423T184705
CREATED:20220127T144449Z
LAST-MODIFIED:20220127T144449Z
UID:10000467-1644955200-1644962400@craftybelle.uk
SUMMARY:Old Bookbinders Pub Quiz
DESCRIPTION:Our fiendish Pub Quiz comes in every Tuesday and helps raise funds for Helen & Douglas House\, Oxford’s local children’s hospice. \n\n6 tricky rounds for you to answer\, hosted by our gorgeous Landlord Josh. £1 per person to enter\, liquid prizes for winners! \n\nPLEASE ARRIVE EARLY AS IT STARTS AT 8PM PROMPTLY!
URL:https://craftybelle.uk/event/old-bookbinders-pub-quiz-3/
LOCATION:The Old Bookbinders\, 17-18 Victor Street\, Oxford\, Oxfordshire\, OX2 6BT\, United Kingdom
CATEGORIES:Bookbinders
ATTACH;FMTTYPE=image/png:https://craftybelle.uk/wp-content/uploads/2022/01/Helen-Douglas.png
END:VEVENT
END:VCALENDAR