BEGIN:VCALENDAR
VERSION:2.0
PRODID:-//Crafty Belle Group - ECPv6.15.18//NONSGML v1.0//EN
CALSCALE:GREGORIAN
METHOD:PUBLISH
X-ORIGINAL-URL:https://craftybelle.uk
X-WR-CALDESC:Events for Crafty Belle Group
REFRESH-INTERVAL;VALUE=DURATION:PT1H
X-Robots-Tag:noindex
X-PUBLISHED-TTL:PT1H
BEGIN:VTIMEZONE
TZID:Europe/London
BEGIN:DAYLIGHT
TZOFFSETFROM:+0000
TZOFFSETTO:+0100
TZNAME:BST
DTSTART:20210328T010000
END:DAYLIGHT
BEGIN:STANDARD
TZOFFSETFROM:+0100
TZOFFSETTO:+0000
TZNAME:GMT
DTSTART:20211031T010000
END:STANDARD
BEGIN:DAYLIGHT
TZOFFSETFROM:+0000
TZOFFSETTO:+0100
TZNAME:BST
DTSTART:20220327T010000
END:DAYLIGHT
BEGIN:STANDARD
TZOFFSETFROM:+0100
TZOFFSETTO:+0000
TZNAME:GMT
DTSTART:20221030T010000
END:STANDARD
BEGIN:DAYLIGHT
TZOFFSETFROM:+0000
TZOFFSETTO:+0100
TZNAME:BST
DTSTART:20230326T010000
END:DAYLIGHT
BEGIN:STANDARD
TZOFFSETFROM:+0100
TZOFFSETTO:+0000
TZNAME:GMT
DTSTART:20231029T010000
END:STANDARD
BEGIN:DAYLIGHT
TZOFFSETFROM:+0000
TZOFFSETTO:+0100
TZNAME:BST
DTSTART:20240331T010000
END:DAYLIGHT
BEGIN:STANDARD
TZOFFSETFROM:+0100
TZOFFSETTO:+0000
TZNAME:GMT
DTSTART:20241027T010000
END:STANDARD
END:VTIMEZONE
BEGIN:VEVENT
DTSTART;TZID=Europe/London:20221103T200000
DTEND;TZID=Europe/London:20221103T223000
DTSTAMP:20260424T163641
CREATED:20220127T135042Z
LAST-MODIFIED:20241016T172722Z
UID:10000055-1667505600-1667514600@craftybelle.uk
SUMMARY:JST Comedy Open Mic
DESCRIPTION:The first (and best) Comedy Open Mic in Oxford\, JST’s Open Mic is the spot to see new emerging talent performing alongside tried and tested semi-pros. Every Thursday join our hosts Kryten Wolfgang and Torin Pocock and watch the hottest comedy from a mixture of old local favorites and some fresh-faced performers just starting out. You might even find the Next Big Thing right on your doorstep!\n \nFancy giving it a go? Want to come and try out new comedy material? Stand-Up? Sketch? Musical Comedy? Whatever you’ve got we want to see it. Feel free to message us with any questions you might have.\n \nNote to performers: The best way to test new material is in front of a good crowd\, so if you’d like to perform on the mic please share on social media\, spread the word\, and bring people along! The bigger and friendlier the crowd the better the show!
URL:https://craftybelle.uk/event/comedy/2022-11-03/
LOCATION:James St. Tavern\, 47-48 James Street\, Oxford\, Oxfordshire\, OX4 1EU\, United Kingdom
CATEGORIES:James St.
ATTACH;FMTTYPE=image/png:https://craftybelle.uk/wp-content/uploads/2024/08/Comedy-Chattering-teeth-square-e1729101522577.png
END:VEVENT
BEGIN:VEVENT
DTSTART;TZID=Europe/London:20221106T143000
DTEND;TZID=Europe/London:20221106T183000
DTSTAMP:20260424T163641
CREATED:20220127T141805Z
LAST-MODIFIED:20220209T123751Z
UID:10000208-1667745000-1667759400@craftybelle.uk
SUMMARY:James St Open Mic
DESCRIPTION:The finest Open Mic this side of town! Hosted by the amazing Lee Bo. Join the best talent in Oxford\, have a sing\, or just sit and enjoy the vibes.\nWhat more could you want on a Sunday afternoon?
URL:https://craftybelle.uk/event/james-st-open-mic-2/2022-11-06/
LOCATION:James St. Tavern\, 47-48 James Street\, Oxford\, Oxfordshire\, OX4 1EU\, United Kingdom
CATEGORIES:James St.
ATTACH;FMTTYPE=image/jpeg:https://craftybelle.uk/wp-content/uploads/2022/01/Open-Mic-2.jpg
END:VEVENT
BEGIN:VEVENT
DTSTART;TZID=Europe/London:20221108T200000
DTEND;TZID=Europe/London:20221108T220000
DTSTAMP:20260424T163641
CREATED:20220127T143838Z
LAST-MODIFIED:20220209T124238Z
UID:10000358-1667937600-1667944800@craftybelle.uk
SUMMARY:Old Bookbinders Pub Quiz
DESCRIPTION:Our fiendish Pub Quiz comes in every Tuesday and helps raise funds for Helen & Douglas House\, Oxford’s local children’s hospice. 6 tricky rounds for you to answer\, hosted by our gorgeous Landlord Josh. £1 per person to enter\, liquid prizes for winners! PLEASE ARRIVE EARLY AS IT STARTS AT 8PM PROMPTLY!
URL:https://craftybelle.uk/event/old-bookbinders-pub-quiz/2022-11-08/
LOCATION:The Old Bookbinders\, 17-18 Victor Street\, Oxford\, Oxfordshire\, OX2 6BT\, United Kingdom
CATEGORIES:Bookbinders
ATTACH;FMTTYPE=image/png:https://craftybelle.uk/wp-content/uploads/2022/01/Helen-Douglas.png
END:VEVENT
BEGIN:VEVENT
DTSTART;TZID=Europe/London:20221110T200000
DTEND;TZID=Europe/London:20221110T223000
DTSTAMP:20260424T163641
CREATED:20220127T135042Z
LAST-MODIFIED:20241016T172722Z
UID:10000056-1668110400-1668119400@craftybelle.uk
SUMMARY:JST Comedy Open Mic
DESCRIPTION:The first (and best) Comedy Open Mic in Oxford\, JST’s Open Mic is the spot to see new emerging talent performing alongside tried and tested semi-pros. Every Thursday join our hosts Kryten Wolfgang and Torin Pocock and watch the hottest comedy from a mixture of old local favorites and some fresh-faced performers just starting out. You might even find the Next Big Thing right on your doorstep!\n \nFancy giving it a go? Want to come and try out new comedy material? Stand-Up? Sketch? Musical Comedy? Whatever you’ve got we want to see it. Feel free to message us with any questions you might have.\n \nNote to performers: The best way to test new material is in front of a good crowd\, so if you’d like to perform on the mic please share on social media\, spread the word\, and bring people along! The bigger and friendlier the crowd the better the show!
URL:https://craftybelle.uk/event/comedy/2022-11-10/
LOCATION:James St. Tavern\, 47-48 James Street\, Oxford\, Oxfordshire\, OX4 1EU\, United Kingdom
CATEGORIES:James St.
ATTACH;FMTTYPE=image/png:https://craftybelle.uk/wp-content/uploads/2024/08/Comedy-Chattering-teeth-square-e1729101522577.png
END:VEVENT
BEGIN:VEVENT
DTSTART;TZID=Europe/London:20221113T143000
DTEND;TZID=Europe/London:20221113T183000
DTSTAMP:20260424T163641
CREATED:20220127T141805Z
LAST-MODIFIED:20220209T123751Z
UID:10000209-1668349800-1668364200@craftybelle.uk
SUMMARY:James St Open Mic
DESCRIPTION:The finest Open Mic this side of town! Hosted by the amazing Lee Bo. Join the best talent in Oxford\, have a sing\, or just sit and enjoy the vibes.\nWhat more could you want on a Sunday afternoon?
URL:https://craftybelle.uk/event/james-st-open-mic-2/2022-11-13/
LOCATION:James St. Tavern\, 47-48 James Street\, Oxford\, Oxfordshire\, OX4 1EU\, United Kingdom
CATEGORIES:James St.
ATTACH;FMTTYPE=image/jpeg:https://craftybelle.uk/wp-content/uploads/2022/01/Open-Mic-2.jpg
END:VEVENT
BEGIN:VEVENT
DTSTART;TZID=Europe/London:20221115T200000
DTEND;TZID=Europe/London:20221115T220000
DTSTAMP:20260424T163641
CREATED:20220127T143838Z
LAST-MODIFIED:20220209T124238Z
UID:10000359-1668542400-1668549600@craftybelle.uk
SUMMARY:Old Bookbinders Pub Quiz
DESCRIPTION:Our fiendish Pub Quiz comes in every Tuesday and helps raise funds for Helen & Douglas House\, Oxford’s local children’s hospice. 6 tricky rounds for you to answer\, hosted by our gorgeous Landlord Josh. £1 per person to enter\, liquid prizes for winners! PLEASE ARRIVE EARLY AS IT STARTS AT 8PM PROMPTLY!
URL:https://craftybelle.uk/event/old-bookbinders-pub-quiz/2022-11-15/
LOCATION:The Old Bookbinders\, 17-18 Victor Street\, Oxford\, Oxfordshire\, OX2 6BT\, United Kingdom
CATEGORIES:Bookbinders
ATTACH;FMTTYPE=image/png:https://craftybelle.uk/wp-content/uploads/2022/01/Helen-Douglas.png
END:VEVENT
BEGIN:VEVENT
DTSTART;TZID=Europe/London:20221117T200000
DTEND;TZID=Europe/London:20221117T223000
DTSTAMP:20260424T163641
CREATED:20220127T135042Z
LAST-MODIFIED:20241016T172722Z
UID:10000057-1668715200-1668724200@craftybelle.uk
SUMMARY:JST Comedy Open Mic
DESCRIPTION:The first (and best) Comedy Open Mic in Oxford\, JST’s Open Mic is the spot to see new emerging talent performing alongside tried and tested semi-pros. Every Thursday join our hosts Kryten Wolfgang and Torin Pocock and watch the hottest comedy from a mixture of old local favorites and some fresh-faced performers just starting out. You might even find the Next Big Thing right on your doorstep!\n \nFancy giving it a go? Want to come and try out new comedy material? Stand-Up? Sketch? Musical Comedy? Whatever you’ve got we want to see it. Feel free to message us with any questions you might have.\n \nNote to performers: The best way to test new material is in front of a good crowd\, so if you’d like to perform on the mic please share on social media\, spread the word\, and bring people along! The bigger and friendlier the crowd the better the show!
URL:https://craftybelle.uk/event/comedy/2022-11-17/
LOCATION:James St. Tavern\, 47-48 James Street\, Oxford\, Oxfordshire\, OX4 1EU\, United Kingdom
CATEGORIES:James St.
ATTACH;FMTTYPE=image/png:https://craftybelle.uk/wp-content/uploads/2024/08/Comedy-Chattering-teeth-square-e1729101522577.png
END:VEVENT
BEGIN:VEVENT
DTSTART;TZID=Europe/London:20221120T143000
DTEND;TZID=Europe/London:20221120T183000
DTSTAMP:20260424T163641
CREATED:20220127T141805Z
LAST-MODIFIED:20220209T123751Z
UID:10000210-1668954600-1668969000@craftybelle.uk
SUMMARY:James St Open Mic
DESCRIPTION:The finest Open Mic this side of town! Hosted by the amazing Lee Bo. Join the best talent in Oxford\, have a sing\, or just sit and enjoy the vibes.\nWhat more could you want on a Sunday afternoon?
URL:https://craftybelle.uk/event/james-st-open-mic-2/2022-11-20/
LOCATION:James St. Tavern\, 47-48 James Street\, Oxford\, Oxfordshire\, OX4 1EU\, United Kingdom
CATEGORIES:James St.
ATTACH;FMTTYPE=image/jpeg:https://craftybelle.uk/wp-content/uploads/2022/01/Open-Mic-2.jpg
END:VEVENT
BEGIN:VEVENT
DTSTART;TZID=Europe/London:20221122T200000
DTEND;TZID=Europe/London:20221122T220000
DTSTAMP:20260424T163641
CREATED:20220127T143838Z
LAST-MODIFIED:20220209T124238Z
UID:10000360-1669147200-1669154400@craftybelle.uk
SUMMARY:Old Bookbinders Pub Quiz
DESCRIPTION:Our fiendish Pub Quiz comes in every Tuesday and helps raise funds for Helen & Douglas House\, Oxford’s local children’s hospice. 6 tricky rounds for you to answer\, hosted by our gorgeous Landlord Josh. £1 per person to enter\, liquid prizes for winners! PLEASE ARRIVE EARLY AS IT STARTS AT 8PM PROMPTLY!
URL:https://craftybelle.uk/event/old-bookbinders-pub-quiz/2022-11-22/
LOCATION:The Old Bookbinders\, 17-18 Victor Street\, Oxford\, Oxfordshire\, OX2 6BT\, United Kingdom
CATEGORIES:Bookbinders
ATTACH;FMTTYPE=image/png:https://craftybelle.uk/wp-content/uploads/2022/01/Helen-Douglas.png
END:VEVENT
BEGIN:VEVENT
DTSTART;TZID=Europe/London:20221124T200000
DTEND;TZID=Europe/London:20221124T223000
DTSTAMP:20260424T163641
CREATED:20220127T135042Z
LAST-MODIFIED:20241016T172722Z
UID:10000058-1669320000-1669329000@craftybelle.uk
SUMMARY:JST Comedy Open Mic
DESCRIPTION:The first (and best) Comedy Open Mic in Oxford\, JST’s Open Mic is the spot to see new emerging talent performing alongside tried and tested semi-pros. Every Thursday join our hosts Kryten Wolfgang and Torin Pocock and watch the hottest comedy from a mixture of old local favorites and some fresh-faced performers just starting out. You might even find the Next Big Thing right on your doorstep!\n \nFancy giving it a go? Want to come and try out new comedy material? Stand-Up? Sketch? Musical Comedy? Whatever you’ve got we want to see it. Feel free to message us with any questions you might have.\n \nNote to performers: The best way to test new material is in front of a good crowd\, so if you’d like to perform on the mic please share on social media\, spread the word\, and bring people along! The bigger and friendlier the crowd the better the show!
URL:https://craftybelle.uk/event/comedy/2022-11-24/
LOCATION:James St. Tavern\, 47-48 James Street\, Oxford\, Oxfordshire\, OX4 1EU\, United Kingdom
CATEGORIES:James St.
ATTACH;FMTTYPE=image/png:https://craftybelle.uk/wp-content/uploads/2024/08/Comedy-Chattering-teeth-square-e1729101522577.png
END:VEVENT
BEGIN:VEVENT
DTSTART;TZID=Europe/London:20221127T143000
DTEND;TZID=Europe/London:20221127T183000
DTSTAMP:20260424T163641
CREATED:20220127T141805Z
LAST-MODIFIED:20220209T123751Z
UID:10000211-1669559400-1669573800@craftybelle.uk
SUMMARY:James St Open Mic
DESCRIPTION:The finest Open Mic this side of town! Hosted by the amazing Lee Bo. Join the best talent in Oxford\, have a sing\, or just sit and enjoy the vibes.\nWhat more could you want on a Sunday afternoon?
URL:https://craftybelle.uk/event/james-st-open-mic-2/2022-11-27/
LOCATION:James St. Tavern\, 47-48 James Street\, Oxford\, Oxfordshire\, OX4 1EU\, United Kingdom
CATEGORIES:James St.
ATTACH;FMTTYPE=image/jpeg:https://craftybelle.uk/wp-content/uploads/2022/01/Open-Mic-2.jpg
END:VEVENT
BEGIN:VEVENT
DTSTART;TZID=Europe/London:20221129T200000
DTEND;TZID=Europe/London:20221129T220000
DTSTAMP:20260424T163641
CREATED:20220127T143838Z
LAST-MODIFIED:20220209T124238Z
UID:10000361-1669752000-1669759200@craftybelle.uk
SUMMARY:Old Bookbinders Pub Quiz
DESCRIPTION:Our fiendish Pub Quiz comes in every Tuesday and helps raise funds for Helen & Douglas House\, Oxford’s local children’s hospice. 6 tricky rounds for you to answer\, hosted by our gorgeous Landlord Josh. £1 per person to enter\, liquid prizes for winners! PLEASE ARRIVE EARLY AS IT STARTS AT 8PM PROMPTLY!
URL:https://craftybelle.uk/event/old-bookbinders-pub-quiz/2022-11-29/
LOCATION:The Old Bookbinders\, 17-18 Victor Street\, Oxford\, Oxfordshire\, OX2 6BT\, United Kingdom
CATEGORIES:Bookbinders
ATTACH;FMTTYPE=image/png:https://craftybelle.uk/wp-content/uploads/2022/01/Helen-Douglas.png
END:VEVENT
BEGIN:VEVENT
DTSTART;TZID=Europe/London:20221201T200000
DTEND;TZID=Europe/London:20221201T223000
DTSTAMP:20260424T163641
CREATED:20220127T135042Z
LAST-MODIFIED:20241016T172722Z
UID:10000059-1669924800-1669933800@craftybelle.uk
SUMMARY:JST Comedy Open Mic
DESCRIPTION:The first (and best) Comedy Open Mic in Oxford\, JST’s Open Mic is the spot to see new emerging talent performing alongside tried and tested semi-pros. Every Thursday join our hosts Kryten Wolfgang and Torin Pocock and watch the hottest comedy from a mixture of old local favorites and some fresh-faced performers just starting out. You might even find the Next Big Thing right on your doorstep!\n \nFancy giving it a go? Want to come and try out new comedy material? Stand-Up? Sketch? Musical Comedy? Whatever you’ve got we want to see it. Feel free to message us with any questions you might have.\n \nNote to performers: The best way to test new material is in front of a good crowd\, so if you’d like to perform on the mic please share on social media\, spread the word\, and bring people along! The bigger and friendlier the crowd the better the show!
URL:https://craftybelle.uk/event/comedy/2022-12-01/
LOCATION:James St. Tavern\, 47-48 James Street\, Oxford\, Oxfordshire\, OX4 1EU\, United Kingdom
CATEGORIES:James St.
ATTACH;FMTTYPE=image/png:https://craftybelle.uk/wp-content/uploads/2024/08/Comedy-Chattering-teeth-square-e1729101522577.png
END:VEVENT
BEGIN:VEVENT
DTSTART;TZID=Europe/London:20221204T143000
DTEND;TZID=Europe/London:20221204T183000
DTSTAMP:20260424T163641
CREATED:20220127T141805Z
LAST-MODIFIED:20220209T123751Z
UID:10000212-1670164200-1670178600@craftybelle.uk
SUMMARY:James St Open Mic
DESCRIPTION:The finest Open Mic this side of town! Hosted by the amazing Lee Bo. Join the best talent in Oxford\, have a sing\, or just sit and enjoy the vibes.\nWhat more could you want on a Sunday afternoon?
URL:https://craftybelle.uk/event/james-st-open-mic-2/2022-12-04/
LOCATION:James St. Tavern\, 47-48 James Street\, Oxford\, Oxfordshire\, OX4 1EU\, United Kingdom
CATEGORIES:James St.
ATTACH;FMTTYPE=image/jpeg:https://craftybelle.uk/wp-content/uploads/2022/01/Open-Mic-2.jpg
END:VEVENT
BEGIN:VEVENT
DTSTART;TZID=Europe/London:20221205T150000
DTEND;TZID=Europe/London:20221205T170000
DTSTAMP:20260424T163641
CREATED:20221205T125422Z
LAST-MODIFIED:20221205T125422Z
UID:10000508-1670252400-1670259600@craftybelle.uk
SUMMARY:WORLD CUP: Japan vs Croatia
DESCRIPTION:Book a table here
URL:https://craftybelle.uk/event/world-cup-japan-vs-croatia/
LOCATION:James St. Tavern\, 47-48 James Street\, Oxford\, Oxfordshire\, OX4 1EU\, United Kingdom
CATEGORIES:James St.
ATTACH;FMTTYPE=image/jpeg:https://craftybelle.uk/wp-content/uploads/2022/12/JAPAN-VS-CROATIA-1200x600-1.jpg
END:VEVENT
BEGIN:VEVENT
DTSTART;TZID=Europe/London:20221205T190000
DTEND;TZID=Europe/London:20221205T210000
DTSTAMP:20260424T163641
CREATED:20221205T125632Z
LAST-MODIFIED:20221205T125632Z
UID:10000509-1670266800-1670274000@craftybelle.uk
SUMMARY:WORLD CUP: Brazil vs South Korea
DESCRIPTION:Book a table here
URL:https://craftybelle.uk/event/world-cup-brazil-vs-south-korea/
LOCATION:James St. Tavern\, 47-48 James Street\, Oxford\, Oxfordshire\, OX4 1EU\, United Kingdom
CATEGORIES:James St.
ATTACH;FMTTYPE=image/jpeg:https://craftybelle.uk/wp-content/uploads/2022/12/KOREA-VS-BRAZIL-scaled-1.jpg
END:VEVENT
BEGIN:VEVENT
DTSTART;TZID=Europe/London:20221206T150000
DTEND;TZID=Europe/London:20221206T190000
DTSTAMP:20260424T163641
CREATED:20221205T125929Z
LAST-MODIFIED:20221205T125929Z
UID:10000510-1670338800-1670353200@craftybelle.uk
SUMMARY:WORLD CUP: Morocco vs Spain
DESCRIPTION:Book a table here
URL:https://craftybelle.uk/event/world-cup-morocco-vs-spain/
LOCATION:James St. Tavern\, 47-48 James Street\, Oxford\, Oxfordshire\, OX4 1EU\, United Kingdom
CATEGORIES:James St.
ATTACH;FMTTYPE=image/jpeg:https://craftybelle.uk/wp-content/uploads/2022/12/MOROCCO-SPAIN-1.jpg
END:VEVENT
BEGIN:VEVENT
DTSTART;TZID=Europe/London:20221206T190000
DTEND;TZID=Europe/London:20221206T210000
DTSTAMP:20260424T163641
CREATED:20221205T130101Z
LAST-MODIFIED:20221205T130101Z
UID:10000511-1670353200-1670360400@craftybelle.uk
SUMMARY:WORLD CUP: Portugal vs Switzerland
DESCRIPTION:Book a table here
URL:https://craftybelle.uk/event/world-cup-portugal-vs-switzerland/
LOCATION:James St. Tavern\, 47-48 James Street\, Oxford\, Oxfordshire\, OX4 1EU\, United Kingdom
CATEGORIES:James St.
ATTACH;FMTTYPE=image/jpeg:https://craftybelle.uk/wp-content/uploads/2022/12/PORTUGAL-VS-SWITZERLAND-scaled-1.jpg
END:VEVENT
BEGIN:VEVENT
DTSTART;TZID=Europe/London:20221208T200000
DTEND;TZID=Europe/London:20221208T223000
DTSTAMP:20260424T163641
CREATED:20221207T144305Z
LAST-MODIFIED:20221207T145238Z
UID:10000060-1670529600-1670538600@craftybelle.uk
SUMMARY:JST Comedy Open Mic
DESCRIPTION:WITH GUEST MC RYAN MOLD\n \nThe first (and best) Comedy Open Mic in Oxford\, JST’s Open Mic is the spot to see new emerging talent performing alongside tried and tested semi-pros! Every Thursday join our host King Andy Gleeks and watch the hottest comedy from a mixture of old local favorites and some fresh-faced performers just starting out. You might even find the Next Big Thing right on your doorstep!\n \nFancy giving it a go? Want to come and try out new comedy material? Stand-Up? Sketch? Musical Comedy? Whatever you’ve got we want to see it. Feel free to message us with any questions you might have.\n \nNote to performers: The best way to test new material is in front of a good crowd\, so if you’d like to perform on the mic please share on social media\, spread the word\, and bring people along! The bigger and friendlier the crowd the better the show! Thanks
URL:https://craftybelle.uk/event/you-should-have-been-here-last-week-3/
LOCATION:James St. Tavern\, 47-48 James Street\, Oxford\, Oxfordshire\, OX4 1EU\, United Kingdom
CATEGORIES:James St.
END:VEVENT
BEGIN:VEVENT
DTSTART;TZID=Europe/London:20221209T190000
DTEND;TZID=Europe/London:20221209T210000
DTSTAMP:20260424T163641
CREATED:20221205T130600Z
LAST-MODIFIED:20221205T130600Z
UID:10000512-1670612400-1670619600@craftybelle.uk
SUMMARY:WORLD CUP: Netherlands vs Argentina
DESCRIPTION:Book a table here
URL:https://craftybelle.uk/event/world-cup-netherlands-vs-argentina/
LOCATION:James St. Tavern\, 47-48 James Street\, Oxford\, Oxfordshire\, OX4 1EU\, United Kingdom
CATEGORIES:James St.
END:VEVENT
BEGIN:VEVENT
DTSTART;TZID=Europe/London:20221210T190000
DTEND;TZID=Europe/London:20221210T210000
DTSTAMP:20260424T163641
CREATED:20221205T130647Z
LAST-MODIFIED:20221205T130647Z
UID:10000513-1670698800-1670706000@craftybelle.uk
SUMMARY:WORLD CUP: England vs France
DESCRIPTION:Book a table here
URL:https://craftybelle.uk/event/world-cup-england-vs-france/
LOCATION:James St. Tavern\, 47-48 James Street\, Oxford\, Oxfordshire\, OX4 1EU\, United Kingdom
CATEGORIES:James St.
END:VEVENT
BEGIN:VEVENT
DTSTART;TZID=Europe/London:20221211T110000
DTEND;TZID=Europe/London:20221211T170000
DTSTAMP:20260424T163641
CREATED:20221202T213935Z
LAST-MODIFIED:20221202T213935Z
UID:10000506-1670756400-1670778000@craftybelle.uk
SUMMARY:Christmas Art Market
DESCRIPTION:  \nJoin us for our third installment of installment of the Jam Factory Art Market Pop-Up!  \nWe’ll have a collection of local artists displaying hand-made arts and crafts\, perfect for last minute Christmas presents! \nArt market plays out 11pm – 5pm\, and we’ll have our legendary Open Mic from 3pm for some aural pleasure! \n 
URL:https://craftybelle.uk/event/christmas-art-market/
LOCATION:James St. Tavern\, 47-48 James Street\, Oxford\, Oxfordshire\, OX4 1EU\, United Kingdom
CATEGORIES:James St.
ATTACH;FMTTYPE=image/gif:https://craftybelle.uk/wp-content/uploads/2022/12/instagram-december-market.gif
END:VEVENT
BEGIN:VEVENT
DTSTART;TZID=Europe/London:20221211T143000
DTEND;TZID=Europe/London:20221211T183000
DTSTAMP:20260424T163641
CREATED:20220127T141805Z
LAST-MODIFIED:20220209T123751Z
UID:10000213-1670769000-1670783400@craftybelle.uk
SUMMARY:James St Open Mic
DESCRIPTION:The finest Open Mic this side of town! Hosted by the amazing Lee Bo. Join the best talent in Oxford\, have a sing\, or just sit and enjoy the vibes.\nWhat more could you want on a Sunday afternoon?
URL:https://craftybelle.uk/event/james-st-open-mic-2/2022-12-11/
LOCATION:James St. Tavern\, 47-48 James Street\, Oxford\, Oxfordshire\, OX4 1EU\, United Kingdom
CATEGORIES:James St.
ATTACH;FMTTYPE=image/jpeg:https://craftybelle.uk/wp-content/uploads/2022/01/Open-Mic-2.jpg
END:VEVENT
BEGIN:VEVENT
DTSTART;TZID=Europe/London:20221211T180000
DTEND;TZID=Europe/London:20221211T193000
DTSTAMP:20260424T163641
CREATED:20221205T131954Z
LAST-MODIFIED:20221205T132608Z
UID:10000514-1670781600-1670787000@craftybelle.uk
SUMMARY:Consignia: In Tents
DESCRIPTION:The two-time Leicester Comedy Festival Award nominees and self-styled cult comedy auteurs Consignia bring their latest work-in-progress show to Oxford\, ahead of its premiere in London later this month. \n  \n**** – The Scotsman \n**** – Chortle \n“an absolute shitshow in all the best ways.” British Comedy Guide \n“A sort of Brechtian Ketamine Clown Orgy” Stuart Goldsmith\, host of The Comedians Comedian Podcast.
URL:https://craftybelle.uk/event/consignia-in-tents/
LOCATION:James St. Tavern\, 47-48 James Street\, Oxford\, Oxfordshire\, OX4 1EU\, United Kingdom
CATEGORIES:James St.
ATTACH;FMTTYPE=image/jpeg:https://craftybelle.uk/wp-content/uploads/2022/12/Consignia-WIP.jpg
END:VEVENT
BEGIN:VEVENT
DTSTART;TZID=Europe/London:20221215T200000
DTEND;TZID=Europe/London:20221215T223000
DTSTAMP:20260424T163641
CREATED:20220127T135042Z
LAST-MODIFIED:20241016T172722Z
UID:10000061-1671134400-1671143400@craftybelle.uk
SUMMARY:JST Comedy Open Mic
DESCRIPTION:The first (and best) Comedy Open Mic in Oxford\, JST’s Open Mic is the spot to see new emerging talent performing alongside tried and tested semi-pros. Every Thursday join our hosts Kryten Wolfgang and Torin Pocock and watch the hottest comedy from a mixture of old local favorites and some fresh-faced performers just starting out. You might even find the Next Big Thing right on your doorstep!\n \nFancy giving it a go? Want to come and try out new comedy material? Stand-Up? Sketch? Musical Comedy? Whatever you’ve got we want to see it. Feel free to message us with any questions you might have.\n \nNote to performers: The best way to test new material is in front of a good crowd\, so if you’d like to perform on the mic please share on social media\, spread the word\, and bring people along! The bigger and friendlier the crowd the better the show!
URL:https://craftybelle.uk/event/comedy/2022-12-15/
LOCATION:James St. Tavern\, 47-48 James Street\, Oxford\, Oxfordshire\, OX4 1EU\, United Kingdom
CATEGORIES:James St.
ATTACH;FMTTYPE=image/png:https://craftybelle.uk/wp-content/uploads/2024/08/Comedy-Chattering-teeth-square-e1729101522577.png
END:VEVENT
BEGIN:VEVENT
DTSTART;TZID=Europe/London:20221222T200000
DTEND;TZID=Europe/London:20221222T223000
DTSTAMP:20260424T163641
CREATED:20220127T135042Z
LAST-MODIFIED:20241016T172722Z
UID:10000062-1671739200-1671748200@craftybelle.uk
SUMMARY:JST Comedy Open Mic
DESCRIPTION:The first (and best) Comedy Open Mic in Oxford\, JST’s Open Mic is the spot to see new emerging talent performing alongside tried and tested semi-pros. Every Thursday join our hosts Kryten Wolfgang and Torin Pocock and watch the hottest comedy from a mixture of old local favorites and some fresh-faced performers just starting out. You might even find the Next Big Thing right on your doorstep!\n \nFancy giving it a go? Want to come and try out new comedy material? Stand-Up? Sketch? Musical Comedy? Whatever you’ve got we want to see it. Feel free to message us with any questions you might have.\n \nNote to performers: The best way to test new material is in front of a good crowd\, so if you’d like to perform on the mic please share on social media\, spread the word\, and bring people along! The bigger and friendlier the crowd the better the show!
URL:https://craftybelle.uk/event/comedy/2022-12-22/
LOCATION:James St. Tavern\, 47-48 James Street\, Oxford\, Oxfordshire\, OX4 1EU\, United Kingdom
CATEGORIES:James St.
ATTACH;FMTTYPE=image/png:https://craftybelle.uk/wp-content/uploads/2024/08/Comedy-Chattering-teeth-square-e1729101522577.png
END:VEVENT
BEGIN:VEVENT
DTSTART;TZID=Europe/London:20221231T190000
DTEND;TZID=Europe/London:20230101T190000
DTSTAMP:20260424T163641
CREATED:20221218T151758Z
LAST-MODIFIED:20221218T151758Z
UID:10000515-1672513200-1672599600@craftybelle.uk
SUMMARY:New Years Eve at JST!
DESCRIPTION:Bring the New Year in with a right old boogie! We have our absolute favourite Tony Nanton on the decks bringing you the best in funk\, soul\, and house for the evening. \nFree drink at midnight\, 2am close\, FREE entry!
URL:https://craftybelle.uk/event/new-years-eve-at-jst/
LOCATION:James St. Tavern\, 47-48 James Street\, Oxford\, Oxfordshire\, OX4 1EU\, United Kingdom
END:VEVENT
BEGIN:VEVENT
DTSTART;TZID=Europe/London:20230105T200000
DTEND;TZID=Europe/London:20230105T223000
DTSTAMP:20260424T163641
CREATED:20220127T135042Z
LAST-MODIFIED:20241016T172722Z
UID:10000064-1672948800-1672957800@craftybelle.uk
SUMMARY:JST Comedy Open Mic
DESCRIPTION:The first (and best) Comedy Open Mic in Oxford\, JST’s Open Mic is the spot to see new emerging talent performing alongside tried and tested semi-pros. Every Thursday join our hosts Kryten Wolfgang and Torin Pocock and watch the hottest comedy from a mixture of old local favorites and some fresh-faced performers just starting out. You might even find the Next Big Thing right on your doorstep!\n \nFancy giving it a go? Want to come and try out new comedy material? Stand-Up? Sketch? Musical Comedy? Whatever you’ve got we want to see it. Feel free to message us with any questions you might have.\n \nNote to performers: The best way to test new material is in front of a good crowd\, so if you’d like to perform on the mic please share on social media\, spread the word\, and bring people along! The bigger and friendlier the crowd the better the show!
URL:https://craftybelle.uk/event/comedy/2023-01-05/
LOCATION:James St. Tavern\, 47-48 James Street\, Oxford\, Oxfordshire\, OX4 1EU\, United Kingdom
CATEGORIES:James St.
ATTACH;FMTTYPE=image/png:https://craftybelle.uk/wp-content/uploads/2024/08/Comedy-Chattering-teeth-square-e1729101522577.png
END:VEVENT
BEGIN:VEVENT
DTSTART;TZID=Europe/London:20230108T143000
DTEND;TZID=Europe/London:20230108T183000
DTSTAMP:20260424T163641
CREATED:20220127T141805Z
LAST-MODIFIED:20220209T123751Z
UID:10000217-1673188200-1673202600@craftybelle.uk
SUMMARY:James St Open Mic
DESCRIPTION:The finest Open Mic this side of town! Hosted by the amazing Lee Bo. Join the best talent in Oxford\, have a sing\, or just sit and enjoy the vibes.\nWhat more could you want on a Sunday afternoon?
URL:https://craftybelle.uk/event/james-st-open-mic-2/2023-01-08/
LOCATION:James St. Tavern\, 47-48 James Street\, Oxford\, Oxfordshire\, OX4 1EU\, United Kingdom
CATEGORIES:James St.
ATTACH;FMTTYPE=image/jpeg:https://craftybelle.uk/wp-content/uploads/2022/01/Open-Mic-2.jpg
END:VEVENT
BEGIN:VEVENT
DTSTART;TZID=Europe/London:20230110T200000
DTEND;TZID=Europe/London:20230110T220000
DTSTAMP:20260424T163641
CREATED:20220127T143838Z
LAST-MODIFIED:20220209T124238Z
UID:10000367-1673380800-1673388000@craftybelle.uk
SUMMARY:Old Bookbinders Pub Quiz
DESCRIPTION:Our fiendish Pub Quiz comes in every Tuesday and helps raise funds for Helen & Douglas House\, Oxford’s local children’s hospice. 6 tricky rounds for you to answer\, hosted by our gorgeous Landlord Josh. £1 per person to enter\, liquid prizes for winners! PLEASE ARRIVE EARLY AS IT STARTS AT 8PM PROMPTLY!
URL:https://craftybelle.uk/event/old-bookbinders-pub-quiz/2023-01-10/
LOCATION:The Old Bookbinders\, 17-18 Victor Street\, Oxford\, Oxfordshire\, OX2 6BT\, United Kingdom
CATEGORIES:Bookbinders
ATTACH;FMTTYPE=image/png:https://craftybelle.uk/wp-content/uploads/2022/01/Helen-Douglas.png
END:VEVENT
END:VCALENDAR