BEGIN:VCALENDAR
VERSION:2.0
PRODID:-//Crafty Belle Group - ECPv6.15.18//NONSGML v1.0//EN
CALSCALE:GREGORIAN
METHOD:PUBLISH
X-WR-CALNAME:Crafty Belle Group
X-ORIGINAL-URL:https://craftybelle.uk
X-WR-CALDESC:Events for Crafty Belle Group
REFRESH-INTERVAL;VALUE=DURATION:PT1H
X-Robots-Tag:noindex
X-PUBLISHED-TTL:PT1H
BEGIN:VTIMEZONE
TZID:Europe/London
BEGIN:DAYLIGHT
TZOFFSETFROM:+0000
TZOFFSETTO:+0100
TZNAME:BST
DTSTART:20260329T010000
END:DAYLIGHT
BEGIN:STANDARD
TZOFFSETFROM:+0100
TZOFFSETTO:+0000
TZNAME:GMT
DTSTART:20261025T010000
END:STANDARD
BEGIN:DAYLIGHT
TZOFFSETFROM:+0000
TZOFFSETTO:+0100
TZNAME:BST
DTSTART:20270328T010000
END:DAYLIGHT
BEGIN:STANDARD
TZOFFSETFROM:+0100
TZOFFSETTO:+0000
TZNAME:GMT
DTSTART:20271031T010000
END:STANDARD
BEGIN:DAYLIGHT
TZOFFSETFROM:+0000
TZOFFSETTO:+0100
TZNAME:BST
DTSTART:20280326T010000
END:DAYLIGHT
BEGIN:STANDARD
TZOFFSETFROM:+0100
TZOFFSETTO:+0000
TZNAME:GMT
DTSTART:20281029T010000
END:STANDARD
END:VTIMEZONE
BEGIN:VEVENT
DTSTART;TZID=Europe/London:20270725T120000
DTEND;TZID=Europe/London:20270725T180000
DTSTAMP:20260425T042647
CREATED:20240827T101252Z
LAST-MODIFIED:20260404T222024Z
UID:10002314-1816516800-1816538400@craftybelle.uk
SUMMARY:Oxford On Board weekly meetup
DESCRIPTION:Every Sunday (apart from the last of the month!) \nWe invite you to a wholesome day of playing board games at the pub – lots of games to choose from\, all organised by Oxford On Board \nFrom about midday. All players from 8 to 100 are invited! \nI like Catan. \n 
URL:https://craftybelle.uk/event/board-games-6/2027-07-25/
LOCATION:James St. Tavern\, 47-48 James Street\, Oxford\, Oxfordshire\, OX4 1EU\, United Kingdom
CATEGORIES:James St.
ATTACH;FMTTYPE=image/png:https://craftybelle.uk/wp-content/uploads/2024/08/Oxford-On-Board-AI-e1775341058225.png
END:VEVENT
BEGIN:VEVENT
DTSTART;TZID=Europe/London:20270725T150000
DTEND;TZID=Europe/London:20270725T180000
DTSTAMP:20260425T042647
CREATED:20250305T184323Z
LAST-MODIFIED:20250305T184323Z
UID:10001927-1816527600-1816538400@craftybelle.uk
SUMMARY:James St Open Mic hosted by Lee Bo
DESCRIPTION:Join us for our weekly Open Mic with the finest musicians in Oxford. A glorious way to end your week!
URL:https://craftybelle.uk/event/open-mic/2027-07-25/
LOCATION:James St. Tavern\, 47-48 James Street\, Oxford\, Oxfordshire\, OX4 1EU\, United Kingdom
CATEGORIES:James St.
ATTACH;FMTTYPE=image/jpeg:https://craftybelle.uk/wp-content/uploads/2025/03/Open-Mic-Lee-2-e1741200123201.jpg
END:VEVENT
BEGIN:VEVENT
DTSTART;TZID=Europe/London:20270729T200000
DTEND;TZID=Europe/London:20270729T223000
DTSTAMP:20260425T042647
CREATED:20250111T230755Z
LAST-MODIFIED:20250111T230845Z
UID:10001664-1816891200-1816900200@craftybelle.uk
SUMMARY:JST Comedy Open Mic
DESCRIPTION:The first (and best) Comedy Open Mic in Oxford\, JST’s Open Mic is the spot to see new emerging talent performing alongside tried and tested semi-pros! Every Thursday join our hosts Kryten Wolfgang and Torin Pocock and watch the hottest comedy from a mixture of old local favorites and some fresh-faced performers just starting out. You might even find the Next Big Thing right on your doorstep!\n \nFancy giving it a go? Want to come and try out new comedy material? Stand-Up? Sketch? Musical Comedy? Whatever you’ve got we want to see it. Feel free to message us with any questions you might have.\n \nNote to performers: The best way to test new material is in front of a good crowd\, so if you’d like to perform on the mic please share on social media\, spread the word\, and bring people along! The bigger and friendlier the crowd the better the show! 
URL:https://craftybelle.uk/event/comedy-open-mic-11/2027-07-29/
LOCATION:James St. Tavern\, 47-48 James Street\, Oxford\, Oxfordshire\, OX4 1EU\, United Kingdom
CATEGORIES:James St.
ATTACH;FMTTYPE=image/png:https://craftybelle.uk/wp-content/uploads/2024/08/Comedy-Chattering-teeth-square-e1729101522577.png
END:VEVENT
BEGIN:VEVENT
DTSTART;TZID=Europe/London:20270730T170000
DTEND;TZID=Europe/London:20270730T210000
DTSTAMP:20260425T042647
CREATED:20241003T121558Z
LAST-MODIFIED:20241003T121558Z
UID:10000898-1816966800-1816981200@craftybelle.uk
SUMMARY:Moules Vendredi
DESCRIPTION:Moules Marinière at the Old Bookbinders \nServed every Friday evening from 5.30pm \n(Subject to supplier availability) \n  \nC’est Bon. \nBooking a table is highly recommended
URL:https://craftybelle.uk/event/moules-vendredi/2027-07-30/
LOCATION:The Old Bookbinders\, 17-18 Victor Street\, Oxford\, Oxfordshire\, OX2 6BT\, United Kingdom
CATEGORIES:Bookbinders
ATTACH;FMTTYPE=application/pdf:https://craftybelle.uk/wp-content/uploads/2024/10/Moules-Vendredi-Poster-A3.pdf
END:VEVENT
BEGIN:VEVENT
DTSTART;TZID=Europe/London:20270730T203000
DTEND;TZID=Europe/London:20270730T223000
DTSTAMP:20260425T042647
CREATED:20250826T175101Z
LAST-MODIFIED:20250826T175315Z
UID:10000653-1816979400-1816986600@craftybelle.uk
SUMMARY:Live Lounge
DESCRIPTION:Our monthly Live Lounge! \nRich Rainford really needs no introduction\, his unrelenting bangers speak for themselves and i can’t wait to have him back in the mix with added bass and keys this Friday. A true local legend and a set of the very highest order awaits. \nNext up in this spectacular double header is the one and only No Worries If Not.Think Bo Burnham on Steroids and you wont be far off.Genius lyrics\, choreography and expertly crafted EDM tracks will have you dancing\, singing and howling with laughter.These guys rocked our street fair recently and need to be on everyone’s radar\, expect nothing but big things ahead for these guys.
URL:https://craftybelle.uk/event/jst-live-lounge-5-2/2027-07-30/
LOCATION:James St. Tavern\, 47-48 James Street\, Oxford\, Oxfordshire\, OX4 1EU\, United Kingdom
CATEGORIES:James St.
ATTACH;FMTTYPE=image/jpeg:https://craftybelle.uk/wp-content/uploads/2024/01/Live-Lounge-29.08-e1756230641408.jpg
END:VEVENT
BEGIN:VEVENT
DTSTART;TZID=Europe/London:20270801T120000
DTEND;TZID=Europe/London:20270801T180000
DTSTAMP:20260425T042647
CREATED:20240827T101252Z
LAST-MODIFIED:20260404T222024Z
UID:10002315-1817121600-1817143200@craftybelle.uk
SUMMARY:Oxford On Board weekly meetup
DESCRIPTION:Every Sunday (apart from the last of the month!) \nWe invite you to a wholesome day of playing board games at the pub – lots of games to choose from\, all organised by Oxford On Board \nFrom about midday. All players from 8 to 100 are invited! \nI like Catan. \n 
URL:https://craftybelle.uk/event/board-games-6/2027-08-01/
LOCATION:James St. Tavern\, 47-48 James Street\, Oxford\, Oxfordshire\, OX4 1EU\, United Kingdom
CATEGORIES:James St.
ATTACH;FMTTYPE=image/png:https://craftybelle.uk/wp-content/uploads/2024/08/Oxford-On-Board-AI-e1775341058225.png
END:VEVENT
BEGIN:VEVENT
DTSTART;TZID=Europe/London:20270801T150000
DTEND;TZID=Europe/London:20270801T180000
DTSTAMP:20260425T042647
CREATED:20250305T184323Z
LAST-MODIFIED:20250305T184323Z
UID:10001928-1817132400-1817143200@craftybelle.uk
SUMMARY:James St Open Mic hosted by Lee Bo
DESCRIPTION:Join us for our weekly Open Mic with the finest musicians in Oxford. A glorious way to end your week!
URL:https://craftybelle.uk/event/open-mic/2027-08-01/
LOCATION:James St. Tavern\, 47-48 James Street\, Oxford\, Oxfordshire\, OX4 1EU\, United Kingdom
CATEGORIES:James St.
ATTACH;FMTTYPE=image/jpeg:https://craftybelle.uk/wp-content/uploads/2025/03/Open-Mic-Lee-2-e1741200123201.jpg
END:VEVENT
BEGIN:VEVENT
DTSTART;TZID=Europe/London:20270803T193000
DTEND;TZID=Europe/London:20270803T220000
DTSTAMP:20260425T042647
CREATED:20250823T190629Z
LAST-MODIFIED:20250823T190629Z
UID:10001416-1817321400-1817330400@craftybelle.uk
SUMMARY:Cuckoo's Nest
DESCRIPTION:Weekly evening of short films\, beer\, and good chat!
URL:https://craftybelle.uk/event/cuckoos-nest-2/2027-08-03/
LOCATION:James St. Tavern\, 47-48 James Street\, Oxford\, Oxfordshire\, OX4 1EU\, United Kingdom
CATEGORIES:James St.
ATTACH;FMTTYPE=image/jpeg:https://craftybelle.uk/wp-content/uploads/2024/10/Cuckoos-Nest-James-Street-scaled-e1729245572103.jpg
END:VEVENT
BEGIN:VEVENT
DTSTART;TZID=Europe/London:20270805T200000
DTEND;TZID=Europe/London:20270805T223000
DTSTAMP:20260425T042647
CREATED:20250111T230755Z
LAST-MODIFIED:20250111T230845Z
UID:10001665-1817496000-1817505000@craftybelle.uk
SUMMARY:JST Comedy Open Mic
DESCRIPTION:The first (and best) Comedy Open Mic in Oxford\, JST’s Open Mic is the spot to see new emerging talent performing alongside tried and tested semi-pros! Every Thursday join our hosts Kryten Wolfgang and Torin Pocock and watch the hottest comedy from a mixture of old local favorites and some fresh-faced performers just starting out. You might even find the Next Big Thing right on your doorstep!\n \nFancy giving it a go? Want to come and try out new comedy material? Stand-Up? Sketch? Musical Comedy? Whatever you’ve got we want to see it. Feel free to message us with any questions you might have.\n \nNote to performers: The best way to test new material is in front of a good crowd\, so if you’d like to perform on the mic please share on social media\, spread the word\, and bring people along! The bigger and friendlier the crowd the better the show! 
URL:https://craftybelle.uk/event/comedy-open-mic-11/2027-08-05/
LOCATION:James St. Tavern\, 47-48 James Street\, Oxford\, Oxfordshire\, OX4 1EU\, United Kingdom
CATEGORIES:James St.
ATTACH;FMTTYPE=image/png:https://craftybelle.uk/wp-content/uploads/2024/08/Comedy-Chattering-teeth-square-e1729101522577.png
END:VEVENT
BEGIN:VEVENT
DTSTART;TZID=Europe/London:20270806T170000
DTEND;TZID=Europe/London:20270806T210000
DTSTAMP:20260425T042647
CREATED:20241003T121558Z
LAST-MODIFIED:20241003T121558Z
UID:10000899-1817571600-1817586000@craftybelle.uk
SUMMARY:Moules Vendredi
DESCRIPTION:Moules Marinière at the Old Bookbinders \nServed every Friday evening from 5.30pm \n(Subject to supplier availability) \n  \nC’est Bon. \nBooking a table is highly recommended
URL:https://craftybelle.uk/event/moules-vendredi/2027-08-06/
LOCATION:The Old Bookbinders\, 17-18 Victor Street\, Oxford\, Oxfordshire\, OX2 6BT\, United Kingdom
CATEGORIES:Bookbinders
ATTACH;FMTTYPE=application/pdf:https://craftybelle.uk/wp-content/uploads/2024/10/Moules-Vendredi-Poster-A3.pdf
END:VEVENT
BEGIN:VEVENT
DTSTART;TZID=Europe/London:20270808T120000
DTEND;TZID=Europe/London:20270808T180000
DTSTAMP:20260425T042647
CREATED:20240827T101252Z
LAST-MODIFIED:20260404T222024Z
UID:10002316-1817726400-1817748000@craftybelle.uk
SUMMARY:Oxford On Board weekly meetup
DESCRIPTION:Every Sunday (apart from the last of the month!) \nWe invite you to a wholesome day of playing board games at the pub – lots of games to choose from\, all organised by Oxford On Board \nFrom about midday. All players from 8 to 100 are invited! \nI like Catan. \n 
URL:https://craftybelle.uk/event/board-games-6/2027-08-08/
LOCATION:James St. Tavern\, 47-48 James Street\, Oxford\, Oxfordshire\, OX4 1EU\, United Kingdom
CATEGORIES:James St.
ATTACH;FMTTYPE=image/png:https://craftybelle.uk/wp-content/uploads/2024/08/Oxford-On-Board-AI-e1775341058225.png
END:VEVENT
BEGIN:VEVENT
DTSTART;TZID=Europe/London:20270808T150000
DTEND;TZID=Europe/London:20270808T180000
DTSTAMP:20260425T042647
CREATED:20250305T184323Z
LAST-MODIFIED:20250305T184323Z
UID:10001929-1817737200-1817748000@craftybelle.uk
SUMMARY:James St Open Mic hosted by Lee Bo
DESCRIPTION:Join us for our weekly Open Mic with the finest musicians in Oxford. A glorious way to end your week!
URL:https://craftybelle.uk/event/open-mic/2027-08-08/
LOCATION:James St. Tavern\, 47-48 James Street\, Oxford\, Oxfordshire\, OX4 1EU\, United Kingdom
CATEGORIES:James St.
ATTACH;FMTTYPE=image/jpeg:https://craftybelle.uk/wp-content/uploads/2025/03/Open-Mic-Lee-2-e1741200123201.jpg
END:VEVENT
BEGIN:VEVENT
DTSTART;TZID=Europe/London:20270812T200000
DTEND;TZID=Europe/London:20270812T223000
DTSTAMP:20260425T042647
CREATED:20250111T230755Z
LAST-MODIFIED:20250111T230845Z
UID:10001666-1818100800-1818109800@craftybelle.uk
SUMMARY:JST Comedy Open Mic
DESCRIPTION:The first (and best) Comedy Open Mic in Oxford\, JST’s Open Mic is the spot to see new emerging talent performing alongside tried and tested semi-pros! Every Thursday join our hosts Kryten Wolfgang and Torin Pocock and watch the hottest comedy from a mixture of old local favorites and some fresh-faced performers just starting out. You might even find the Next Big Thing right on your doorstep!\n \nFancy giving it a go? Want to come and try out new comedy material? Stand-Up? Sketch? Musical Comedy? Whatever you’ve got we want to see it. Feel free to message us with any questions you might have.\n \nNote to performers: The best way to test new material is in front of a good crowd\, so if you’d like to perform on the mic please share on social media\, spread the word\, and bring people along! The bigger and friendlier the crowd the better the show! 
URL:https://craftybelle.uk/event/comedy-open-mic-11/2027-08-12/
LOCATION:James St. Tavern\, 47-48 James Street\, Oxford\, Oxfordshire\, OX4 1EU\, United Kingdom
CATEGORIES:James St.
ATTACH;FMTTYPE=image/png:https://craftybelle.uk/wp-content/uploads/2024/08/Comedy-Chattering-teeth-square-e1729101522577.png
END:VEVENT
BEGIN:VEVENT
DTSTART;TZID=Europe/London:20270813T170000
DTEND;TZID=Europe/London:20270813T210000
DTSTAMP:20260425T042647
CREATED:20241003T121558Z
LAST-MODIFIED:20241003T121558Z
UID:10000900-1818176400-1818190800@craftybelle.uk
SUMMARY:Moules Vendredi
DESCRIPTION:Moules Marinière at the Old Bookbinders \nServed every Friday evening from 5.30pm \n(Subject to supplier availability) \n  \nC’est Bon. \nBooking a table is highly recommended
URL:https://craftybelle.uk/event/moules-vendredi/2027-08-13/
LOCATION:The Old Bookbinders\, 17-18 Victor Street\, Oxford\, Oxfordshire\, OX2 6BT\, United Kingdom
CATEGORIES:Bookbinders
ATTACH;FMTTYPE=application/pdf:https://craftybelle.uk/wp-content/uploads/2024/10/Moules-Vendredi-Poster-A3.pdf
END:VEVENT
BEGIN:VEVENT
DTSTART;TZID=Europe/London:20270815T120000
DTEND;TZID=Europe/London:20270815T180000
DTSTAMP:20260425T042647
CREATED:20240827T101252Z
LAST-MODIFIED:20260404T222024Z
UID:10002317-1818331200-1818352800@craftybelle.uk
SUMMARY:Oxford On Board weekly meetup
DESCRIPTION:Every Sunday (apart from the last of the month!) \nWe invite you to a wholesome day of playing board games at the pub – lots of games to choose from\, all organised by Oxford On Board \nFrom about midday. All players from 8 to 100 are invited! \nI like Catan. \n 
URL:https://craftybelle.uk/event/board-games-6/2027-08-15/
LOCATION:James St. Tavern\, 47-48 James Street\, Oxford\, Oxfordshire\, OX4 1EU\, United Kingdom
CATEGORIES:James St.
ATTACH;FMTTYPE=image/png:https://craftybelle.uk/wp-content/uploads/2024/08/Oxford-On-Board-AI-e1775341058225.png
END:VEVENT
BEGIN:VEVENT
DTSTART;TZID=Europe/London:20270815T150000
DTEND;TZID=Europe/London:20270815T180000
DTSTAMP:20260425T042647
CREATED:20250305T184323Z
LAST-MODIFIED:20250305T184323Z
UID:10001930-1818342000-1818352800@craftybelle.uk
SUMMARY:James St Open Mic hosted by Lee Bo
DESCRIPTION:Join us for our weekly Open Mic with the finest musicians in Oxford. A glorious way to end your week!
URL:https://craftybelle.uk/event/open-mic/2027-08-15/
LOCATION:James St. Tavern\, 47-48 James Street\, Oxford\, Oxfordshire\, OX4 1EU\, United Kingdom
CATEGORIES:James St.
ATTACH;FMTTYPE=image/jpeg:https://craftybelle.uk/wp-content/uploads/2025/03/Open-Mic-Lee-2-e1741200123201.jpg
END:VEVENT
BEGIN:VEVENT
DTSTART;TZID=Europe/London:20270819T200000
DTEND;TZID=Europe/London:20270819T223000
DTSTAMP:20260425T042647
CREATED:20250111T230755Z
LAST-MODIFIED:20250111T230845Z
UID:10001667-1818705600-1818714600@craftybelle.uk
SUMMARY:JST Comedy Open Mic
DESCRIPTION:The first (and best) Comedy Open Mic in Oxford\, JST’s Open Mic is the spot to see new emerging talent performing alongside tried and tested semi-pros! Every Thursday join our hosts Kryten Wolfgang and Torin Pocock and watch the hottest comedy from a mixture of old local favorites and some fresh-faced performers just starting out. You might even find the Next Big Thing right on your doorstep!\n \nFancy giving it a go? Want to come and try out new comedy material? Stand-Up? Sketch? Musical Comedy? Whatever you’ve got we want to see it. Feel free to message us with any questions you might have.\n \nNote to performers: The best way to test new material is in front of a good crowd\, so if you’d like to perform on the mic please share on social media\, spread the word\, and bring people along! The bigger and friendlier the crowd the better the show! 
URL:https://craftybelle.uk/event/comedy-open-mic-11/2027-08-19/
LOCATION:James St. Tavern\, 47-48 James Street\, Oxford\, Oxfordshire\, OX4 1EU\, United Kingdom
CATEGORIES:James St.
ATTACH;FMTTYPE=image/png:https://craftybelle.uk/wp-content/uploads/2024/08/Comedy-Chattering-teeth-square-e1729101522577.png
END:VEVENT
BEGIN:VEVENT
DTSTART;TZID=Europe/London:20270820T170000
DTEND;TZID=Europe/London:20270820T210000
DTSTAMP:20260425T042647
CREATED:20241003T121558Z
LAST-MODIFIED:20241003T121558Z
UID:10000901-1818781200-1818795600@craftybelle.uk
SUMMARY:Moules Vendredi
DESCRIPTION:Moules Marinière at the Old Bookbinders \nServed every Friday evening from 5.30pm \n(Subject to supplier availability) \n  \nC’est Bon. \nBooking a table is highly recommended
URL:https://craftybelle.uk/event/moules-vendredi/2027-08-20/
LOCATION:The Old Bookbinders\, 17-18 Victor Street\, Oxford\, Oxfordshire\, OX2 6BT\, United Kingdom
CATEGORIES:Bookbinders
ATTACH;FMTTYPE=application/pdf:https://craftybelle.uk/wp-content/uploads/2024/10/Moules-Vendredi-Poster-A3.pdf
END:VEVENT
BEGIN:VEVENT
DTSTART;TZID=Europe/London:20270822T120000
DTEND;TZID=Europe/London:20270822T180000
DTSTAMP:20260425T042647
CREATED:20240827T101252Z
LAST-MODIFIED:20260404T222024Z
UID:10002318-1818936000-1818957600@craftybelle.uk
SUMMARY:Oxford On Board weekly meetup
DESCRIPTION:Every Sunday (apart from the last of the month!) \nWe invite you to a wholesome day of playing board games at the pub – lots of games to choose from\, all organised by Oxford On Board \nFrom about midday. All players from 8 to 100 are invited! \nI like Catan. \n 
URL:https://craftybelle.uk/event/board-games-6/2027-08-22/
LOCATION:James St. Tavern\, 47-48 James Street\, Oxford\, Oxfordshire\, OX4 1EU\, United Kingdom
CATEGORIES:James St.
ATTACH;FMTTYPE=image/png:https://craftybelle.uk/wp-content/uploads/2024/08/Oxford-On-Board-AI-e1775341058225.png
END:VEVENT
BEGIN:VEVENT
DTSTART;TZID=Europe/London:20270822T150000
DTEND;TZID=Europe/London:20270822T180000
DTSTAMP:20260425T042647
CREATED:20250305T184323Z
LAST-MODIFIED:20250305T184323Z
UID:10001931-1818946800-1818957600@craftybelle.uk
SUMMARY:James St Open Mic hosted by Lee Bo
DESCRIPTION:Join us for our weekly Open Mic with the finest musicians in Oxford. A glorious way to end your week!
URL:https://craftybelle.uk/event/open-mic/2027-08-22/
LOCATION:James St. Tavern\, 47-48 James Street\, Oxford\, Oxfordshire\, OX4 1EU\, United Kingdom
CATEGORIES:James St.
ATTACH;FMTTYPE=image/jpeg:https://craftybelle.uk/wp-content/uploads/2025/03/Open-Mic-Lee-2-e1741200123201.jpg
END:VEVENT
BEGIN:VEVENT
DTSTART;TZID=Europe/London:20270826T200000
DTEND;TZID=Europe/London:20270826T223000
DTSTAMP:20260425T042647
CREATED:20250111T230755Z
LAST-MODIFIED:20250111T230845Z
UID:10001668-1819310400-1819319400@craftybelle.uk
SUMMARY:JST Comedy Open Mic
DESCRIPTION:The first (and best) Comedy Open Mic in Oxford\, JST’s Open Mic is the spot to see new emerging talent performing alongside tried and tested semi-pros! Every Thursday join our hosts Kryten Wolfgang and Torin Pocock and watch the hottest comedy from a mixture of old local favorites and some fresh-faced performers just starting out. You might even find the Next Big Thing right on your doorstep!\n \nFancy giving it a go? Want to come and try out new comedy material? Stand-Up? Sketch? Musical Comedy? Whatever you’ve got we want to see it. Feel free to message us with any questions you might have.\n \nNote to performers: The best way to test new material is in front of a good crowd\, so if you’d like to perform on the mic please share on social media\, spread the word\, and bring people along! The bigger and friendlier the crowd the better the show! 
URL:https://craftybelle.uk/event/comedy-open-mic-11/2027-08-26/
LOCATION:James St. Tavern\, 47-48 James Street\, Oxford\, Oxfordshire\, OX4 1EU\, United Kingdom
CATEGORIES:James St.
ATTACH;FMTTYPE=image/png:https://craftybelle.uk/wp-content/uploads/2024/08/Comedy-Chattering-teeth-square-e1729101522577.png
END:VEVENT
BEGIN:VEVENT
DTSTART;TZID=Europe/London:20270827T170000
DTEND;TZID=Europe/London:20270827T210000
DTSTAMP:20260425T042647
CREATED:20241003T121558Z
LAST-MODIFIED:20241003T121558Z
UID:10000902-1819386000-1819400400@craftybelle.uk
SUMMARY:Moules Vendredi
DESCRIPTION:Moules Marinière at the Old Bookbinders \nServed every Friday evening from 5.30pm \n(Subject to supplier availability) \n  \nC’est Bon. \nBooking a table is highly recommended
URL:https://craftybelle.uk/event/moules-vendredi/2027-08-27/
LOCATION:The Old Bookbinders\, 17-18 Victor Street\, Oxford\, Oxfordshire\, OX2 6BT\, United Kingdom
CATEGORIES:Bookbinders
ATTACH;FMTTYPE=application/pdf:https://craftybelle.uk/wp-content/uploads/2024/10/Moules-Vendredi-Poster-A3.pdf
END:VEVENT
BEGIN:VEVENT
DTSTART;TZID=Europe/London:20270827T203000
DTEND;TZID=Europe/London:20270827T223000
DTSTAMP:20260425T042647
CREATED:20250826T175101Z
LAST-MODIFIED:20250826T175315Z
UID:10000654-1819398600-1819405800@craftybelle.uk
SUMMARY:Live Lounge
DESCRIPTION:Our monthly Live Lounge! \nRich Rainford really needs no introduction\, his unrelenting bangers speak for themselves and i can’t wait to have him back in the mix with added bass and keys this Friday. A true local legend and a set of the very highest order awaits. \nNext up in this spectacular double header is the one and only No Worries If Not.Think Bo Burnham on Steroids and you wont be far off.Genius lyrics\, choreography and expertly crafted EDM tracks will have you dancing\, singing and howling with laughter.These guys rocked our street fair recently and need to be on everyone’s radar\, expect nothing but big things ahead for these guys.
URL:https://craftybelle.uk/event/jst-live-lounge-5-2/2027-08-27/
LOCATION:James St. Tavern\, 47-48 James Street\, Oxford\, Oxfordshire\, OX4 1EU\, United Kingdom
CATEGORIES:James St.
ATTACH;FMTTYPE=image/jpeg:https://craftybelle.uk/wp-content/uploads/2024/01/Live-Lounge-29.08-e1756230641408.jpg
END:VEVENT
BEGIN:VEVENT
DTSTART;TZID=Europe/London:20270829T120000
DTEND;TZID=Europe/London:20270829T180000
DTSTAMP:20260425T042647
CREATED:20240827T101252Z
LAST-MODIFIED:20260404T222024Z
UID:10002319-1819540800-1819562400@craftybelle.uk
SUMMARY:Oxford On Board weekly meetup
DESCRIPTION:Every Sunday (apart from the last of the month!) \nWe invite you to a wholesome day of playing board games at the pub – lots of games to choose from\, all organised by Oxford On Board \nFrom about midday. All players from 8 to 100 are invited! \nI like Catan. \n 
URL:https://craftybelle.uk/event/board-games-6/2027-08-29/
LOCATION:James St. Tavern\, 47-48 James Street\, Oxford\, Oxfordshire\, OX4 1EU\, United Kingdom
CATEGORIES:James St.
ATTACH;FMTTYPE=image/png:https://craftybelle.uk/wp-content/uploads/2024/08/Oxford-On-Board-AI-e1775341058225.png
END:VEVENT
BEGIN:VEVENT
DTSTART;TZID=Europe/London:20270829T150000
DTEND;TZID=Europe/London:20270829T180000
DTSTAMP:20260425T042647
CREATED:20250305T184323Z
LAST-MODIFIED:20250305T184323Z
UID:10001932-1819551600-1819562400@craftybelle.uk
SUMMARY:James St Open Mic hosted by Lee Bo
DESCRIPTION:Join us for our weekly Open Mic with the finest musicians in Oxford. A glorious way to end your week!
URL:https://craftybelle.uk/event/open-mic/2027-08-29/
LOCATION:James St. Tavern\, 47-48 James Street\, Oxford\, Oxfordshire\, OX4 1EU\, United Kingdom
CATEGORIES:James St.
ATTACH;FMTTYPE=image/jpeg:https://craftybelle.uk/wp-content/uploads/2025/03/Open-Mic-Lee-2-e1741200123201.jpg
END:VEVENT
BEGIN:VEVENT
DTSTART;TZID=Europe/London:20270902T200000
DTEND;TZID=Europe/London:20270902T223000
DTSTAMP:20260425T042647
CREATED:20250111T230755Z
LAST-MODIFIED:20250111T230845Z
UID:10001669-1819915200-1819924200@craftybelle.uk
SUMMARY:JST Comedy Open Mic
DESCRIPTION:The first (and best) Comedy Open Mic in Oxford\, JST’s Open Mic is the spot to see new emerging talent performing alongside tried and tested semi-pros! Every Thursday join our hosts Kryten Wolfgang and Torin Pocock and watch the hottest comedy from a mixture of old local favorites and some fresh-faced performers just starting out. You might even find the Next Big Thing right on your doorstep!\n \nFancy giving it a go? Want to come and try out new comedy material? Stand-Up? Sketch? Musical Comedy? Whatever you’ve got we want to see it. Feel free to message us with any questions you might have.\n \nNote to performers: The best way to test new material is in front of a good crowd\, so if you’d like to perform on the mic please share on social media\, spread the word\, and bring people along! The bigger and friendlier the crowd the better the show! 
URL:https://craftybelle.uk/event/comedy-open-mic-11/2027-09-02/
LOCATION:James St. Tavern\, 47-48 James Street\, Oxford\, Oxfordshire\, OX4 1EU\, United Kingdom
CATEGORIES:James St.
ATTACH;FMTTYPE=image/png:https://craftybelle.uk/wp-content/uploads/2024/08/Comedy-Chattering-teeth-square-e1729101522577.png
END:VEVENT
BEGIN:VEVENT
DTSTART;TZID=Europe/London:20270903T170000
DTEND;TZID=Europe/London:20270903T210000
DTSTAMP:20260425T042647
CREATED:20241003T121558Z
LAST-MODIFIED:20241003T121558Z
UID:10000903-1819990800-1820005200@craftybelle.uk
SUMMARY:Moules Vendredi
DESCRIPTION:Moules Marinière at the Old Bookbinders \nServed every Friday evening from 5.30pm \n(Subject to supplier availability) \n  \nC’est Bon. \nBooking a table is highly recommended
URL:https://craftybelle.uk/event/moules-vendredi/2027-09-03/
LOCATION:The Old Bookbinders\, 17-18 Victor Street\, Oxford\, Oxfordshire\, OX2 6BT\, United Kingdom
CATEGORIES:Bookbinders
ATTACH;FMTTYPE=application/pdf:https://craftybelle.uk/wp-content/uploads/2024/10/Moules-Vendredi-Poster-A3.pdf
END:VEVENT
BEGIN:VEVENT
DTSTART;TZID=Europe/London:20270905T120000
DTEND;TZID=Europe/London:20270905T180000
DTSTAMP:20260425T042647
CREATED:20240827T101252Z
LAST-MODIFIED:20260404T222024Z
UID:10002320-1820145600-1820167200@craftybelle.uk
SUMMARY:Oxford On Board weekly meetup
DESCRIPTION:Every Sunday (apart from the last of the month!) \nWe invite you to a wholesome day of playing board games at the pub – lots of games to choose from\, all organised by Oxford On Board \nFrom about midday. All players from 8 to 100 are invited! \nI like Catan. \n 
URL:https://craftybelle.uk/event/board-games-6/2027-09-05/
LOCATION:James St. Tavern\, 47-48 James Street\, Oxford\, Oxfordshire\, OX4 1EU\, United Kingdom
CATEGORIES:James St.
ATTACH;FMTTYPE=image/png:https://craftybelle.uk/wp-content/uploads/2024/08/Oxford-On-Board-AI-e1775341058225.png
END:VEVENT
BEGIN:VEVENT
DTSTART;TZID=Europe/London:20270905T150000
DTEND;TZID=Europe/London:20270905T180000
DTSTAMP:20260425T042647
CREATED:20250305T184323Z
LAST-MODIFIED:20250305T184323Z
UID:10001933-1820156400-1820167200@craftybelle.uk
SUMMARY:James St Open Mic hosted by Lee Bo
DESCRIPTION:Join us for our weekly Open Mic with the finest musicians in Oxford. A glorious way to end your week!
URL:https://craftybelle.uk/event/open-mic/2027-09-05/
LOCATION:James St. Tavern\, 47-48 James Street\, Oxford\, Oxfordshire\, OX4 1EU\, United Kingdom
CATEGORIES:James St.
ATTACH;FMTTYPE=image/jpeg:https://craftybelle.uk/wp-content/uploads/2025/03/Open-Mic-Lee-2-e1741200123201.jpg
END:VEVENT
BEGIN:VEVENT
DTSTART;TZID=Europe/London:20270907T193000
DTEND;TZID=Europe/London:20270907T220000
DTSTAMP:20260425T042647
CREATED:20250823T190629Z
LAST-MODIFIED:20250823T190629Z
UID:10001421-1820345400-1820354400@craftybelle.uk
SUMMARY:Cuckoo's Nest
DESCRIPTION:Weekly evening of short films\, beer\, and good chat!
URL:https://craftybelle.uk/event/cuckoos-nest-2/2027-09-07/
LOCATION:James St. Tavern\, 47-48 James Street\, Oxford\, Oxfordshire\, OX4 1EU\, United Kingdom
CATEGORIES:James St.
ATTACH;FMTTYPE=image/jpeg:https://craftybelle.uk/wp-content/uploads/2024/10/Cuckoos-Nest-James-Street-scaled-e1729245572103.jpg
END:VEVENT
END:VCALENDAR