BEGIN:VCALENDAR
VERSION:2.0
PRODID:-//Crafty Belle Group - ECPv6.15.18//NONSGML v1.0//EN
CALSCALE:GREGORIAN
METHOD:PUBLISH
X-ORIGINAL-URL:https://craftybelle.uk
X-WR-CALDESC:Events for Crafty Belle Group
REFRESH-INTERVAL;VALUE=DURATION:PT1H
X-Robots-Tag:noindex
X-PUBLISHED-TTL:PT1H
BEGIN:VTIMEZONE
TZID:Europe/London
BEGIN:DAYLIGHT
TZOFFSETFROM:+0000
TZOFFSETTO:+0100
TZNAME:BST
DTSTART:20200329T010000
END:DAYLIGHT
BEGIN:STANDARD
TZOFFSETFROM:+0100
TZOFFSETTO:+0000
TZNAME:GMT
DTSTART:20201025T010000
END:STANDARD
BEGIN:DAYLIGHT
TZOFFSETFROM:+0000
TZOFFSETTO:+0100
TZNAME:BST
DTSTART:20210328T010000
END:DAYLIGHT
BEGIN:STANDARD
TZOFFSETFROM:+0100
TZOFFSETTO:+0000
TZNAME:GMT
DTSTART:20211031T010000
END:STANDARD
BEGIN:DAYLIGHT
TZOFFSETFROM:+0000
TZOFFSETTO:+0100
TZNAME:BST
DTSTART:20220327T010000
END:DAYLIGHT
BEGIN:STANDARD
TZOFFSETFROM:+0100
TZOFFSETTO:+0000
TZNAME:GMT
DTSTART:20221030T010000
END:STANDARD
END:VTIMEZONE
BEGIN:VEVENT
DTSTART;TZID=Europe/London:20211029T203000
DTEND;TZID=Europe/London:20211029T230000
DTSTAMP:20260423T184655
CREATED:20211027T100016Z
LAST-MODIFIED:20211027T113855Z
UID:10000001-1635539400-1635548400@craftybelle.uk
SUMMARY:James St Live Lounge
DESCRIPTION:Hosted by Lee Bo\, our amazing Live Lounge is back over the spookiest weekend of the year! \n \n8.30pm Andy and the Motion\n9.15pm Tommy & Ricky\n10pm Bert Honour\n  \nANDY WRIGHT (AKA Andy and the Motion) is a singer-songwriter and multi-instrumentalist from Oxford\, and has been writing music since childhood. Raised on The Beatles and American folk-rock\, Andy builds his songs from the acoustic guitar and piano before letting loose with sweeping dynamic textures and vibrant choruses. Though influenced by great songwriters like Bob Dylan and Tom Waits alongside more contemporary artists like Gillian Welch\, you also hear the impact that fronting several rock and indie bands over the last ten years has had on Andy’s music.\n \nTOMMY & RICKY will be blasting you with exquisite covers from yesteryear! This extraordinary duo perform some of the best songs ever written with seriously good vocal harmonies and duelling guitars that will guarantee you will be singing along.\n \nBERT HONOUR is a singer/guitarist/songwriter/wannabe pianist from Oxfordshire who is creatively misguided and undoubtedly foolish! A whisky-fuelled performer with a strong tendency to break strings\, glasses and eardrums. Everyone needs to see this man live. Energy\, dynamics and at the core\, insanely good song writing.\n 
URL:https://craftybelle.uk/event/james-st-live-lounge/
LOCATION:James St. Tavern\, 47-48 James Street\, Oxford\, Oxfordshire\, OX4 1EU\, United Kingdom
CATEGORIES:James St.
ATTACH;FMTTYPE=image/jpeg:https://craftybelle.uk/wp-content/uploads/2021/10/Live-Lounge-29.10-Banner2.jpg
END:VEVENT
BEGIN:VEVENT
DTSTART;TZID=Europe/London:20211030T210000
DTEND;TZID=Europe/London:20211030T233000
DTSTAMP:20260423T184655
CREATED:20211027T104326Z
LAST-MODIFIED:20211027T113843Z
UID:10000002-1635627600-1635636600@craftybelle.uk
SUMMARY:Quarry Katz
DESCRIPTION:The Quarry Katz mission is simple: to have the best time playing raw and dirty\, high energy\, 1950’s inspired Rock n Roll. Fuel your glass\, jump on the train and get ready for a rock’n’roll journey! You’ll be bobbin’.
URL:https://craftybelle.uk/event/quarry-katz/
LOCATION:James St. Tavern\, 47-48 James Street\, Oxford\, Oxfordshire\, OX4 1EU\, United Kingdom
CATEGORIES:James St.
ATTACH;FMTTYPE=image/jpeg:https://craftybelle.uk/wp-content/uploads/2021/10/Quarry-Katz-1.jpg
END:VEVENT
END:VCALENDAR