BEGIN:VCALENDAR
VERSION:2.0
PRODID:-//Crafty Belle Group - ECPv6.15.18//NONSGML v1.0//EN
CALSCALE:GREGORIAN
METHOD:PUBLISH
X-WR-CALNAME:Crafty Belle Group
X-ORIGINAL-URL:https://craftybelle.uk
X-WR-CALDESC:Events for Crafty Belle Group
REFRESH-INTERVAL;VALUE=DURATION:PT1H
X-Robots-Tag:noindex
X-PUBLISHED-TTL:PT1H
BEGIN:VTIMEZONE
TZID:Europe/London
BEGIN:DAYLIGHT
TZOFFSETFROM:+0000
TZOFFSETTO:+0100
TZNAME:BST
DTSTART:20200329T010000
END:DAYLIGHT
BEGIN:STANDARD
TZOFFSETFROM:+0100
TZOFFSETTO:+0000
TZNAME:GMT
DTSTART:20201025T010000
END:STANDARD
BEGIN:DAYLIGHT
TZOFFSETFROM:+0000
TZOFFSETTO:+0100
TZNAME:BST
DTSTART:20210328T010000
END:DAYLIGHT
BEGIN:STANDARD
TZOFFSETFROM:+0100
TZOFFSETTO:+0000
TZNAME:GMT
DTSTART:20211031T010000
END:STANDARD
BEGIN:DAYLIGHT
TZOFFSETFROM:+0000
TZOFFSETTO:+0100
TZNAME:BST
DTSTART:20220327T010000
END:DAYLIGHT
BEGIN:STANDARD
TZOFFSETFROM:+0100
TZOFFSETTO:+0000
TZNAME:GMT
DTSTART:20221030T010000
END:STANDARD
END:VTIMEZONE
BEGIN:VEVENT
DTSTART;TZID=Europe/London:20211105T210000
DTEND;TZID=Europe/London:20211105T230000
DTSTAMP:20260423T172504
CREATED:20211027T104931Z
LAST-MODIFIED:20211027T113835Z
UID:10000003-1636146000-1636153200@craftybelle.uk
SUMMARY:Two Man Ting
DESCRIPTION:http://www.twomanting.co.uk/\n\nTwoManTing was formed in 2004 when Sierra Leonean drummer Jah-man Aggrey\, and guitarist Jon Lewis were playing together as part of dance band\, Le Cod Afrique\, at venues such as Montreux Jazz Festival and WOMAD.\n\n \n\nThe duo immediately became a hit on the UK festival circuit with their brand of bouncy “Sunshine Afro-roots”. Shows have included Glastonbury\, Secret Garden Party\, Wilderness and Green Man Festivals to name but a few. Using guitar\, live loops and percussion the duo creates a highly danceable full band sound and their reputation has earned them recent support slots with the likes of Tinariwen\, The Oyster Band\, Edward 2 and Dub Colossus. Their music is often featured on BBC Radio 3 and 6Music.\n\n \n\nShows feature palm-wine\, acoustic dub and highlife grooves with thoughtful and thought-provoking lyrics on subjects ranging from childhood memories\, political protest and er….duvets.\n\n \n\nThe latest album “Rhymes with Orange” draws on a range of sounds from 1970s Sierra Leone to 1980s UK punk through to the Soukous beats of the Congo.\n\n \n\n“Brilliant – if you want a bit of early summer\, then get this into your ear-holes!”\n\n(Lauren Laverne\, BBC 6Music)\n\n \n\n“John Peel would play something like this on his programme and the world would suddenly seem a better place”\n\n(Steve Lamacq\, BBC 6Music)
URL:https://craftybelle.uk/event/two-man-ting/
LOCATION:James St. Tavern\, 47-48 James Street\, Oxford\, Oxfordshire\, OX4 1EU\, United Kingdom
CATEGORIES:James St.
ATTACH;FMTTYPE=image/jpeg:https://craftybelle.uk/wp-content/uploads/2021/10/Two-Man-Ting.jpg
END:VEVENT
BEGIN:VEVENT
DTSTART;TZID=Europe/London:20211106T203000
DTEND;TZID=Europe/London:20211106T223000
DTSTAMP:20260423T172504
CREATED:20211027T105728Z
LAST-MODIFIED:20220228T144422Z
UID:10000004-1636230600-1636237800@craftybelle.uk
SUMMARY:Scott Gordon Band
DESCRIPTION:The SGB are comin’ back to that lovely\, lovely James Street Tavern. Armed with the knowledge that their new record has just been released on an unsuspecting public a few weeks ago. You know what’s comin’ – original rootsy blues and western\, a Norn Iron accent\, rollin’ basslines\, some jazz-fuelled drums and that awesome Chicago dub blues harmonica! Come and catch them while ya still can! Find more information at https://www.reverbnation.com/thatscottfella
URL:https://craftybelle.uk/event/scott-gordon-band/2021-11-06/
LOCATION:James St. Tavern\, 47-48 James Street\, Oxford\, Oxfordshire\, OX4 1EU\, United Kingdom
CATEGORIES:James St.
ATTACH;FMTTYPE=image/jpeg:https://craftybelle.uk/wp-content/uploads/2021/10/Scott-Gordon-2.jpg
END:VEVENT
BEGIN:VEVENT
DTSTART;TZID=Europe/London:20211113T203000
DTEND;TZID=Europe/London:20211113T230000
DTSTAMP:20260423T172504
CREATED:20211027T110706Z
LAST-MODIFIED:20211027T113928Z
UID:10000006-1636835400-1636844400@craftybelle.uk
SUMMARY:Tom Dalby
DESCRIPTION:Tom Dalby will be back playing some cool covers and mashups as well as songs from his upcoming EP “live at Challow Park Studios”\n\nFor more information head to Tom’s Facebook Page: https://www.facebook.com/tomdalbymusic2/
URL:https://craftybelle.uk/event/tom-dalby/
LOCATION:James St. Tavern\, 47-48 James Street\, Oxford\, Oxfordshire\, OX4 1EU\, United Kingdom
CATEGORIES:James St.
ATTACH;FMTTYPE=image/jpeg:https://craftybelle.uk/wp-content/uploads/2021/10/Tom-Dalby-1.jpeg
END:VEVENT
BEGIN:VEVENT
DTSTART;TZID=Europe/London:20211119T210000
DTEND;TZID=Europe/London:20211119T230000
DTSTAMP:20260423T172504
CREATED:20211027T111803Z
LAST-MODIFIED:20211027T113753Z
UID:10000007-1637355600-1637362800@craftybelle.uk
SUMMARY:Mambo Panthers
DESCRIPTION:The Mambo Panthers are returning once again to James St!\n \nOxford’s favourite live Latin Band will be wowing you with a versatile and eclectic mixture of Cuban son\, Swing\, Cumbia\, Jazz\, Rock\, African rhythms and South American sounds.\n\nCheck out a recent performance with us here: https://fb.watch/8UXA-IW-ow/
URL:https://craftybelle.uk/event/mambo-panthers/
LOCATION:James St. Tavern\, 47-48 James Street\, Oxford\, Oxfordshire\, OX4 1EU\, United Kingdom
CATEGORIES:James St.
ATTACH;FMTTYPE=image/png:https://craftybelle.uk/wp-content/uploads/2021/10/Mambo-Panthers.png
END:VEVENT
BEGIN:VEVENT
DTSTART;TZID=Europe/London:20211120T200000
DTEND;TZID=Europe/London:20211120T220000
DTSTAMP:20260423T172504
CREATED:20211027T112109Z
LAST-MODIFIED:20211027T113740Z
UID:10000008-1637438400-1637445600@craftybelle.uk
SUMMARY:Dan Rawle
DESCRIPTION:Dan Rawle is a singer/guitarist combining a fun\, relaxed vibe and a boundless energy to bring you an eclectic range of music from the 50’s to modern day. An act not to be missed\, you’ll find yourself singing your hearts out and dancing the night away!
URL:https://craftybelle.uk/event/dan-rawle/
LOCATION:James St. Tavern\, 47-48 James Street\, Oxford\, Oxfordshire\, OX4 1EU\, United Kingdom
CATEGORIES:James St.
ATTACH;FMTTYPE=image/jpeg:https://craftybelle.uk/wp-content/uploads/2021/10/Dan-Rawle.jpg
END:VEVENT
BEGIN:VEVENT
DTSTART;TZID=Europe/London:20211126T203000
DTEND;TZID=Europe/London:20211126T230000
DTSTAMP:20260423T172504
CREATED:20211027T112737Z
LAST-MODIFIED:20211027T112738Z
UID:10000009-1637958600-1637967600@craftybelle.uk
SUMMARY:James St. Live Lounge
DESCRIPTION:More info TBC\, watch this space!
URL:https://craftybelle.uk/event/james-st-live-lounge-2/
LOCATION:James St. Tavern\, 47-48 James Street\, Oxford\, Oxfordshire\, OX4 1EU\, United Kingdom
CATEGORIES:James St.
END:VEVENT
END:VCALENDAR