BEGIN:VCALENDAR
VERSION:2.0
PRODID:-//Crafty Belle Group - ECPv6.15.18//NONSGML v1.0//EN
CALSCALE:GREGORIAN
METHOD:PUBLISH
X-WR-CALNAME:Crafty Belle Group
X-ORIGINAL-URL:https://craftybelle.uk
X-WR-CALDESC:Events for Crafty Belle Group
REFRESH-INTERVAL;VALUE=DURATION:PT1H
X-Robots-Tag:noindex
X-PUBLISHED-TTL:PT1H
BEGIN:VTIMEZONE
TZID:Europe/London
BEGIN:DAYLIGHT
TZOFFSETFROM:+0000
TZOFFSETTO:+0100
TZNAME:BST
DTSTART:20200329T010000
END:DAYLIGHT
BEGIN:STANDARD
TZOFFSETFROM:+0100
TZOFFSETTO:+0000
TZNAME:GMT
DTSTART:20201025T010000
END:STANDARD
BEGIN:DAYLIGHT
TZOFFSETFROM:+0000
TZOFFSETTO:+0100
TZNAME:BST
DTSTART:20210328T010000
END:DAYLIGHT
BEGIN:STANDARD
TZOFFSETFROM:+0100
TZOFFSETTO:+0000
TZNAME:GMT
DTSTART:20211031T010000
END:STANDARD
BEGIN:DAYLIGHT
TZOFFSETFROM:+0000
TZOFFSETTO:+0100
TZNAME:BST
DTSTART:20220327T010000
END:DAYLIGHT
BEGIN:STANDARD
TZOFFSETFROM:+0100
TZOFFSETTO:+0000
TZNAME:GMT
DTSTART:20221030T010000
END:STANDARD
END:VTIMEZONE
BEGIN:VEVENT
DTSTART;TZID=Europe/London:20211211T203000
DTEND;TZID=Europe/London:20211211T230000
DTSTAMP:20260423T184644
CREATED:20211027T113725Z
LAST-MODIFIED:20211027T114126Z
UID:10000010-1639254600-1639263600@craftybelle.uk
SUMMARY:Tom Dalby
DESCRIPTION:Tom Dalby will be back playing some cool covers and mashups as well as songs from his upcoming EP “live at Challow Park Studios” \nFor more information head to Tom’s Facebook Page: https://www.facebook.com/tomdalbymusic2/
URL:https://craftybelle.uk/event/tom-dalby-2/
LOCATION:James St. Tavern\, 47-48 James Street\, Oxford\, Oxfordshire\, OX4 1EU\, United Kingdom
CATEGORIES:James St.
ATTACH;FMTTYPE=image/jpeg:https://craftybelle.uk/wp-content/uploads/2021/10/Tom-Dalby-2.jpeg
END:VEVENT
BEGIN:VEVENT
DTSTART;TZID=Europe/London:20211217T210000
DTEND;TZID=Europe/London:20211217T233000
DTSTAMP:20260423T184644
CREATED:20211027T114651Z
LAST-MODIFIED:20211027T114652Z
UID:10000011-1639774800-1639783800@craftybelle.uk
SUMMARY:Quarry Katz Christmas Bonanza!
DESCRIPTION:The Quarry Katz mission is simple: to have the best time playing raw and dirty\, high energy\, 1950’s inspired Rock n Roll. Fuel your glass\, jump on the train and get ready for a rock’n’roll Christmas journey! You’ll be bobbin’.
URL:https://craftybelle.uk/event/quarry-katz-christmas-bonanza/
LOCATION:James St. Tavern\, 47-48 James Street\, Oxford\, Oxfordshire\, OX4 1EU\, United Kingdom
CATEGORIES:James St.
ATTACH;FMTTYPE=image/jpeg:https://craftybelle.uk/wp-content/uploads/2021/10/Quarry-Katz-1-1.jpg
END:VEVENT
END:VCALENDAR