BEGIN:VCALENDAR
VERSION:2.0
PRODID:-//Crafty Belle Group - ECPv6.15.18//NONSGML v1.0//EN
CALSCALE:GREGORIAN
METHOD:PUBLISH
X-WR-CALNAME:Crafty Belle Group
X-ORIGINAL-URL:https://craftybelle.uk
X-WR-CALDESC:Events for Crafty Belle Group
REFRESH-INTERVAL;VALUE=DURATION:PT1H
X-Robots-Tag:noindex
X-PUBLISHED-TTL:PT1H
BEGIN:VTIMEZONE
TZID:Europe/London
BEGIN:DAYLIGHT
TZOFFSETFROM:+0000
TZOFFSETTO:+0100
TZNAME:BST
DTSTART:20220327T010000
END:DAYLIGHT
BEGIN:STANDARD
TZOFFSETFROM:+0100
TZOFFSETTO:+0000
TZNAME:GMT
DTSTART:20221030T010000
END:STANDARD
BEGIN:DAYLIGHT
TZOFFSETFROM:+0000
TZOFFSETTO:+0100
TZNAME:BST
DTSTART:20230326T010000
END:DAYLIGHT
BEGIN:STANDARD
TZOFFSETFROM:+0100
TZOFFSETTO:+0000
TZNAME:GMT
DTSTART:20231029T010000
END:STANDARD
BEGIN:DAYLIGHT
TZOFFSETFROM:+0000
TZOFFSETTO:+0100
TZNAME:BST
DTSTART:20240331T010000
END:DAYLIGHT
BEGIN:STANDARD
TZOFFSETFROM:+0100
TZOFFSETTO:+0000
TZNAME:GMT
DTSTART:20241027T010000
END:STANDARD
END:VTIMEZONE
BEGIN:VEVENT
DTSTART;TZID=Europe/London:20230125T180000
DTEND;TZID=Europe/London:20230125T220000
DTSTAMP:20260424T204356
CREATED:20230113T164238Z
LAST-MODIFIED:20230113T170147Z
UID:10000516-1674669600-1674684000@craftybelle.uk
SUMMARY:Burns Night Supper
DESCRIPTION:Join us for our annual Burns Night celebration! \nHaggis\, neeps\, tatties\, bagpipes\, and a real life Scot addressing the haggis! \nSee the full menu here and call us on 01865 553549 to book a table!
URL:https://craftybelle.uk/event/burns-night-2023/
LOCATION:The Old Bookbinders\, 17-18 Victor Street\, Oxford\, Oxfordshire\, OX2 6BT\, United Kingdom
CATEGORIES:Bookbinders
ATTACH;FMTTYPE=image/jpeg:https://craftybelle.uk/wp-content/uploads/2023/01/Robert-Burns.jpg
END:VEVENT
BEGIN:VEVENT
DTSTART;TZID=Europe/London:20230126T200000
DTEND;TZID=Europe/London:20230126T223000
DTSTAMP:20260424T204356
CREATED:20220127T135042Z
LAST-MODIFIED:20241016T172722Z
UID:10000067-1674763200-1674772200@craftybelle.uk
SUMMARY:JST Comedy Open Mic
DESCRIPTION:The first (and best) Comedy Open Mic in Oxford\, JST’s Open Mic is the spot to see new emerging talent performing alongside tried and tested semi-pros. Every Thursday join our hosts Kryten Wolfgang and Torin Pocock and watch the hottest comedy from a mixture of old local favorites and some fresh-faced performers just starting out. You might even find the Next Big Thing right on your doorstep!\n \nFancy giving it a go? Want to come and try out new comedy material? Stand-Up? Sketch? Musical Comedy? Whatever you’ve got we want to see it. Feel free to message us with any questions you might have.\n \nNote to performers: The best way to test new material is in front of a good crowd\, so if you’d like to perform on the mic please share on social media\, spread the word\, and bring people along! The bigger and friendlier the crowd the better the show!
URL:https://craftybelle.uk/event/comedy/2023-01-26/
LOCATION:James St. Tavern\, 47-48 James Street\, Oxford\, Oxfordshire\, OX4 1EU\, United Kingdom
CATEGORIES:James St.
ATTACH;FMTTYPE=image/png:https://craftybelle.uk/wp-content/uploads/2024/08/Comedy-Chattering-teeth-square-e1729101522577.png
END:VEVENT
BEGIN:VEVENT
DTSTART;TZID=Europe/London:20230129T110000
DTEND;TZID=Europe/London:20230129T160000
DTSTAMP:20260424T204356
CREATED:20230113T172203Z
LAST-MODIFIED:20230113T172203Z
UID:10000517-1674990000-1675008000@craftybelle.uk
SUMMARY:January Art Market
DESCRIPTION:Our monthly Art Market is back! Come and join us 11am – 4pm in the Pavilion\, we’ll be serving up scrumptious breakfasts and fresh coffee from  Jericho Coffee Traders! \nStallholder information to follow. \nIf you’d like to apply for a stall please email Philip on phillip@thejamfactoryoxford.com
URL:https://craftybelle.uk/event/january-art-market/
LOCATION:James St. Tavern\, 47-48 James Street\, Oxford\, Oxfordshire\, OX4 1EU\, United Kingdom
ATTACH;FMTTYPE=image/jpeg:https://craftybelle.uk/wp-content/uploads/2023/01/January-Art-Market-2023.jpeg
END:VEVENT
BEGIN:VEVENT
DTSTART;TZID=Europe/London:20230129T143000
DTEND;TZID=Europe/London:20230129T183000
DTSTAMP:20260424T204356
CREATED:20220127T141805Z
LAST-MODIFIED:20220209T123751Z
UID:10000220-1675002600-1675017000@craftybelle.uk
SUMMARY:James St Open Mic
DESCRIPTION:The finest Open Mic this side of town! Hosted by the amazing Lee Bo. Join the best talent in Oxford\, have a sing\, or just sit and enjoy the vibes.\nWhat more could you want on a Sunday afternoon?
URL:https://craftybelle.uk/event/james-st-open-mic-2/2023-01-29/
LOCATION:James St. Tavern\, 47-48 James Street\, Oxford\, Oxfordshire\, OX4 1EU\, United Kingdom
CATEGORIES:James St.
ATTACH;FMTTYPE=image/jpeg:https://craftybelle.uk/wp-content/uploads/2022/01/Open-Mic-2.jpg
END:VEVENT
BEGIN:VEVENT
DTSTART;TZID=Europe/London:20230131T200000
DTEND;TZID=Europe/London:20230131T220000
DTSTAMP:20260424T204356
CREATED:20220127T143838Z
LAST-MODIFIED:20220209T124238Z
UID:10000370-1675195200-1675202400@craftybelle.uk
SUMMARY:Old Bookbinders Pub Quiz
DESCRIPTION:Our fiendish Pub Quiz comes in every Tuesday and helps raise funds for Helen & Douglas House\, Oxford’s local children’s hospice. 6 tricky rounds for you to answer\, hosted by our gorgeous Landlord Josh. £1 per person to enter\, liquid prizes for winners! PLEASE ARRIVE EARLY AS IT STARTS AT 8PM PROMPTLY!
URL:https://craftybelle.uk/event/old-bookbinders-pub-quiz/2023-01-31/
LOCATION:The Old Bookbinders\, 17-18 Victor Street\, Oxford\, Oxfordshire\, OX2 6BT\, United Kingdom
CATEGORIES:Bookbinders
ATTACH;FMTTYPE=image/png:https://craftybelle.uk/wp-content/uploads/2022/01/Helen-Douglas.png
END:VEVENT
BEGIN:VEVENT
DTSTART;TZID=Europe/London:20230201T200000
DTEND;TZID=Europe/London:20230201T220000
DTSTAMP:20260424T204356
CREATED:20230201T200859Z
LAST-MODIFIED:20230405T211238Z
UID:10000532-1675281600-1675288800@craftybelle.uk
SUMMARY:Bookies Open Mic
DESCRIPTION:EVERY OTHER WEDNESDAY \nThe best Open Mic in Jericho! Come and show off your skillset or just sit and enjoy some amazing local talent. \nHosted by the inimitable Lee Bo.
URL:https://craftybelle.uk/event/bookies-open-mic/2023-02-01/
LOCATION:The Old Bookbinders\, 17-18 Victor Street\, Oxford\, Oxfordshire\, OX2 6BT\, United Kingdom
CATEGORIES:Bookbinders
ATTACH;FMTTYPE=image/jpeg:https://craftybelle.uk/wp-content/uploads/2023/02/FB_IMG_1675281584649.jpg
END:VEVENT
BEGIN:VEVENT
DTSTART;TZID=Europe/London:20230202T200000
DTEND;TZID=Europe/London:20230202T223000
DTSTAMP:20260424T204356
CREATED:20220127T135042Z
LAST-MODIFIED:20241016T172722Z
UID:10000068-1675368000-1675377000@craftybelle.uk
SUMMARY:JST Comedy Open Mic
DESCRIPTION:The first (and best) Comedy Open Mic in Oxford\, JST’s Open Mic is the spot to see new emerging talent performing alongside tried and tested semi-pros. Every Thursday join our hosts Kryten Wolfgang and Torin Pocock and watch the hottest comedy from a mixture of old local favorites and some fresh-faced performers just starting out. You might even find the Next Big Thing right on your doorstep!\n \nFancy giving it a go? Want to come and try out new comedy material? Stand-Up? Sketch? Musical Comedy? Whatever you’ve got we want to see it. Feel free to message us with any questions you might have.\n \nNote to performers: The best way to test new material is in front of a good crowd\, so if you’d like to perform on the mic please share on social media\, spread the word\, and bring people along! The bigger and friendlier the crowd the better the show!
URL:https://craftybelle.uk/event/comedy/2023-02-02/
LOCATION:James St. Tavern\, 47-48 James Street\, Oxford\, Oxfordshire\, OX4 1EU\, United Kingdom
CATEGORIES:James St.
ATTACH;FMTTYPE=image/png:https://craftybelle.uk/wp-content/uploads/2024/08/Comedy-Chattering-teeth-square-e1729101522577.png
END:VEVENT
BEGIN:VEVENT
DTSTART;TZID=Europe/London:20230203T203000
DTEND;TZID=Europe/London:20230203T223000
DTSTAMP:20260424T204356
CREATED:20230201T195004Z
LAST-MODIFIED:20230201T195038Z
UID:10000529-1675456200-1675463400@craftybelle.uk
SUMMARY:Dan Rawle
DESCRIPTION:Dan Rawle is a singer/guitarist combining a fun\, relaxed vibe and a boundless energy to bring you an eclectic range of music from the 50’s to modern day. Creating an ideal atmosphere for any event\, from parties to background entertainment.
URL:https://craftybelle.uk/event/dan-rawle-3/2023-02-03/
LOCATION:James St. Tavern\, 47-48 James Street\, Oxford\, Oxfordshire\, OX4 1EU\, United Kingdom
CATEGORIES:James St.
ATTACH;FMTTYPE=image/jpeg:https://craftybelle.uk/wp-content/uploads/2021/10/Dan-Rawle.jpg
END:VEVENT
BEGIN:VEVENT
DTSTART;TZID=Europe/London:20230205T143000
DTEND;TZID=Europe/London:20230205T183000
DTSTAMP:20260424T204356
CREATED:20220127T141805Z
LAST-MODIFIED:20220209T123751Z
UID:10000221-1675607400-1675621800@craftybelle.uk
SUMMARY:James St Open Mic
DESCRIPTION:The finest Open Mic this side of town! Hosted by the amazing Lee Bo. Join the best talent in Oxford\, have a sing\, or just sit and enjoy the vibes.\nWhat more could you want on a Sunday afternoon?
URL:https://craftybelle.uk/event/james-st-open-mic-2/2023-02-05/
LOCATION:James St. Tavern\, 47-48 James Street\, Oxford\, Oxfordshire\, OX4 1EU\, United Kingdom
CATEGORIES:James St.
ATTACH;FMTTYPE=image/jpeg:https://craftybelle.uk/wp-content/uploads/2022/01/Open-Mic-2.jpg
END:VEVENT
BEGIN:VEVENT
DTSTART;TZID=Europe/London:20230207T200000
DTEND;TZID=Europe/London:20230207T220000
DTSTAMP:20260424T204356
CREATED:20220127T143838Z
LAST-MODIFIED:20220209T124238Z
UID:10000371-1675800000-1675807200@craftybelle.uk
SUMMARY:Old Bookbinders Pub Quiz
DESCRIPTION:Our fiendish Pub Quiz comes in every Tuesday and helps raise funds for Helen & Douglas House\, Oxford’s local children’s hospice. 6 tricky rounds for you to answer\, hosted by our gorgeous Landlord Josh. £1 per person to enter\, liquid prizes for winners! PLEASE ARRIVE EARLY AS IT STARTS AT 8PM PROMPTLY!
URL:https://craftybelle.uk/event/old-bookbinders-pub-quiz/2023-02-07/
LOCATION:The Old Bookbinders\, 17-18 Victor Street\, Oxford\, Oxfordshire\, OX2 6BT\, United Kingdom
CATEGORIES:Bookbinders
ATTACH;FMTTYPE=image/png:https://craftybelle.uk/wp-content/uploads/2022/01/Helen-Douglas.png
END:VEVENT
BEGIN:VEVENT
DTSTART;TZID=Europe/London:20230209T200000
DTEND;TZID=Europe/London:20230209T223000
DTSTAMP:20260424T204356
CREATED:20230201T191747Z
LAST-MODIFIED:20230201T191748Z
UID:10000069-1675972800-1675981800@craftybelle.uk
SUMMARY:JST Comedy Open Mic
DESCRIPTION:The first (and best) Comedy Open Mic in Oxford\, JST’s Open Mic is the spot to see new emerging talent performing alongside tried and tested semi-pros! Every Thursday join our host King Andy Gleeks and watch the hottest comedy from a mixture of old local favorites and some fresh-faced performers just starting out. You might even find the Next Big Thing right on your doorstep!\n \nFancy giving it a go? Want to come and try out new comedy material? Stand-Up? Sketch? Musical Comedy? Whatever you’ve got we want to see it. Feel free to message us with any questions you might have.\n \nNote to performers: The best way to test new material is in front of a good crowd\, so if you’d like to perform on the mic please share on social media\, spread the word\, and bring people along! The bigger and friendlier the crowd the better the show! Thanks
URL:https://craftybelle.uk/event/comedy-open-mic/2023-02-09/
LOCATION:James St. Tavern\, 47-48 James Street\, Oxford\, Oxfordshire\, OX4 1EU\, United Kingdom
CATEGORIES:James St.
END:VEVENT
BEGIN:VEVENT
DTSTART;TZID=Europe/London:20230211T120000
DTEND;TZID=Europe/London:20230211T140000
DTSTAMP:20260424T204356
CREATED:20230118T182442Z
LAST-MODIFIED:20230118T182549Z
UID:10000518-1676116800-1676124000@craftybelle.uk
SUMMARY:Wine Tasting!
DESCRIPTION:We’d like to invite you to our inaugural wine tasting event on Saturday 11th February in the gorgeous Pavilion at James Street Tavern. The afternoon will be hosted by Toby Chiles DipWSET and will consist of 9 wines with accompaniments. \nWine Tasting should be all about enjoying wine and having fun. Learn about wine with like-minded people in an un-stuffy way! \nThe afternoon will be educational yet fun\, with a focus on wine tasting techniques\, wine trivia and wine and food matching\, and we’ll even throw some surprises in along the way. No prior wine knowledge is required\, just a love of wine! \nDo you think red wine works with all cheeses? Why doesn’t fish work with red wine? Would a dab of salt on your tongue ruin a red wine? How do you cope with spicy food and wine? \nAll these questions\, and more\, can be answered on the day in a way you are sure to remember. \nPlaces are limited\, so book your places to avoid disappointment. Special introductory price of £30 per head.
URL:https://craftybelle.uk/event/wine-tasting/
LOCATION:James St. Tavern\, 47-48 James Street\, Oxford\, Oxfordshire\, OX4 1EU\, United Kingdom
CATEGORIES:James St.
ATTACH;FMTTYPE=image/jpeg:https://craftybelle.uk/wp-content/uploads/2023/01/Wine-tasting.jpg
END:VEVENT
BEGIN:VEVENT
DTSTART;TZID=Europe/London:20230212T143000
DTEND;TZID=Europe/London:20230212T183000
DTSTAMP:20260424T204356
CREATED:20220127T141805Z
LAST-MODIFIED:20220209T123751Z
UID:10000222-1676212200-1676226600@craftybelle.uk
SUMMARY:James St Open Mic
DESCRIPTION:The finest Open Mic this side of town! Hosted by the amazing Lee Bo. Join the best talent in Oxford\, have a sing\, or just sit and enjoy the vibes.\nWhat more could you want on a Sunday afternoon?
URL:https://craftybelle.uk/event/james-st-open-mic-2/2023-02-12/
LOCATION:James St. Tavern\, 47-48 James Street\, Oxford\, Oxfordshire\, OX4 1EU\, United Kingdom
CATEGORIES:James St.
ATTACH;FMTTYPE=image/jpeg:https://craftybelle.uk/wp-content/uploads/2022/01/Open-Mic-2.jpg
END:VEVENT
BEGIN:VEVENT
DTSTART;TZID=Europe/London:20230214T193000
DTEND;TZID=Europe/London:20230214T220000
DTSTAMP:20260424T204356
CREATED:20230131T191550Z
LAST-MODIFIED:20230131T192452Z
UID:10000523-1676403000-1676412000@craftybelle.uk
SUMMARY:Valentine's Day Comedy!
DESCRIPTION:Join us for a night of Valentine’s Comedy – from the deludedly happy to the broken artists. Tickets: Pay what you want. \nFeaturing:\nJenny Laville – Writer for the BBC\nNate Kitch – Basically award-winning “hints of munnery”\nAnna George\nPlus More! \nAll Hosted by King Kong MC Andy Gleeks \nTickets are by pay-what-you-can donation! \nDoors at 7:15pm – Show Starts 7:30pm
URL:https://craftybelle.uk/event/valentines-comedy/
LOCATION:James St. Tavern\, 47-48 James Street\, Oxford\, Oxfordshire\, OX4 1EU\, United Kingdom
CATEGORIES:James St.
END:VEVENT
BEGIN:VEVENT
DTSTART;TZID=Europe/London:20230214T200000
DTEND;TZID=Europe/London:20230214T220000
DTSTAMP:20260424T204356
CREATED:20220127T143838Z
LAST-MODIFIED:20220209T124238Z
UID:10000372-1676404800-1676412000@craftybelle.uk
SUMMARY:Old Bookbinders Pub Quiz
DESCRIPTION:Our fiendish Pub Quiz comes in every Tuesday and helps raise funds for Helen & Douglas House\, Oxford’s local children’s hospice. 6 tricky rounds for you to answer\, hosted by our gorgeous Landlord Josh. £1 per person to enter\, liquid prizes for winners! PLEASE ARRIVE EARLY AS IT STARTS AT 8PM PROMPTLY!
URL:https://craftybelle.uk/event/old-bookbinders-pub-quiz/2023-02-14/
LOCATION:The Old Bookbinders\, 17-18 Victor Street\, Oxford\, Oxfordshire\, OX2 6BT\, United Kingdom
CATEGORIES:Bookbinders
ATTACH;FMTTYPE=image/png:https://craftybelle.uk/wp-content/uploads/2022/01/Helen-Douglas.png
END:VEVENT
BEGIN:VEVENT
DTSTART;TZID=Europe/London:20230215T200000
DTEND;TZID=Europe/London:20230215T220000
DTSTAMP:20260424T204356
CREATED:20230201T200859Z
LAST-MODIFIED:20230405T211238Z
UID:10000533-1676491200-1676498400@craftybelle.uk
SUMMARY:Bookies Open Mic
DESCRIPTION:EVERY OTHER WEDNESDAY \nThe best Open Mic in Jericho! Come and show off your skillset or just sit and enjoy some amazing local talent. \nHosted by the inimitable Lee Bo.
URL:https://craftybelle.uk/event/bookies-open-mic/2023-02-15/
LOCATION:The Old Bookbinders\, 17-18 Victor Street\, Oxford\, Oxfordshire\, OX2 6BT\, United Kingdom
CATEGORIES:Bookbinders
ATTACH;FMTTYPE=image/jpeg:https://craftybelle.uk/wp-content/uploads/2023/02/FB_IMG_1675281584649.jpg
END:VEVENT
BEGIN:VEVENT
DTSTART;TZID=Europe/London:20230216T200000
DTEND;TZID=Europe/London:20230216T223000
DTSTAMP:20260424T204356
CREATED:20230201T191747Z
LAST-MODIFIED:20230201T191748Z
UID:10000070-1676577600-1676586600@craftybelle.uk
SUMMARY:JST Comedy Open Mic
DESCRIPTION:The first (and best) Comedy Open Mic in Oxford\, JST’s Open Mic is the spot to see new emerging talent performing alongside tried and tested semi-pros! Every Thursday join our host King Andy Gleeks and watch the hottest comedy from a mixture of old local favorites and some fresh-faced performers just starting out. You might even find the Next Big Thing right on your doorstep!\n \nFancy giving it a go? Want to come and try out new comedy material? Stand-Up? Sketch? Musical Comedy? Whatever you’ve got we want to see it. Feel free to message us with any questions you might have.\n \nNote to performers: The best way to test new material is in front of a good crowd\, so if you’d like to perform on the mic please share on social media\, spread the word\, and bring people along! The bigger and friendlier the crowd the better the show! Thanks
URL:https://craftybelle.uk/event/comedy-open-mic/2023-02-16/
LOCATION:James St. Tavern\, 47-48 James Street\, Oxford\, Oxfordshire\, OX4 1EU\, United Kingdom
CATEGORIES:James St.
END:VEVENT
BEGIN:VEVENT
DTSTART;TZID=Europe/London:20230219T143000
DTEND;TZID=Europe/London:20230219T183000
DTSTAMP:20260424T204356
CREATED:20220127T141805Z
LAST-MODIFIED:20220209T123751Z
UID:10000223-1676817000-1676831400@craftybelle.uk
SUMMARY:James St Open Mic
DESCRIPTION:The finest Open Mic this side of town! Hosted by the amazing Lee Bo. Join the best talent in Oxford\, have a sing\, or just sit and enjoy the vibes.\nWhat more could you want on a Sunday afternoon?
URL:https://craftybelle.uk/event/james-st-open-mic-2/2023-02-19/
LOCATION:James St. Tavern\, 47-48 James Street\, Oxford\, Oxfordshire\, OX4 1EU\, United Kingdom
CATEGORIES:James St.
ATTACH;FMTTYPE=image/jpeg:https://craftybelle.uk/wp-content/uploads/2022/01/Open-Mic-2.jpg
END:VEVENT
BEGIN:VEVENT
DTSTART;TZID=Europe/London:20230221T200000
DTEND;TZID=Europe/London:20230221T220000
DTSTAMP:20260424T204356
CREATED:20220127T143838Z
LAST-MODIFIED:20220209T124238Z
UID:10000373-1677009600-1677016800@craftybelle.uk
SUMMARY:Old Bookbinders Pub Quiz
DESCRIPTION:Our fiendish Pub Quiz comes in every Tuesday and helps raise funds for Helen & Douglas House\, Oxford’s local children’s hospice. 6 tricky rounds for you to answer\, hosted by our gorgeous Landlord Josh. £1 per person to enter\, liquid prizes for winners! PLEASE ARRIVE EARLY AS IT STARTS AT 8PM PROMPTLY!
URL:https://craftybelle.uk/event/old-bookbinders-pub-quiz/2023-02-21/
LOCATION:The Old Bookbinders\, 17-18 Victor Street\, Oxford\, Oxfordshire\, OX2 6BT\, United Kingdom
CATEGORIES:Bookbinders
ATTACH;FMTTYPE=image/png:https://craftybelle.uk/wp-content/uploads/2022/01/Helen-Douglas.png
END:VEVENT
BEGIN:VEVENT
DTSTART;TZID=Europe/London:20230223T200000
DTEND;TZID=Europe/London:20230223T223000
DTSTAMP:20260424T204356
CREATED:20230201T191747Z
LAST-MODIFIED:20230201T191748Z
UID:10000071-1677182400-1677191400@craftybelle.uk
SUMMARY:JST Comedy Open Mic
DESCRIPTION:The first (and best) Comedy Open Mic in Oxford\, JST’s Open Mic is the spot to see new emerging talent performing alongside tried and tested semi-pros! Every Thursday join our host King Andy Gleeks and watch the hottest comedy from a mixture of old local favorites and some fresh-faced performers just starting out. You might even find the Next Big Thing right on your doorstep!\n \nFancy giving it a go? Want to come and try out new comedy material? Stand-Up? Sketch? Musical Comedy? Whatever you’ve got we want to see it. Feel free to message us with any questions you might have.\n \nNote to performers: The best way to test new material is in front of a good crowd\, so if you’d like to perform on the mic please share on social media\, spread the word\, and bring people along! The bigger and friendlier the crowd the better the show! Thanks
URL:https://craftybelle.uk/event/comedy-open-mic/2023-02-23/
LOCATION:James St. Tavern\, 47-48 James Street\, Oxford\, Oxfordshire\, OX4 1EU\, United Kingdom
CATEGORIES:James St.
END:VEVENT
BEGIN:VEVENT
DTSTART;TZID=Europe/London:20230224T203000
DTEND;TZID=Europe/London:20230224T230000
DTSTAMP:20260424T204356
CREATED:20230222T185719Z
LAST-MODIFIED:20230222T190240Z
UID:10000544-1677270600-1677279600@craftybelle.uk
SUMMARY:JST Live Lounge
DESCRIPTION:We’re back and we’re hitting you up with our monthly Live Lounge! Three amazing local acts performing for you lovely lot. \n8.30pm: Rising Panic – Acoustic singer songwriter with Frank Turner vibes to kick off \n9.15pm: George Mackay – Must see George has his JST debut\, think Jake Bugg meets Bob Dylan \n10pm: High Horse – Americana four piece of the highest quality to rock the stage as only they can do \nAs ever\, free entry!
URL:https://craftybelle.uk/event/jst-live-lounge-3/
LOCATION:James St. Tavern\, 47-48 James Street\, Oxford\, Oxfordshire\, OX4 1EU\, United Kingdom
CATEGORIES:James St.
ATTACH;FMTTYPE=image/jpeg:https://craftybelle.uk/wp-content/uploads/2023/02/February-Live-Lounge.jpg
END:VEVENT
BEGIN:VEVENT
DTSTART;TZID=Europe/London:20230225T203000
DTEND;TZID=Europe/London:20230225T223000
DTSTAMP:20260424T204356
CREATED:20230222T191008Z
LAST-MODIFIED:20230222T191512Z
UID:10000545-1677357000-1677364200@craftybelle.uk
SUMMARY:Sean Duggan
DESCRIPTION:Alt-country legend Sean Duggan returns with his melodic pop-hooks and lyrical narrative of his Connecticut home. Sean cut his teeth across Europe and the US as part of the Folk/Americana duo\, Loud Mountains\, a Clubhouse Records Favourite. \nSean is well known as the frontman of Steady Habits who’s debut EP\, ‘Hold In Your Breath’\, was released in early 2020. A rumbling confessional blasting out onto an open landscape\, the EP is contemplative\, exploring relationships & coming to grips with the past. Steady Habits has moved from strength to strength securing bookings with AMAUK and readying material for release in 2022. \n“An excellent new band with tremendous potential…an exciting blend of 90’s nostalgia.” \n-The Americana Music Network \n“It is in the balladry that the EP has its heart…Steady Habits show that they have something really special to offer.” \n-Yorkshire Times 
URL:https://craftybelle.uk/event/sean-duggan/
LOCATION:James St. Tavern\, 47-48 James Street\, Oxford\, Oxfordshire\, OX4 1EU\, United Kingdom
CATEGORIES:James St.
ATTACH;FMTTYPE=image/jpeg:https://craftybelle.uk/wp-content/uploads/2023/02/Sean-Duggan.jpg
END:VEVENT
BEGIN:VEVENT
DTSTART;TZID=Europe/London:20230226T110000
DTEND;TZID=Europe/London:20230226T160000
DTSTAMP:20260424T204356
CREATED:20230222T192734Z
LAST-MODIFIED:20230222T192823Z
UID:10000546-1677409200-1677427200@craftybelle.uk
SUMMARY:February Art Market
DESCRIPTION:Our monthly Art Market is back! Come and join us 11am – 4pm in the Pavilion\, we’ll be serving up scrumptious breakfasts and fresh coffee from  Jericho Coffee Traders! \nStallholder information to follow. \nIf you’d like to apply for a stall please email Philip on phillip@thejamfactoryoxford.com
URL:https://craftybelle.uk/event/february-art-market/
LOCATION:James St. Tavern\, 47-48 James Street\, Oxford\, Oxfordshire\, OX4 1EU\, United Kingdom
CATEGORIES:James St.
ATTACH;FMTTYPE=image/jpeg:https://craftybelle.uk/wp-content/uploads/2023/02/February-Art-market-instagram-SMALL-2.jpg
END:VEVENT
BEGIN:VEVENT
DTSTART;TZID=Europe/London:20230226T143000
DTEND;TZID=Europe/London:20230226T183000
DTSTAMP:20260424T204356
CREATED:20220127T141805Z
LAST-MODIFIED:20220209T123751Z
UID:10000224-1677421800-1677436200@craftybelle.uk
SUMMARY:James St Open Mic
DESCRIPTION:The finest Open Mic this side of town! Hosted by the amazing Lee Bo. Join the best talent in Oxford\, have a sing\, or just sit and enjoy the vibes.\nWhat more could you want on a Sunday afternoon?
URL:https://craftybelle.uk/event/james-st-open-mic-2/2023-02-26/
LOCATION:James St. Tavern\, 47-48 James Street\, Oxford\, Oxfordshire\, OX4 1EU\, United Kingdom
CATEGORIES:James St.
ATTACH;FMTTYPE=image/jpeg:https://craftybelle.uk/wp-content/uploads/2022/01/Open-Mic-2.jpg
END:VEVENT
BEGIN:VEVENT
DTSTART;TZID=Europe/London:20230228T193000
DTEND;TZID=Europe/London:20230228T220000
DTSTAMP:20260424T204356
CREATED:20230118T210235Z
LAST-MODIFIED:20230118T210258Z
UID:10000519-1677612600-1677621600@craftybelle.uk
SUMMARY:Comedy Ladder LAUNCH NIGHT
DESCRIPTION:Our NEW fortnightly comedy night hosted by Comedy Ladder! \nProfessional Comedians trying out new jokes & semi-pros honing their best material. \nTONIGHT’S LINE-UP \nSteve McLean\nAlex Milner\n Andy Gleeks \nAnna Dominey \n+ Ryan Mold MC \nFOR TICKETS AND FULL LIST OF EVENTS HEAD TO comedyladder.co.uk
URL:https://craftybelle.uk/event/comedy-ladder/
LOCATION:James St. Tavern\, 47-48 James Street\, Oxford\, Oxfordshire\, OX4 1EU\, United Kingdom
ATTACH;FMTTYPE=image/jpeg:https://craftybelle.uk/wp-content/uploads/2023/01/Comedy-Ladder-Poster.jpg
END:VEVENT
BEGIN:VEVENT
DTSTART;TZID=Europe/London:20230228T200000
DTEND;TZID=Europe/London:20230228T220000
DTSTAMP:20260424T204356
CREATED:20220127T143838Z
LAST-MODIFIED:20220209T124238Z
UID:10000374-1677614400-1677621600@craftybelle.uk
SUMMARY:Old Bookbinders Pub Quiz
DESCRIPTION:Our fiendish Pub Quiz comes in every Tuesday and helps raise funds for Helen & Douglas House\, Oxford’s local children’s hospice. 6 tricky rounds for you to answer\, hosted by our gorgeous Landlord Josh. £1 per person to enter\, liquid prizes for winners! PLEASE ARRIVE EARLY AS IT STARTS AT 8PM PROMPTLY!
URL:https://craftybelle.uk/event/old-bookbinders-pub-quiz/2023-02-28/
LOCATION:The Old Bookbinders\, 17-18 Victor Street\, Oxford\, Oxfordshire\, OX2 6BT\, United Kingdom
CATEGORIES:Bookbinders
ATTACH;FMTTYPE=image/png:https://craftybelle.uk/wp-content/uploads/2022/01/Helen-Douglas.png
END:VEVENT
BEGIN:VEVENT
DTSTART;TZID=Europe/London:20230301T200000
DTEND;TZID=Europe/London:20230301T220000
DTSTAMP:20260424T204356
CREATED:20230201T200859Z
LAST-MODIFIED:20230405T211238Z
UID:10000534-1677700800-1677708000@craftybelle.uk
SUMMARY:Bookies Open Mic
DESCRIPTION:EVERY OTHER WEDNESDAY \nThe best Open Mic in Jericho! Come and show off your skillset or just sit and enjoy some amazing local talent. \nHosted by the inimitable Lee Bo.
URL:https://craftybelle.uk/event/bookies-open-mic/2023-03-01/
LOCATION:The Old Bookbinders\, 17-18 Victor Street\, Oxford\, Oxfordshire\, OX2 6BT\, United Kingdom
CATEGORIES:Bookbinders
ATTACH;FMTTYPE=image/jpeg:https://craftybelle.uk/wp-content/uploads/2023/02/FB_IMG_1675281584649.jpg
END:VEVENT
BEGIN:VEVENT
DTSTART;TZID=Europe/London:20230302T200000
DTEND;TZID=Europe/London:20230302T223000
DTSTAMP:20260424T204356
CREATED:20230201T191747Z
LAST-MODIFIED:20230201T191748Z
UID:10000072-1677787200-1677796200@craftybelle.uk
SUMMARY:JST Comedy Open Mic
DESCRIPTION:The first (and best) Comedy Open Mic in Oxford\, JST’s Open Mic is the spot to see new emerging talent performing alongside tried and tested semi-pros! Every Thursday join our host King Andy Gleeks and watch the hottest comedy from a mixture of old local favorites and some fresh-faced performers just starting out. You might even find the Next Big Thing right on your doorstep!\n \nFancy giving it a go? Want to come and try out new comedy material? Stand-Up? Sketch? Musical Comedy? Whatever you’ve got we want to see it. Feel free to message us with any questions you might have.\n \nNote to performers: The best way to test new material is in front of a good crowd\, so if you’d like to perform on the mic please share on social media\, spread the word\, and bring people along! The bigger and friendlier the crowd the better the show! Thanks
URL:https://craftybelle.uk/event/comedy-open-mic/2023-03-02/
LOCATION:James St. Tavern\, 47-48 James Street\, Oxford\, Oxfordshire\, OX4 1EU\, United Kingdom
CATEGORIES:James St.
END:VEVENT
BEGIN:VEVENT
DTSTART;TZID=Europe/London:20230305T143000
DTEND;TZID=Europe/London:20230305T183000
DTSTAMP:20260424T204356
CREATED:20220127T141805Z
LAST-MODIFIED:20220209T123751Z
UID:10000225-1678026600-1678041000@craftybelle.uk
SUMMARY:James St Open Mic
DESCRIPTION:The finest Open Mic this side of town! Hosted by the amazing Lee Bo. Join the best talent in Oxford\, have a sing\, or just sit and enjoy the vibes.\nWhat more could you want on a Sunday afternoon?
URL:https://craftybelle.uk/event/james-st-open-mic-2/2023-03-05/
LOCATION:James St. Tavern\, 47-48 James Street\, Oxford\, Oxfordshire\, OX4 1EU\, United Kingdom
CATEGORIES:James St.
ATTACH;FMTTYPE=image/jpeg:https://craftybelle.uk/wp-content/uploads/2022/01/Open-Mic-2.jpg
END:VEVENT
BEGIN:VEVENT
DTSTART;VALUE=DATE:20230307
DTEND;VALUE=DATE:20230308
DTSTAMP:20260424T204356
CREATED:20230131T145408Z
LAST-MODIFIED:20230131T145408Z
UID:10000522-1678147200-1678233599@craftybelle.uk
SUMMARY:CLOSED FOR PRIVATE HIRE
DESCRIPTION:
URL:https://craftybelle.uk/event/closed-for-private-hire/
LOCATION:James St. Tavern\, 47-48 James Street\, Oxford\, Oxfordshire\, OX4 1EU\, United Kingdom
CATEGORIES:James St.
ATTACH;FMTTYPE=image/jpeg:https://craftybelle.uk/wp-content/uploads/2023/01/CLOSED-for-Private-Hire.jpg
END:VEVENT
END:VCALENDAR