BEGIN:VCALENDAR
VERSION:2.0
PRODID:-//Crafty Belle Group - ECPv6.15.18//NONSGML v1.0//EN
CALSCALE:GREGORIAN
METHOD:PUBLISH
X-ORIGINAL-URL:https://craftybelle.uk
X-WR-CALDESC:Events for Crafty Belle Group
REFRESH-INTERVAL;VALUE=DURATION:PT1H
X-Robots-Tag:noindex
X-PUBLISHED-TTL:PT1H
BEGIN:VTIMEZONE
TZID:Europe/London
BEGIN:DAYLIGHT
TZOFFSETFROM:+0000
TZOFFSETTO:+0100
TZNAME:BST
DTSTART:20220327T010000
END:DAYLIGHT
BEGIN:STANDARD
TZOFFSETFROM:+0100
TZOFFSETTO:+0000
TZNAME:GMT
DTSTART:20221030T010000
END:STANDARD
BEGIN:DAYLIGHT
TZOFFSETFROM:+0000
TZOFFSETTO:+0100
TZNAME:BST
DTSTART:20230326T010000
END:DAYLIGHT
BEGIN:STANDARD
TZOFFSETFROM:+0100
TZOFFSETTO:+0000
TZNAME:GMT
DTSTART:20231029T010000
END:STANDARD
BEGIN:DAYLIGHT
TZOFFSETFROM:+0000
TZOFFSETTO:+0100
TZNAME:BST
DTSTART:20240331T010000
END:DAYLIGHT
BEGIN:STANDARD
TZOFFSETFROM:+0100
TZOFFSETTO:+0000
TZNAME:GMT
DTSTART:20241027T010000
END:STANDARD
END:VTIMEZONE
BEGIN:VEVENT
DTSTART;TZID=Europe/London:20230315T200000
DTEND;TZID=Europe/London:20230315T220000
DTSTAMP:20260425T003109
CREATED:20230201T200859Z
LAST-MODIFIED:20230405T211238Z
UID:10000535-1678910400-1678917600@craftybelle.uk
SUMMARY:Bookies Open Mic
DESCRIPTION:EVERY OTHER WEDNESDAY \nThe best Open Mic in Jericho! Come and show off your skillset or just sit and enjoy some amazing local talent. \nHosted by the inimitable Lee Bo.
URL:https://craftybelle.uk/event/bookies-open-mic/2023-03-15/
LOCATION:The Old Bookbinders\, 17-18 Victor Street\, Oxford\, Oxfordshire\, OX2 6BT\, United Kingdom
CATEGORIES:Bookbinders
ATTACH;FMTTYPE=image/jpeg:https://craftybelle.uk/wp-content/uploads/2023/02/FB_IMG_1675281584649.jpg
END:VEVENT
BEGIN:VEVENT
DTSTART;TZID=Europe/London:20230316T200000
DTEND;TZID=Europe/London:20230316T223000
DTSTAMP:20260425T003109
CREATED:20230201T191747Z
LAST-MODIFIED:20230201T191748Z
UID:10000074-1678996800-1679005800@craftybelle.uk
SUMMARY:JST Comedy Open Mic
DESCRIPTION:The first (and best) Comedy Open Mic in Oxford\, JST’s Open Mic is the spot to see new emerging talent performing alongside tried and tested semi-pros! Every Thursday join our host King Andy Gleeks and watch the hottest comedy from a mixture of old local favorites and some fresh-faced performers just starting out. You might even find the Next Big Thing right on your doorstep!\n \nFancy giving it a go? Want to come and try out new comedy material? Stand-Up? Sketch? Musical Comedy? Whatever you’ve got we want to see it. Feel free to message us with any questions you might have.\n \nNote to performers: The best way to test new material is in front of a good crowd\, so if you’d like to perform on the mic please share on social media\, spread the word\, and bring people along! The bigger and friendlier the crowd the better the show! Thanks
URL:https://craftybelle.uk/event/comedy-open-mic/2023-03-16/
LOCATION:James St. Tavern\, 47-48 James Street\, Oxford\, Oxfordshire\, OX4 1EU\, United Kingdom
CATEGORIES:James St.
END:VEVENT
BEGIN:VEVENT
DTSTART;TZID=Europe/London:20230317T213000
DTEND;TZID=Europe/London:20230317T233000
DTSTAMP:20260425T003109
CREATED:20230304T225743Z
LAST-MODIFIED:20230304T225744Z
UID:10000547-1679088600-1679095800@craftybelle.uk
SUMMARY:St Patrick's Day with Moonaroon
DESCRIPTION:Founded in a pub in Oxford\, Moonaroon have been performing together since 2019\, bringing their own unique mix of folk music traditions to audiences around the UK. \nMoonaroon’s sound is a midpoint between several traditional styles of music\, with their aim being to present music that is as much of a elting pot as the British Isles they come from. \nWith a unique talent for arranging both songs and instrumental tunes\, Moonaroon aim to bring a new sound to music from hundreds of years ago\, adding new life into a revitalised folk tradition. \nMoonaroon are releasing an EP titled ‘More in Store’ in early 2023 and will be playing a series of EP launch shows across the UK.
URL:https://craftybelle.uk/event/moonaroon/
LOCATION:James St. Tavern\, 47-48 James Street\, Oxford\, Oxfordshire\, OX4 1EU\, United Kingdom
CATEGORIES:James St.
ATTACH;FMTTYPE=image/jpeg:https://craftybelle.uk/wp-content/uploads/2023/03/Moonaroon.jpeg
END:VEVENT
BEGIN:VEVENT
DTSTART;TZID=Europe/London:20230318T203000
DTEND;TZID=Europe/London:20230318T223000
DTSTAMP:20260425T003109
CREATED:20230313T143940Z
LAST-MODIFIED:20230313T143940Z
UID:10000549-1679171400-1679178600@craftybelle.uk
SUMMARY:St Patrick's Day 2.0 with The Jesters!
DESCRIPTION:Continuing our St Paddy’s Folk Weekend we have The Jesters! \n  \nJesters are a three-piece psychedelic folk band\, mixing their own songs with rabble-rousing fiddle and guitar tunes. They also perform complete remakes of traditional ballads\, and adapt European folk melodies from Poland to Greece. And they’ve played at three Cornbury Music Festivals\, as well as at dozens of pub and club venues in Oxfordshire and further afield\, and at music festivals in Filey\, Fishguard\, Glastonbury\, Paignton\, Poole\, Weymouth and elsewhere.
URL:https://craftybelle.uk/event/st-patricks-day-2-0-with-the-jesters/
LOCATION:James St. Tavern\, 47-48 James Street\, Oxford\, Oxfordshire\, OX4 1EU\, United Kingdom
CATEGORIES:James St.
ATTACH;FMTTYPE=image/jpeg:https://craftybelle.uk/wp-content/uploads/2023/03/Jesters.jpg
END:VEVENT
BEGIN:VEVENT
DTSTART;TZID=Europe/London:20230319T143000
DTEND;TZID=Europe/London:20230319T183000
DTSTAMP:20260425T003109
CREATED:20220127T141805Z
LAST-MODIFIED:20220209T123751Z
UID:10000227-1679236200-1679250600@craftybelle.uk
SUMMARY:James St Open Mic
DESCRIPTION:The finest Open Mic this side of town! Hosted by the amazing Lee Bo. Join the best talent in Oxford\, have a sing\, or just sit and enjoy the vibes.\nWhat more could you want on a Sunday afternoon?
URL:https://craftybelle.uk/event/james-st-open-mic-2/2023-03-19/
LOCATION:James St. Tavern\, 47-48 James Street\, Oxford\, Oxfordshire\, OX4 1EU\, United Kingdom
CATEGORIES:James St.
ATTACH;FMTTYPE=image/jpeg:https://craftybelle.uk/wp-content/uploads/2022/01/Open-Mic-2.jpg
END:VEVENT
BEGIN:VEVENT
DTSTART;TZID=Europe/London:20230319T190000
DTEND;TZID=Europe/London:20230319T210000
DTSTAMP:20260425T003109
CREATED:20230313T150431Z
LAST-MODIFIED:20230313T151018Z
UID:10000550-1679252400-1679259600@craftybelle.uk
SUMMARY:Salsa Night with Mambo Tropical
DESCRIPTION:Mambo Tropical are an authentic 7-piece Salsa Band based in Oxford. Playing songs from across the Latin/ Caribbean diaspora\, this group mixes all the flavour of AfroCuban percussion\, punchy vocals & 3-piece horn section into just 7 players. If you like to dance Salsa or just want to listen to this exciting music live\, come & join us.
URL:https://craftybelle.uk/event/mambo-tropical/
LOCATION:James St. Tavern\, 47-48 James Street\, Oxford\, Oxfordshire\, OX4 1EU\, United Kingdom
CATEGORIES:James St.
ATTACH;FMTTYPE=image/jpeg:https://craftybelle.uk/wp-content/uploads/2023/03/Mambo-Tropical-e1678719800116.jpg
END:VEVENT
BEGIN:VEVENT
DTSTART;TZID=Europe/London:20230321T200000
DTEND;TZID=Europe/London:20230321T220000
DTSTAMP:20260425T003109
CREATED:20220127T143838Z
LAST-MODIFIED:20220209T124238Z
UID:10000377-1679428800-1679436000@craftybelle.uk
SUMMARY:Old Bookbinders Pub Quiz
DESCRIPTION:Our fiendish Pub Quiz comes in every Tuesday and helps raise funds for Helen & Douglas House\, Oxford’s local children’s hospice. 6 tricky rounds for you to answer\, hosted by our gorgeous Landlord Josh. £1 per person to enter\, liquid prizes for winners! PLEASE ARRIVE EARLY AS IT STARTS AT 8PM PROMPTLY!
URL:https://craftybelle.uk/event/old-bookbinders-pub-quiz/2023-03-21/
LOCATION:The Old Bookbinders\, 17-18 Victor Street\, Oxford\, Oxfordshire\, OX2 6BT\, United Kingdom
CATEGORIES:Bookbinders
ATTACH;FMTTYPE=image/png:https://craftybelle.uk/wp-content/uploads/2022/01/Helen-Douglas.png
END:VEVENT
BEGIN:VEVENT
DTSTART;TZID=Europe/London:20230323T200000
DTEND;TZID=Europe/London:20230323T223000
DTSTAMP:20260425T003109
CREATED:20230201T191747Z
LAST-MODIFIED:20230201T191748Z
UID:10000075-1679601600-1679610600@craftybelle.uk
SUMMARY:JST Comedy Open Mic
DESCRIPTION:The first (and best) Comedy Open Mic in Oxford\, JST’s Open Mic is the spot to see new emerging talent performing alongside tried and tested semi-pros! Every Thursday join our host King Andy Gleeks and watch the hottest comedy from a mixture of old local favorites and some fresh-faced performers just starting out. You might even find the Next Big Thing right on your doorstep!\n \nFancy giving it a go? Want to come and try out new comedy material? Stand-Up? Sketch? Musical Comedy? Whatever you’ve got we want to see it. Feel free to message us with any questions you might have.\n \nNote to performers: The best way to test new material is in front of a good crowd\, so if you’d like to perform on the mic please share on social media\, spread the word\, and bring people along! The bigger and friendlier the crowd the better the show! Thanks
URL:https://craftybelle.uk/event/comedy-open-mic/2023-03-23/
LOCATION:James St. Tavern\, 47-48 James Street\, Oxford\, Oxfordshire\, OX4 1EU\, United Kingdom
CATEGORIES:James St.
END:VEVENT
BEGIN:VEVENT
DTSTART;TZID=Europe/London:20230326T143000
DTEND;TZID=Europe/London:20230326T183000
DTSTAMP:20260425T003109
CREATED:20220127T141805Z
LAST-MODIFIED:20220209T123751Z
UID:10000228-1679841000-1679855400@craftybelle.uk
SUMMARY:James St Open Mic
DESCRIPTION:The finest Open Mic this side of town! Hosted by the amazing Lee Bo. Join the best talent in Oxford\, have a sing\, or just sit and enjoy the vibes.\nWhat more could you want on a Sunday afternoon?
URL:https://craftybelle.uk/event/james-st-open-mic-2/2023-03-26/
LOCATION:James St. Tavern\, 47-48 James Street\, Oxford\, Oxfordshire\, OX4 1EU\, United Kingdom
CATEGORIES:James St.
ATTACH;FMTTYPE=image/jpeg:https://craftybelle.uk/wp-content/uploads/2022/01/Open-Mic-2.jpg
END:VEVENT
BEGIN:VEVENT
DTSTART;TZID=Europe/London:20230328T193000
DTEND;TZID=Europe/London:20230328T220000
DTSTAMP:20260425T003109
CREATED:20230125T225417Z
LAST-MODIFIED:20230313T143506Z
UID:10000521-1680031800-1680040800@craftybelle.uk
SUMMARY:Comedy Ladder #3
DESCRIPTION:Our NEW fortnightly comedy night hosted by Comedy Ladder! \nProfessional Comedians trying out new jokes & semi-pros honing their best material. \nTONIGHT’S LINE-UP \nEd Patrick\nMango Stone\nAndy Gleeks\nTorin Pocock\n+ Ryan Mold MC \nFOR TICKETS AND FULL LIST OF EVENTS HEAD TO comedyladder.co.uk
URL:https://craftybelle.uk/event/comedy-ladder-3/
LOCATION:James St. Tavern\, 47-48 James Street\, Oxford\, Oxfordshire\, OX4 1EU\, United Kingdom
CATEGORIES:James St.
ATTACH;FMTTYPE=image/jpeg:https://craftybelle.uk/wp-content/uploads/2023/01/Comedy-Ladder-Poster.jpg
END:VEVENT
BEGIN:VEVENT
DTSTART;TZID=Europe/London:20230328T200000
DTEND;TZID=Europe/London:20230328T220000
DTSTAMP:20260425T003109
CREATED:20220127T143838Z
LAST-MODIFIED:20220209T124238Z
UID:10000378-1680033600-1680040800@craftybelle.uk
SUMMARY:Old Bookbinders Pub Quiz
DESCRIPTION:Our fiendish Pub Quiz comes in every Tuesday and helps raise funds for Helen & Douglas House\, Oxford’s local children’s hospice. 6 tricky rounds for you to answer\, hosted by our gorgeous Landlord Josh. £1 per person to enter\, liquid prizes for winners! PLEASE ARRIVE EARLY AS IT STARTS AT 8PM PROMPTLY!
URL:https://craftybelle.uk/event/old-bookbinders-pub-quiz/2023-03-28/
LOCATION:The Old Bookbinders\, 17-18 Victor Street\, Oxford\, Oxfordshire\, OX2 6BT\, United Kingdom
CATEGORIES:Bookbinders
ATTACH;FMTTYPE=image/png:https://craftybelle.uk/wp-content/uploads/2022/01/Helen-Douglas.png
END:VEVENT
BEGIN:VEVENT
DTSTART;TZID=Europe/London:20230329T200000
DTEND;TZID=Europe/London:20230329T220000
DTSTAMP:20260425T003109
CREATED:20230201T200859Z
LAST-MODIFIED:20230405T211238Z
UID:10000536-1680120000-1680127200@craftybelle.uk
SUMMARY:Bookies Open Mic
DESCRIPTION:EVERY OTHER WEDNESDAY \nThe best Open Mic in Jericho! Come and show off your skillset or just sit and enjoy some amazing local talent. \nHosted by the inimitable Lee Bo.
URL:https://craftybelle.uk/event/bookies-open-mic/2023-03-29/
LOCATION:The Old Bookbinders\, 17-18 Victor Street\, Oxford\, Oxfordshire\, OX2 6BT\, United Kingdom
CATEGORIES:Bookbinders
ATTACH;FMTTYPE=image/jpeg:https://craftybelle.uk/wp-content/uploads/2023/02/FB_IMG_1675281584649.jpg
END:VEVENT
BEGIN:VEVENT
DTSTART;TZID=Europe/London:20230330T200000
DTEND;TZID=Europe/London:20230330T223000
DTSTAMP:20260425T003109
CREATED:20230201T191747Z
LAST-MODIFIED:20230201T191748Z
UID:10000076-1680206400-1680215400@craftybelle.uk
SUMMARY:JST Comedy Open Mic
DESCRIPTION:The first (and best) Comedy Open Mic in Oxford\, JST’s Open Mic is the spot to see new emerging talent performing alongside tried and tested semi-pros! Every Thursday join our host King Andy Gleeks and watch the hottest comedy from a mixture of old local favorites and some fresh-faced performers just starting out. You might even find the Next Big Thing right on your doorstep!\n \nFancy giving it a go? Want to come and try out new comedy material? Stand-Up? Sketch? Musical Comedy? Whatever you’ve got we want to see it. Feel free to message us with any questions you might have.\n \nNote to performers: The best way to test new material is in front of a good crowd\, so if you’d like to perform on the mic please share on social media\, spread the word\, and bring people along! The bigger and friendlier the crowd the better the show! Thanks
URL:https://craftybelle.uk/event/comedy-open-mic/2023-03-30/
LOCATION:James St. Tavern\, 47-48 James Street\, Oxford\, Oxfordshire\, OX4 1EU\, United Kingdom
CATEGORIES:James St.
END:VEVENT
BEGIN:VEVENT
DTSTART;TZID=Europe/London:20230402T143000
DTEND;TZID=Europe/London:20230402T183000
DTSTAMP:20260425T003109
CREATED:20220127T141805Z
LAST-MODIFIED:20220209T123751Z
UID:10000229-1680445800-1680460200@craftybelle.uk
SUMMARY:James St Open Mic
DESCRIPTION:The finest Open Mic this side of town! Hosted by the amazing Lee Bo. Join the best talent in Oxford\, have a sing\, or just sit and enjoy the vibes.\nWhat more could you want on a Sunday afternoon?
URL:https://craftybelle.uk/event/james-st-open-mic-2/2023-04-02/
LOCATION:James St. Tavern\, 47-48 James Street\, Oxford\, Oxfordshire\, OX4 1EU\, United Kingdom
CATEGORIES:James St.
ATTACH;FMTTYPE=image/jpeg:https://craftybelle.uk/wp-content/uploads/2022/01/Open-Mic-2.jpg
END:VEVENT
BEGIN:VEVENT
DTSTART;TZID=Europe/London:20230404T200000
DTEND;TZID=Europe/London:20230404T220000
DTSTAMP:20260425T003109
CREATED:20220127T143838Z
LAST-MODIFIED:20220209T124238Z
UID:10000379-1680638400-1680645600@craftybelle.uk
SUMMARY:Old Bookbinders Pub Quiz
DESCRIPTION:Our fiendish Pub Quiz comes in every Tuesday and helps raise funds for Helen & Douglas House\, Oxford’s local children’s hospice. 6 tricky rounds for you to answer\, hosted by our gorgeous Landlord Josh. £1 per person to enter\, liquid prizes for winners! PLEASE ARRIVE EARLY AS IT STARTS AT 8PM PROMPTLY!
URL:https://craftybelle.uk/event/old-bookbinders-pub-quiz/2023-04-04/
LOCATION:The Old Bookbinders\, 17-18 Victor Street\, Oxford\, Oxfordshire\, OX2 6BT\, United Kingdom
CATEGORIES:Bookbinders
ATTACH;FMTTYPE=image/png:https://craftybelle.uk/wp-content/uploads/2022/01/Helen-Douglas.png
END:VEVENT
BEGIN:VEVENT
DTSTART;TZID=Europe/London:20230406T200000
DTEND;TZID=Europe/London:20230406T223000
DTSTAMP:20260425T003109
CREATED:20230201T191747Z
LAST-MODIFIED:20230201T191748Z
UID:10000077-1680811200-1680820200@craftybelle.uk
SUMMARY:JST Comedy Open Mic
DESCRIPTION:The first (and best) Comedy Open Mic in Oxford\, JST’s Open Mic is the spot to see new emerging talent performing alongside tried and tested semi-pros! Every Thursday join our host King Andy Gleeks and watch the hottest comedy from a mixture of old local favorites and some fresh-faced performers just starting out. You might even find the Next Big Thing right on your doorstep!\n \nFancy giving it a go? Want to come and try out new comedy material? Stand-Up? Sketch? Musical Comedy? Whatever you’ve got we want to see it. Feel free to message us with any questions you might have.\n \nNote to performers: The best way to test new material is in front of a good crowd\, so if you’d like to perform on the mic please share on social media\, spread the word\, and bring people along! The bigger and friendlier the crowd the better the show! Thanks
URL:https://craftybelle.uk/event/comedy-open-mic/2023-04-06/
LOCATION:James St. Tavern\, 47-48 James Street\, Oxford\, Oxfordshire\, OX4 1EU\, United Kingdom
CATEGORIES:James St.
END:VEVENT
BEGIN:VEVENT
DTSTART;TZID=Europe/London:20230409T143000
DTEND;TZID=Europe/London:20230409T183000
DTSTAMP:20260425T003109
CREATED:20220127T141805Z
LAST-MODIFIED:20220209T123751Z
UID:10000230-1681050600-1681065000@craftybelle.uk
SUMMARY:James St Open Mic
DESCRIPTION:The finest Open Mic this side of town! Hosted by the amazing Lee Bo. Join the best talent in Oxford\, have a sing\, or just sit and enjoy the vibes.\nWhat more could you want on a Sunday afternoon?
URL:https://craftybelle.uk/event/james-st-open-mic-2/2023-04-09/
LOCATION:James St. Tavern\, 47-48 James Street\, Oxford\, Oxfordshire\, OX4 1EU\, United Kingdom
CATEGORIES:James St.
ATTACH;FMTTYPE=image/jpeg:https://craftybelle.uk/wp-content/uploads/2022/01/Open-Mic-2.jpg
END:VEVENT
BEGIN:VEVENT
DTSTART;TZID=Europe/London:20230411T200000
DTEND;TZID=Europe/London:20230411T220000
DTSTAMP:20260425T003109
CREATED:20220127T143838Z
LAST-MODIFIED:20220209T124238Z
UID:10000380-1681243200-1681250400@craftybelle.uk
SUMMARY:Old Bookbinders Pub Quiz
DESCRIPTION:Our fiendish Pub Quiz comes in every Tuesday and helps raise funds for Helen & Douglas House\, Oxford’s local children’s hospice. 6 tricky rounds for you to answer\, hosted by our gorgeous Landlord Josh. £1 per person to enter\, liquid prizes for winners! PLEASE ARRIVE EARLY AS IT STARTS AT 8PM PROMPTLY!
URL:https://craftybelle.uk/event/old-bookbinders-pub-quiz/2023-04-11/
LOCATION:The Old Bookbinders\, 17-18 Victor Street\, Oxford\, Oxfordshire\, OX2 6BT\, United Kingdom
CATEGORIES:Bookbinders
ATTACH;FMTTYPE=image/png:https://craftybelle.uk/wp-content/uploads/2022/01/Helen-Douglas.png
END:VEVENT
BEGIN:VEVENT
DTSTART;TZID=Europe/London:20230412T200000
DTEND;TZID=Europe/London:20230412T220000
DTSTAMP:20260425T003109
CREATED:20230201T200859Z
LAST-MODIFIED:20230405T211238Z
UID:10000554-1681329600-1681336800@craftybelle.uk
SUMMARY:Bookies Open Mic
DESCRIPTION:EVERY OTHER WEDNESDAY \nThe best Open Mic in Jericho! Come and show off your skillset or just sit and enjoy some amazing local talent. \nHosted by the inimitable Lee Bo.
URL:https://craftybelle.uk/event/bookies-open-mic/2023-04-12/
LOCATION:The Old Bookbinders\, 17-18 Victor Street\, Oxford\, Oxfordshire\, OX2 6BT\, United Kingdom
CATEGORIES:Bookbinders
ATTACH;FMTTYPE=image/jpeg:https://craftybelle.uk/wp-content/uploads/2023/02/FB_IMG_1675281584649.jpg
END:VEVENT
BEGIN:VEVENT
DTSTART;TZID=Europe/London:20230413T200000
DTEND;TZID=Europe/London:20230413T223000
DTSTAMP:20260425T003109
CREATED:20230201T191747Z
LAST-MODIFIED:20230201T191748Z
UID:10000078-1681416000-1681425000@craftybelle.uk
SUMMARY:JST Comedy Open Mic
DESCRIPTION:The first (and best) Comedy Open Mic in Oxford\, JST’s Open Mic is the spot to see new emerging talent performing alongside tried and tested semi-pros! Every Thursday join our host King Andy Gleeks and watch the hottest comedy from a mixture of old local favorites and some fresh-faced performers just starting out. You might even find the Next Big Thing right on your doorstep!\n \nFancy giving it a go? Want to come and try out new comedy material? Stand-Up? Sketch? Musical Comedy? Whatever you’ve got we want to see it. Feel free to message us with any questions you might have.\n \nNote to performers: The best way to test new material is in front of a good crowd\, so if you’d like to perform on the mic please share on social media\, spread the word\, and bring people along! The bigger and friendlier the crowd the better the show! Thanks
URL:https://craftybelle.uk/event/comedy-open-mic/2023-04-13/
LOCATION:James St. Tavern\, 47-48 James Street\, Oxford\, Oxfordshire\, OX4 1EU\, United Kingdom
CATEGORIES:James St.
END:VEVENT
BEGIN:VEVENT
DTSTART;TZID=Europe/London:20230416T143000
DTEND;TZID=Europe/London:20230416T183000
DTSTAMP:20260425T003109
CREATED:20220127T141805Z
LAST-MODIFIED:20220209T123751Z
UID:10000231-1681655400-1681669800@craftybelle.uk
SUMMARY:James St Open Mic
DESCRIPTION:The finest Open Mic this side of town! Hosted by the amazing Lee Bo. Join the best talent in Oxford\, have a sing\, or just sit and enjoy the vibes.\nWhat more could you want on a Sunday afternoon?
URL:https://craftybelle.uk/event/james-st-open-mic-2/2023-04-16/
LOCATION:James St. Tavern\, 47-48 James Street\, Oxford\, Oxfordshire\, OX4 1EU\, United Kingdom
CATEGORIES:James St.
ATTACH;FMTTYPE=image/jpeg:https://craftybelle.uk/wp-content/uploads/2022/01/Open-Mic-2.jpg
END:VEVENT
BEGIN:VEVENT
DTSTART;TZID=Europe/London:20230418T200000
DTEND;TZID=Europe/London:20230418T220000
DTSTAMP:20260425T003109
CREATED:20220127T143838Z
LAST-MODIFIED:20220209T124238Z
UID:10000381-1681848000-1681855200@craftybelle.uk
SUMMARY:Old Bookbinders Pub Quiz
DESCRIPTION:Our fiendish Pub Quiz comes in every Tuesday and helps raise funds for Helen & Douglas House\, Oxford’s local children’s hospice. 6 tricky rounds for you to answer\, hosted by our gorgeous Landlord Josh. £1 per person to enter\, liquid prizes for winners! PLEASE ARRIVE EARLY AS IT STARTS AT 8PM PROMPTLY!
URL:https://craftybelle.uk/event/old-bookbinders-pub-quiz/2023-04-18/
LOCATION:The Old Bookbinders\, 17-18 Victor Street\, Oxford\, Oxfordshire\, OX2 6BT\, United Kingdom
CATEGORIES:Bookbinders
ATTACH;FMTTYPE=image/png:https://craftybelle.uk/wp-content/uploads/2022/01/Helen-Douglas.png
END:VEVENT
BEGIN:VEVENT
DTSTART;TZID=Europe/London:20230420T200000
DTEND;TZID=Europe/London:20230420T223000
DTSTAMP:20260425T003109
CREATED:20230201T191747Z
LAST-MODIFIED:20230201T191748Z
UID:10000079-1682020800-1682029800@craftybelle.uk
SUMMARY:JST Comedy Open Mic
DESCRIPTION:The first (and best) Comedy Open Mic in Oxford\, JST’s Open Mic is the spot to see new emerging talent performing alongside tried and tested semi-pros! Every Thursday join our host King Andy Gleeks and watch the hottest comedy from a mixture of old local favorites and some fresh-faced performers just starting out. You might even find the Next Big Thing right on your doorstep!\n \nFancy giving it a go? Want to come and try out new comedy material? Stand-Up? Sketch? Musical Comedy? Whatever you’ve got we want to see it. Feel free to message us with any questions you might have.\n \nNote to performers: The best way to test new material is in front of a good crowd\, so if you’d like to perform on the mic please share on social media\, spread the word\, and bring people along! The bigger and friendlier the crowd the better the show! Thanks
URL:https://craftybelle.uk/event/comedy-open-mic/2023-04-20/
LOCATION:James St. Tavern\, 47-48 James Street\, Oxford\, Oxfordshire\, OX4 1EU\, United Kingdom
CATEGORIES:James St.
END:VEVENT
BEGIN:VEVENT
DTSTART;TZID=Europe/London:20230423T143000
DTEND;TZID=Europe/London:20230423T183000
DTSTAMP:20260425T003109
CREATED:20220127T141805Z
LAST-MODIFIED:20220209T123751Z
UID:10000232-1682260200-1682274600@craftybelle.uk
SUMMARY:James St Open Mic
DESCRIPTION:The finest Open Mic this side of town! Hosted by the amazing Lee Bo. Join the best talent in Oxford\, have a sing\, or just sit and enjoy the vibes.\nWhat more could you want on a Sunday afternoon?
URL:https://craftybelle.uk/event/james-st-open-mic-2/2023-04-23/
LOCATION:James St. Tavern\, 47-48 James Street\, Oxford\, Oxfordshire\, OX4 1EU\, United Kingdom
CATEGORIES:James St.
ATTACH;FMTTYPE=image/jpeg:https://craftybelle.uk/wp-content/uploads/2022/01/Open-Mic-2.jpg
END:VEVENT
BEGIN:VEVENT
DTSTART;TZID=Europe/London:20230425T200000
DTEND;TZID=Europe/London:20230425T220000
DTSTAMP:20260425T003109
CREATED:20220127T143838Z
LAST-MODIFIED:20220209T124238Z
UID:10000382-1682452800-1682460000@craftybelle.uk
SUMMARY:Old Bookbinders Pub Quiz
DESCRIPTION:Our fiendish Pub Quiz comes in every Tuesday and helps raise funds for Helen & Douglas House\, Oxford’s local children’s hospice. 6 tricky rounds for you to answer\, hosted by our gorgeous Landlord Josh. £1 per person to enter\, liquid prizes for winners! PLEASE ARRIVE EARLY AS IT STARTS AT 8PM PROMPTLY!
URL:https://craftybelle.uk/event/old-bookbinders-pub-quiz/2023-04-25/
LOCATION:The Old Bookbinders\, 17-18 Victor Street\, Oxford\, Oxfordshire\, OX2 6BT\, United Kingdom
CATEGORIES:Bookbinders
ATTACH;FMTTYPE=image/png:https://craftybelle.uk/wp-content/uploads/2022/01/Helen-Douglas.png
END:VEVENT
BEGIN:VEVENT
DTSTART;TZID=Europe/London:20230425T200000
DTEND;TZID=Europe/London:20230425T220000
DTSTAMP:20260425T003109
CREATED:20230423T140924Z
LAST-MODIFIED:20230423T140924Z
UID:10000569-1682452800-1682460000@craftybelle.uk
SUMMARY:Comedy Ladder #5
DESCRIPTION:Comedy Ladder are back for their bi-monthly visit to JST! \nFEATURING \nRyan Mold\nMark Row\nStella Graham\nSteve Hall HEADLINER (most recently seen supporting Russell Howard on tour!)\n+ Andy Gleeks MC \n 
URL:https://craftybelle.uk/event/comedy-ladder-5/
LOCATION:James St. Tavern\, 47-48 James Street\, Oxford\, Oxfordshire\, OX4 1EU\, United Kingdom
CATEGORIES:James St.
ATTACH;FMTTYPE=image/jpeg:https://craftybelle.uk/wp-content/uploads/2023/04/Steve-Hall.jpg
END:VEVENT
BEGIN:VEVENT
DTSTART;TZID=Europe/London:20230426T180000
DTEND;TZID=Europe/London:20230426T210000
DTSTAMP:20260425T003109
CREATED:20230423T134446Z
LAST-MODIFIED:20230423T134446Z
UID:10000567-1682532000-1682542800@craftybelle.uk
SUMMARY:Friends of Aston's Eyot Charity Art Auction
DESCRIPTION:On Wednesday 26 April the Friends of Aston’s Eyot will be holding an art auction at James Street Tavern from 6pm to 8pm. Various local artists have kindly donated a number of pieces of art inspired by Aston’s Eyot. \nDuring the event\, you’ll be able to view all the art for the first hour\, followed by a public auction from 7pm where all proceeds will be donated to the Friends of Aston’s Eyot. There will be something for all tastes and budgets\, and all sales will help support conversation of our gorgeous nature reserve.
URL:https://craftybelle.uk/event/charity-art-auction/
LOCATION:James St. Tavern\, 47-48 James Street\, Oxford\, Oxfordshire\, OX4 1EU\, United Kingdom
CATEGORIES:James St.
ATTACH;FMTTYPE=image/jpeg:https://craftybelle.uk/wp-content/uploads/2023/04/FOAE.jpg
END:VEVENT
BEGIN:VEVENT
DTSTART;TZID=Europe/London:20230426T200000
DTEND;TZID=Europe/London:20230426T220000
DTSTAMP:20260425T003109
CREATED:20230201T200859Z
LAST-MODIFIED:20230405T211238Z
UID:10000555-1682539200-1682546400@craftybelle.uk
SUMMARY:Bookies Open Mic
DESCRIPTION:EVERY OTHER WEDNESDAY \nThe best Open Mic in Jericho! Come and show off your skillset or just sit and enjoy some amazing local talent. \nHosted by the inimitable Lee Bo.
URL:https://craftybelle.uk/event/bookies-open-mic/2023-04-26/
LOCATION:The Old Bookbinders\, 17-18 Victor Street\, Oxford\, Oxfordshire\, OX2 6BT\, United Kingdom
CATEGORIES:Bookbinders
ATTACH;FMTTYPE=image/jpeg:https://craftybelle.uk/wp-content/uploads/2023/02/FB_IMG_1675281584649.jpg
END:VEVENT
BEGIN:VEVENT
DTSTART;TZID=Europe/London:20230427T200000
DTEND;TZID=Europe/London:20230427T223000
DTSTAMP:20260425T003109
CREATED:20230201T191747Z
LAST-MODIFIED:20230201T191748Z
UID:10000080-1682625600-1682634600@craftybelle.uk
SUMMARY:JST Comedy Open Mic
DESCRIPTION:The first (and best) Comedy Open Mic in Oxford\, JST’s Open Mic is the spot to see new emerging talent performing alongside tried and tested semi-pros! Every Thursday join our host King Andy Gleeks and watch the hottest comedy from a mixture of old local favorites and some fresh-faced performers just starting out. You might even find the Next Big Thing right on your doorstep!\n \nFancy giving it a go? Want to come and try out new comedy material? Stand-Up? Sketch? Musical Comedy? Whatever you’ve got we want to see it. Feel free to message us with any questions you might have.\n \nNote to performers: The best way to test new material is in front of a good crowd\, so if you’d like to perform on the mic please share on social media\, spread the word\, and bring people along! The bigger and friendlier the crowd the better the show! Thanks
URL:https://craftybelle.uk/event/comedy-open-mic/2023-04-27/
LOCATION:James St. Tavern\, 47-48 James Street\, Oxford\, Oxfordshire\, OX4 1EU\, United Kingdom
CATEGORIES:James St.
END:VEVENT
BEGIN:VEVENT
DTSTART;TZID=Europe/London:20230428T203000
DTEND;TZID=Europe/London:20230428T223000
DTSTAMP:20260425T003109
CREATED:20230423T134823Z
LAST-MODIFIED:20230423T135445Z
UID:10000568-1682713800-1682721000@craftybelle.uk
SUMMARY:JST Live Lounge
DESCRIPTION:Back with a stunner for our monthly live lounge. Sarah Derrick kicks things off in style with top class acoustic soul. Providing the sweet sweet American grooves is the one and only High Horse. Get in early to nab a seat
URL:https://craftybelle.uk/event/jst-live-lounge-4/
LOCATION:James St. Tavern\, 47-48 James Street\, Oxford\, Oxfordshire\, OX4 1EU\, United Kingdom
CATEGORIES:James St.
ATTACH;FMTTYPE=image/jpeg:https://craftybelle.uk/wp-content/uploads/2023/04/Live-Lounge-April.jpg
END:VEVENT
END:VCALENDAR