BEGIN:VCALENDAR
VERSION:2.0
PRODID:-//Crafty Belle Group - ECPv6.15.18//NONSGML v1.0//EN
CALSCALE:GREGORIAN
METHOD:PUBLISH
X-ORIGINAL-URL:https://craftybelle.uk
X-WR-CALDESC:Events for Crafty Belle Group
REFRESH-INTERVAL;VALUE=DURATION:PT1H
X-Robots-Tag:noindex
X-PUBLISHED-TTL:PT1H
BEGIN:VTIMEZONE
TZID:Europe/London
BEGIN:DAYLIGHT
TZOFFSETFROM:+0000
TZOFFSETTO:+0100
TZNAME:BST
DTSTART:20220327T010000
END:DAYLIGHT
BEGIN:STANDARD
TZOFFSETFROM:+0100
TZOFFSETTO:+0000
TZNAME:GMT
DTSTART:20221030T010000
END:STANDARD
BEGIN:DAYLIGHT
TZOFFSETFROM:+0000
TZOFFSETTO:+0100
TZNAME:BST
DTSTART:20230326T010000
END:DAYLIGHT
BEGIN:STANDARD
TZOFFSETFROM:+0100
TZOFFSETTO:+0000
TZNAME:GMT
DTSTART:20231029T010000
END:STANDARD
BEGIN:DAYLIGHT
TZOFFSETFROM:+0000
TZOFFSETTO:+0100
TZNAME:BST
DTSTART:20240331T010000
END:DAYLIGHT
BEGIN:STANDARD
TZOFFSETFROM:+0100
TZOFFSETTO:+0000
TZNAME:GMT
DTSTART:20241027T010000
END:STANDARD
END:VTIMEZONE
BEGIN:VEVENT
DTSTART;TZID=Europe/London:20230524T200000
DTEND;TZID=Europe/London:20230524T220000
DTSTAMP:20260425T043354
CREATED:20230201T200859Z
LAST-MODIFIED:20230405T211238Z
UID:10000557-1684958400-1684965600@craftybelle.uk
SUMMARY:Bookies Open Mic
DESCRIPTION:EVERY OTHER WEDNESDAY \nThe best Open Mic in Jericho! Come and show off your skillset or just sit and enjoy some amazing local talent. \nHosted by the inimitable Lee Bo.
URL:https://craftybelle.uk/event/bookies-open-mic/2023-05-24/
LOCATION:The Old Bookbinders\, 17-18 Victor Street\, Oxford\, Oxfordshire\, OX2 6BT\, United Kingdom
CATEGORIES:Bookbinders
ATTACH;FMTTYPE=image/jpeg:https://craftybelle.uk/wp-content/uploads/2023/02/FB_IMG_1675281584649.jpg
END:VEVENT
BEGIN:VEVENT
DTSTART;TZID=Europe/London:20230525T200000
DTEND;TZID=Europe/London:20230525T223000
DTSTAMP:20260425T043354
CREATED:20230201T191747Z
LAST-MODIFIED:20230201T191748Z
UID:10000084-1685044800-1685053800@craftybelle.uk
SUMMARY:JST Comedy Open Mic
DESCRIPTION:The first (and best) Comedy Open Mic in Oxford\, JST’s Open Mic is the spot to see new emerging talent performing alongside tried and tested semi-pros! Every Thursday join our host King Andy Gleeks and watch the hottest comedy from a mixture of old local favorites and some fresh-faced performers just starting out. You might even find the Next Big Thing right on your doorstep!\n \nFancy giving it a go? Want to come and try out new comedy material? Stand-Up? Sketch? Musical Comedy? Whatever you’ve got we want to see it. Feel free to message us with any questions you might have.\n \nNote to performers: The best way to test new material is in front of a good crowd\, so if you’d like to perform on the mic please share on social media\, spread the word\, and bring people along! The bigger and friendlier the crowd the better the show! Thanks
URL:https://craftybelle.uk/event/comedy-open-mic/2023-05-25/
LOCATION:James St. Tavern\, 47-48 James Street\, Oxford\, Oxfordshire\, OX4 1EU\, United Kingdom
CATEGORIES:James St.
END:VEVENT
BEGIN:VEVENT
DTSTART;TZID=Europe/London:20230526T210000
DTEND;TZID=Europe/London:20230526T230000
DTSTAMP:20260425T043354
CREATED:20230316T193916Z
LAST-MODIFIED:20230316T193916Z
UID:10000551-1685134800-1685142000@craftybelle.uk
SUMMARY:Mambo Panthers
DESCRIPTION:The Mambo Panthers are returning once again to James St! Oxford’s favourite live Latin Band will be wowing you with a versatile and eclectic mixture of Cuban son\, Swing\, Cumbia\, Jazz\, Rock\, African rhythms and South American sounds. Check out a recent performance with us here: https://fb.watch/8UXA-IW-ow/
URL:https://craftybelle.uk/event/mambo-panthers-2/
LOCATION:James St. Tavern\, 47-48 James Street\, Oxford\, Oxfordshire\, OX4 1EU\, United Kingdom
CATEGORIES:James St.
ATTACH;FMTTYPE=image/png:https://craftybelle.uk/wp-content/uploads/2021/10/Mambo-Panthers.png
END:VEVENT
BEGIN:VEVENT
DTSTART;TZID=Europe/London:20230528T110000
DTEND;TZID=Europe/London:20230528T160000
DTSTAMP:20260425T043354
CREATED:20230423T162330Z
LAST-MODIFIED:20230423T162330Z
UID:10000581-1685271600-1685289600@craftybelle.uk
SUMMARY:May Art Market
DESCRIPTION:Our monthly Art Market is back! Come and join us 11am – 4pm\, with arts and crafts stalls spread throughout the Pavilion and the Garden. we’ll be serving up scrumptious breakfasts and fresh coffee from  Jericho Coffee Traders! \nStallholder information to follow. \nIf you’d like to apply for a stall please email Philip on phillip@thejamfactoryoxford.com
URL:https://craftybelle.uk/event/may-art-market/
LOCATION:James St. Tavern\, 47-48 James Street\, Oxford\, Oxfordshire\, OX4 1EU\, United Kingdom
CATEGORIES:James St.
END:VEVENT
BEGIN:VEVENT
DTSTART;TZID=Europe/London:20230528T143000
DTEND;TZID=Europe/London:20230528T183000
DTSTAMP:20260425T043354
CREATED:20220127T141805Z
LAST-MODIFIED:20220209T123751Z
UID:10000237-1685284200-1685298600@craftybelle.uk
SUMMARY:James St Open Mic
DESCRIPTION:The finest Open Mic this side of town! Hosted by the amazing Lee Bo. Join the best talent in Oxford\, have a sing\, or just sit and enjoy the vibes.\nWhat more could you want on a Sunday afternoon?
URL:https://craftybelle.uk/event/james-st-open-mic-2/2023-05-28/
LOCATION:James St. Tavern\, 47-48 James Street\, Oxford\, Oxfordshire\, OX4 1EU\, United Kingdom
CATEGORIES:James St.
ATTACH;FMTTYPE=image/jpeg:https://craftybelle.uk/wp-content/uploads/2022/01/Open-Mic-2.jpg
END:VEVENT
BEGIN:VEVENT
DTSTART;TZID=Europe/London:20230530T200000
DTEND;TZID=Europe/London:20230530T220000
DTSTAMP:20260425T043354
CREATED:20220127T143838Z
LAST-MODIFIED:20220209T124238Z
UID:10000387-1685476800-1685484000@craftybelle.uk
SUMMARY:Old Bookbinders Pub Quiz
DESCRIPTION:Our fiendish Pub Quiz comes in every Tuesday and helps raise funds for Helen & Douglas House\, Oxford’s local children’s hospice. 6 tricky rounds for you to answer\, hosted by our gorgeous Landlord Josh. £1 per person to enter\, liquid prizes for winners! PLEASE ARRIVE EARLY AS IT STARTS AT 8PM PROMPTLY!
URL:https://craftybelle.uk/event/old-bookbinders-pub-quiz/2023-05-30/
LOCATION:The Old Bookbinders\, 17-18 Victor Street\, Oxford\, Oxfordshire\, OX2 6BT\, United Kingdom
CATEGORIES:Bookbinders
ATTACH;FMTTYPE=image/png:https://craftybelle.uk/wp-content/uploads/2022/01/Helen-Douglas.png
END:VEVENT
BEGIN:VEVENT
DTSTART;TZID=Europe/London:20230531T200000
DTEND;TZID=Europe/London:20230531T230000
DTSTAMP:20260425T043354
CREATED:20230509T152824Z
LAST-MODIFIED:20230509T154314Z
UID:10000585-1685563200-1685574000@craftybelle.uk
SUMMARY:FILM CLUB
DESCRIPTION:Welcome to our new FILM CLUB! \nEvery month we give you the chance to vote for your favourite film within a particular genre\, and the the winner will be screened on the last Wednesday of each month. Voting for each screening will open the day after the previous film. \nHead over to our home page to cast your vote \nShare the poll with your pals to make sure your film wins!
URL:https://craftybelle.uk/event/film-club/
LOCATION:James St. Tavern\, 47-48 James Street\, Oxford\, Oxfordshire\, OX4 1EU\, United Kingdom
CATEGORIES:James St.
END:VEVENT
BEGIN:VEVENT
DTSTART;TZID=Europe/London:20230601T200000
DTEND;TZID=Europe/London:20230601T223000
DTSTAMP:20260425T043354
CREATED:20230201T191747Z
LAST-MODIFIED:20230201T191748Z
UID:10000085-1685649600-1685658600@craftybelle.uk
SUMMARY:JST Comedy Open Mic
DESCRIPTION:The first (and best) Comedy Open Mic in Oxford\, JST’s Open Mic is the spot to see new emerging talent performing alongside tried and tested semi-pros! Every Thursday join our host King Andy Gleeks and watch the hottest comedy from a mixture of old local favorites and some fresh-faced performers just starting out. You might even find the Next Big Thing right on your doorstep!\n \nFancy giving it a go? Want to come and try out new comedy material? Stand-Up? Sketch? Musical Comedy? Whatever you’ve got we want to see it. Feel free to message us with any questions you might have.\n \nNote to performers: The best way to test new material is in front of a good crowd\, so if you’d like to perform on the mic please share on social media\, spread the word\, and bring people along! The bigger and friendlier the crowd the better the show! Thanks
URL:https://craftybelle.uk/event/comedy-open-mic/2023-06-01/
LOCATION:James St. Tavern\, 47-48 James Street\, Oxford\, Oxfordshire\, OX4 1EU\, United Kingdom
CATEGORIES:James St.
END:VEVENT
BEGIN:VEVENT
DTSTART;TZID=Europe/London:20230604T143000
DTEND;TZID=Europe/London:20230604T183000
DTSTAMP:20260425T043354
CREATED:20220127T141805Z
LAST-MODIFIED:20220209T123751Z
UID:10000238-1685889000-1685903400@craftybelle.uk
SUMMARY:James St Open Mic
DESCRIPTION:The finest Open Mic this side of town! Hosted by the amazing Lee Bo. Join the best talent in Oxford\, have a sing\, or just sit and enjoy the vibes.\nWhat more could you want on a Sunday afternoon?
URL:https://craftybelle.uk/event/james-st-open-mic-2/2023-06-04/
LOCATION:James St. Tavern\, 47-48 James Street\, Oxford\, Oxfordshire\, OX4 1EU\, United Kingdom
CATEGORIES:James St.
ATTACH;FMTTYPE=image/jpeg:https://craftybelle.uk/wp-content/uploads/2022/01/Open-Mic-2.jpg
END:VEVENT
BEGIN:VEVENT
DTSTART;TZID=Europe/London:20230606T200000
DTEND;TZID=Europe/London:20230606T220000
DTSTAMP:20260425T043354
CREATED:20220127T143838Z
LAST-MODIFIED:20220209T124238Z
UID:10000388-1686081600-1686088800@craftybelle.uk
SUMMARY:Old Bookbinders Pub Quiz
DESCRIPTION:Our fiendish Pub Quiz comes in every Tuesday and helps raise funds for Helen & Douglas House\, Oxford’s local children’s hospice. 6 tricky rounds for you to answer\, hosted by our gorgeous Landlord Josh. £1 per person to enter\, liquid prizes for winners! PLEASE ARRIVE EARLY AS IT STARTS AT 8PM PROMPTLY!
URL:https://craftybelle.uk/event/old-bookbinders-pub-quiz/2023-06-06/
LOCATION:The Old Bookbinders\, 17-18 Victor Street\, Oxford\, Oxfordshire\, OX2 6BT\, United Kingdom
CATEGORIES:Bookbinders
ATTACH;FMTTYPE=image/png:https://craftybelle.uk/wp-content/uploads/2022/01/Helen-Douglas.png
END:VEVENT
BEGIN:VEVENT
DTSTART;TZID=Europe/London:20230607T200000
DTEND;TZID=Europe/London:20230607T220000
DTSTAMP:20260425T043354
CREATED:20230201T200859Z
LAST-MODIFIED:20230405T211238Z
UID:10000558-1686168000-1686175200@craftybelle.uk
SUMMARY:Bookies Open Mic
DESCRIPTION:EVERY OTHER WEDNESDAY \nThe best Open Mic in Jericho! Come and show off your skillset or just sit and enjoy some amazing local talent. \nHosted by the inimitable Lee Bo.
URL:https://craftybelle.uk/event/bookies-open-mic/2023-06-07/
LOCATION:The Old Bookbinders\, 17-18 Victor Street\, Oxford\, Oxfordshire\, OX2 6BT\, United Kingdom
CATEGORIES:Bookbinders
ATTACH;FMTTYPE=image/jpeg:https://craftybelle.uk/wp-content/uploads/2023/02/FB_IMG_1675281584649.jpg
END:VEVENT
BEGIN:VEVENT
DTSTART;TZID=Europe/London:20230608T200000
DTEND;TZID=Europe/London:20230608T223000
DTSTAMP:20260425T043354
CREATED:20230201T191747Z
LAST-MODIFIED:20230201T191748Z
UID:10000086-1686254400-1686263400@craftybelle.uk
SUMMARY:JST Comedy Open Mic
DESCRIPTION:The first (and best) Comedy Open Mic in Oxford\, JST’s Open Mic is the spot to see new emerging talent performing alongside tried and tested semi-pros! Every Thursday join our host King Andy Gleeks and watch the hottest comedy from a mixture of old local favorites and some fresh-faced performers just starting out. You might even find the Next Big Thing right on your doorstep!\n \nFancy giving it a go? Want to come and try out new comedy material? Stand-Up? Sketch? Musical Comedy? Whatever you’ve got we want to see it. Feel free to message us with any questions you might have.\n \nNote to performers: The best way to test new material is in front of a good crowd\, so if you’d like to perform on the mic please share on social media\, spread the word\, and bring people along! The bigger and friendlier the crowd the better the show! Thanks
URL:https://craftybelle.uk/event/comedy-open-mic/2023-06-08/
LOCATION:James St. Tavern\, 47-48 James Street\, Oxford\, Oxfordshire\, OX4 1EU\, United Kingdom
CATEGORIES:James St.
END:VEVENT
BEGIN:VEVENT
DTSTART;TZID=Europe/London:20230611T143000
DTEND;TZID=Europe/London:20230611T183000
DTSTAMP:20260425T043354
CREATED:20220127T141805Z
LAST-MODIFIED:20220209T123751Z
UID:10000239-1686493800-1686508200@craftybelle.uk
SUMMARY:James St Open Mic
DESCRIPTION:The finest Open Mic this side of town! Hosted by the amazing Lee Bo. Join the best talent in Oxford\, have a sing\, or just sit and enjoy the vibes.\nWhat more could you want on a Sunday afternoon?
URL:https://craftybelle.uk/event/james-st-open-mic-2/2023-06-11/
LOCATION:James St. Tavern\, 47-48 James Street\, Oxford\, Oxfordshire\, OX4 1EU\, United Kingdom
CATEGORIES:James St.
ATTACH;FMTTYPE=image/jpeg:https://craftybelle.uk/wp-content/uploads/2022/01/Open-Mic-2.jpg
END:VEVENT
BEGIN:VEVENT
DTSTART;TZID=Europe/London:20230613T200000
DTEND;TZID=Europe/London:20230613T220000
DTSTAMP:20260425T043354
CREATED:20220127T143838Z
LAST-MODIFIED:20220209T124238Z
UID:10000389-1686686400-1686693600@craftybelle.uk
SUMMARY:Old Bookbinders Pub Quiz
DESCRIPTION:Our fiendish Pub Quiz comes in every Tuesday and helps raise funds for Helen & Douglas House\, Oxford’s local children’s hospice. 6 tricky rounds for you to answer\, hosted by our gorgeous Landlord Josh. £1 per person to enter\, liquid prizes for winners! PLEASE ARRIVE EARLY AS IT STARTS AT 8PM PROMPTLY!
URL:https://craftybelle.uk/event/old-bookbinders-pub-quiz/2023-06-13/
LOCATION:The Old Bookbinders\, 17-18 Victor Street\, Oxford\, Oxfordshire\, OX2 6BT\, United Kingdom
CATEGORIES:Bookbinders
ATTACH;FMTTYPE=image/png:https://craftybelle.uk/wp-content/uploads/2022/01/Helen-Douglas.png
END:VEVENT
BEGIN:VEVENT
DTSTART;TZID=Europe/London:20230615T200000
DTEND;TZID=Europe/London:20230615T223000
DTSTAMP:20260425T043354
CREATED:20230201T191747Z
LAST-MODIFIED:20230201T191748Z
UID:10000087-1686859200-1686868200@craftybelle.uk
SUMMARY:JST Comedy Open Mic
DESCRIPTION:The first (and best) Comedy Open Mic in Oxford\, JST’s Open Mic is the spot to see new emerging talent performing alongside tried and tested semi-pros! Every Thursday join our host King Andy Gleeks and watch the hottest comedy from a mixture of old local favorites and some fresh-faced performers just starting out. You might even find the Next Big Thing right on your doorstep!\n \nFancy giving it a go? Want to come and try out new comedy material? Stand-Up? Sketch? Musical Comedy? Whatever you’ve got we want to see it. Feel free to message us with any questions you might have.\n \nNote to performers: The best way to test new material is in front of a good crowd\, so if you’d like to perform on the mic please share on social media\, spread the word\, and bring people along! The bigger and friendlier the crowd the better the show! Thanks
URL:https://craftybelle.uk/event/comedy-open-mic/2023-06-15/
LOCATION:James St. Tavern\, 47-48 James Street\, Oxford\, Oxfordshire\, OX4 1EU\, United Kingdom
CATEGORIES:James St.
END:VEVENT
BEGIN:VEVENT
DTSTART;TZID=Europe/London:20230617T130000
DTEND;TZID=Europe/London:20230617T190000
DTSTAMP:20260425T043354
CREATED:20230423T164744Z
LAST-MODIFIED:20230423T164830Z
UID:10000582-1687006800-1687028400@craftybelle.uk
SUMMARY:So... Day Party
DESCRIPTION:This event is aimed at the Over 30s and older. It is something that many of you have asked for\, so please be selective with your group planning. You know who your people are\, you know the vibe you want. \nWe’re back home. Music\, Dancing\, Food\, Magic. \nOn the day – DJ Sets from ‘So….’ and our Special Guest MC \n90s – 00s RnB\, Dancehall\, Jungle & much more\, including the Funky & Deep House Power Set\, with some added UKG. \nDid we mention the Magic? That will be Josh….. \nFresh Caribbean food available to buy\, the Jerk Chicken Barrel will be smoking. \nThis is a stripped back affair\, roof open\, music and you. \n 
URL:https://craftybelle.uk/event/so-day-party/
LOCATION:James St. Tavern\, 47-48 James Street\, Oxford\, Oxfordshire\, OX4 1EU\, United Kingdom
CATEGORIES:James St.
ATTACH;FMTTYPE=image/jpeg:https://craftybelle.uk/wp-content/uploads/2023/04/SO-Roof-Open.jpg
END:VEVENT
BEGIN:VEVENT
DTSTART;TZID=Europe/London:20230618T143000
DTEND;TZID=Europe/London:20230618T183000
DTSTAMP:20260425T043354
CREATED:20220127T141805Z
LAST-MODIFIED:20220209T123751Z
UID:10000240-1687098600-1687113000@craftybelle.uk
SUMMARY:James St Open Mic
DESCRIPTION:The finest Open Mic this side of town! Hosted by the amazing Lee Bo. Join the best talent in Oxford\, have a sing\, or just sit and enjoy the vibes.\nWhat more could you want on a Sunday afternoon?
URL:https://craftybelle.uk/event/james-st-open-mic-2/2023-06-18/
LOCATION:James St. Tavern\, 47-48 James Street\, Oxford\, Oxfordshire\, OX4 1EU\, United Kingdom
CATEGORIES:James St.
ATTACH;FMTTYPE=image/jpeg:https://craftybelle.uk/wp-content/uploads/2022/01/Open-Mic-2.jpg
END:VEVENT
BEGIN:VEVENT
DTSTART;TZID=Europe/London:20230620T200000
DTEND;TZID=Europe/London:20230620T220000
DTSTAMP:20260425T043354
CREATED:20220127T143838Z
LAST-MODIFIED:20220209T124238Z
UID:10000390-1687291200-1687298400@craftybelle.uk
SUMMARY:Old Bookbinders Pub Quiz
DESCRIPTION:Our fiendish Pub Quiz comes in every Tuesday and helps raise funds for Helen & Douglas House\, Oxford’s local children’s hospice. 6 tricky rounds for you to answer\, hosted by our gorgeous Landlord Josh. £1 per person to enter\, liquid prizes for winners! PLEASE ARRIVE EARLY AS IT STARTS AT 8PM PROMPTLY!
URL:https://craftybelle.uk/event/old-bookbinders-pub-quiz/2023-06-20/
LOCATION:The Old Bookbinders\, 17-18 Victor Street\, Oxford\, Oxfordshire\, OX2 6BT\, United Kingdom
CATEGORIES:Bookbinders
ATTACH;FMTTYPE=image/png:https://craftybelle.uk/wp-content/uploads/2022/01/Helen-Douglas.png
END:VEVENT
BEGIN:VEVENT
DTSTART;TZID=Europe/London:20230621T200000
DTEND;TZID=Europe/London:20230621T220000
DTSTAMP:20260425T043354
CREATED:20230201T200859Z
LAST-MODIFIED:20230405T211238Z
UID:10000559-1687377600-1687384800@craftybelle.uk
SUMMARY:Bookies Open Mic
DESCRIPTION:EVERY OTHER WEDNESDAY \nThe best Open Mic in Jericho! Come and show off your skillset or just sit and enjoy some amazing local talent. \nHosted by the inimitable Lee Bo.
URL:https://craftybelle.uk/event/bookies-open-mic/2023-06-21/
LOCATION:The Old Bookbinders\, 17-18 Victor Street\, Oxford\, Oxfordshire\, OX2 6BT\, United Kingdom
CATEGORIES:Bookbinders
ATTACH;FMTTYPE=image/jpeg:https://craftybelle.uk/wp-content/uploads/2023/02/FB_IMG_1675281584649.jpg
END:VEVENT
BEGIN:VEVENT
DTSTART;TZID=Europe/London:20230622T200000
DTEND;TZID=Europe/London:20230622T223000
DTSTAMP:20260425T043354
CREATED:20230201T191747Z
LAST-MODIFIED:20230201T191748Z
UID:10000088-1687464000-1687473000@craftybelle.uk
SUMMARY:JST Comedy Open Mic
DESCRIPTION:The first (and best) Comedy Open Mic in Oxford\, JST’s Open Mic is the spot to see new emerging talent performing alongside tried and tested semi-pros! Every Thursday join our host King Andy Gleeks and watch the hottest comedy from a mixture of old local favorites and some fresh-faced performers just starting out. You might even find the Next Big Thing right on your doorstep!\n \nFancy giving it a go? Want to come and try out new comedy material? Stand-Up? Sketch? Musical Comedy? Whatever you’ve got we want to see it. Feel free to message us with any questions you might have.\n \nNote to performers: The best way to test new material is in front of a good crowd\, so if you’d like to perform on the mic please share on social media\, spread the word\, and bring people along! The bigger and friendlier the crowd the better the show! Thanks
URL:https://craftybelle.uk/event/comedy-open-mic/2023-06-22/
LOCATION:James St. Tavern\, 47-48 James Street\, Oxford\, Oxfordshire\, OX4 1EU\, United Kingdom
CATEGORIES:James St.
END:VEVENT
BEGIN:VEVENT
DTSTART;TZID=Europe/London:20230625T143000
DTEND;TZID=Europe/London:20230625T183000
DTSTAMP:20260425T043354
CREATED:20220127T141805Z
LAST-MODIFIED:20220209T123751Z
UID:10000241-1687703400-1687717800@craftybelle.uk
SUMMARY:James St Open Mic
DESCRIPTION:The finest Open Mic this side of town! Hosted by the amazing Lee Bo. Join the best talent in Oxford\, have a sing\, or just sit and enjoy the vibes.\nWhat more could you want on a Sunday afternoon?
URL:https://craftybelle.uk/event/james-st-open-mic-2/2023-06-25/
LOCATION:James St. Tavern\, 47-48 James Street\, Oxford\, Oxfordshire\, OX4 1EU\, United Kingdom
CATEGORIES:James St.
ATTACH;FMTTYPE=image/jpeg:https://craftybelle.uk/wp-content/uploads/2022/01/Open-Mic-2.jpg
END:VEVENT
BEGIN:VEVENT
DTSTART;TZID=Europe/London:20230627T200000
DTEND;TZID=Europe/London:20230627T220000
DTSTAMP:20260425T043354
CREATED:20220127T143838Z
LAST-MODIFIED:20220209T124238Z
UID:10000391-1687896000-1687903200@craftybelle.uk
SUMMARY:Old Bookbinders Pub Quiz
DESCRIPTION:Our fiendish Pub Quiz comes in every Tuesday and helps raise funds for Helen & Douglas House\, Oxford’s local children’s hospice. 6 tricky rounds for you to answer\, hosted by our gorgeous Landlord Josh. £1 per person to enter\, liquid prizes for winners! PLEASE ARRIVE EARLY AS IT STARTS AT 8PM PROMPTLY!
URL:https://craftybelle.uk/event/old-bookbinders-pub-quiz/2023-06-27/
LOCATION:The Old Bookbinders\, 17-18 Victor Street\, Oxford\, Oxfordshire\, OX2 6BT\, United Kingdom
CATEGORIES:Bookbinders
ATTACH;FMTTYPE=image/png:https://craftybelle.uk/wp-content/uploads/2022/01/Helen-Douglas.png
END:VEVENT
BEGIN:VEVENT
DTSTART;TZID=Europe/London:20230629T200000
DTEND;TZID=Europe/London:20230629T223000
DTSTAMP:20260425T043354
CREATED:20230201T191747Z
LAST-MODIFIED:20230201T191748Z
UID:10000089-1688068800-1688077800@craftybelle.uk
SUMMARY:JST Comedy Open Mic
DESCRIPTION:The first (and best) Comedy Open Mic in Oxford\, JST’s Open Mic is the spot to see new emerging talent performing alongside tried and tested semi-pros! Every Thursday join our host King Andy Gleeks and watch the hottest comedy from a mixture of old local favorites and some fresh-faced performers just starting out. You might even find the Next Big Thing right on your doorstep!\n \nFancy giving it a go? Want to come and try out new comedy material? Stand-Up? Sketch? Musical Comedy? Whatever you’ve got we want to see it. Feel free to message us with any questions you might have.\n \nNote to performers: The best way to test new material is in front of a good crowd\, so if you’d like to perform on the mic please share on social media\, spread the word\, and bring people along! The bigger and friendlier the crowd the better the show! Thanks
URL:https://craftybelle.uk/event/comedy-open-mic/2023-06-29/
LOCATION:James St. Tavern\, 47-48 James Street\, Oxford\, Oxfordshire\, OX4 1EU\, United Kingdom
CATEGORIES:James St.
END:VEVENT
BEGIN:VEVENT
DTSTART;TZID=Europe/London:20230702T143000
DTEND;TZID=Europe/London:20230702T183000
DTSTAMP:20260425T043354
CREATED:20220127T141805Z
LAST-MODIFIED:20220209T123751Z
UID:10000242-1688308200-1688322600@craftybelle.uk
SUMMARY:James St Open Mic
DESCRIPTION:The finest Open Mic this side of town! Hosted by the amazing Lee Bo. Join the best talent in Oxford\, have a sing\, or just sit and enjoy the vibes.\nWhat more could you want on a Sunday afternoon?
URL:https://craftybelle.uk/event/james-st-open-mic-2/2023-07-02/
LOCATION:James St. Tavern\, 47-48 James Street\, Oxford\, Oxfordshire\, OX4 1EU\, United Kingdom
CATEGORIES:James St.
ATTACH;FMTTYPE=image/jpeg:https://craftybelle.uk/wp-content/uploads/2022/01/Open-Mic-2.jpg
END:VEVENT
BEGIN:VEVENT
DTSTART;TZID=Europe/London:20230704T200000
DTEND;TZID=Europe/London:20230704T220000
DTSTAMP:20260425T043354
CREATED:20220127T143838Z
LAST-MODIFIED:20220209T124238Z
UID:10000392-1688500800-1688508000@craftybelle.uk
SUMMARY:Old Bookbinders Pub Quiz
DESCRIPTION:Our fiendish Pub Quiz comes in every Tuesday and helps raise funds for Helen & Douglas House\, Oxford’s local children’s hospice. 6 tricky rounds for you to answer\, hosted by our gorgeous Landlord Josh. £1 per person to enter\, liquid prizes for winners! PLEASE ARRIVE EARLY AS IT STARTS AT 8PM PROMPTLY!
URL:https://craftybelle.uk/event/old-bookbinders-pub-quiz/2023-07-04/
LOCATION:The Old Bookbinders\, 17-18 Victor Street\, Oxford\, Oxfordshire\, OX2 6BT\, United Kingdom
CATEGORIES:Bookbinders
ATTACH;FMTTYPE=image/png:https://craftybelle.uk/wp-content/uploads/2022/01/Helen-Douglas.png
END:VEVENT
BEGIN:VEVENT
DTSTART;TZID=Europe/London:20230705T200000
DTEND;TZID=Europe/London:20230705T220000
DTSTAMP:20260425T043354
CREATED:20230201T200859Z
LAST-MODIFIED:20230405T211238Z
UID:10000560-1688587200-1688594400@craftybelle.uk
SUMMARY:Bookies Open Mic
DESCRIPTION:EVERY OTHER WEDNESDAY \nThe best Open Mic in Jericho! Come and show off your skillset or just sit and enjoy some amazing local talent. \nHosted by the inimitable Lee Bo.
URL:https://craftybelle.uk/event/bookies-open-mic/2023-07-05/
LOCATION:The Old Bookbinders\, 17-18 Victor Street\, Oxford\, Oxfordshire\, OX2 6BT\, United Kingdom
CATEGORIES:Bookbinders
ATTACH;FMTTYPE=image/jpeg:https://craftybelle.uk/wp-content/uploads/2023/02/FB_IMG_1675281584649.jpg
END:VEVENT
BEGIN:VEVENT
DTSTART;TZID=Europe/London:20230706T200000
DTEND;TZID=Europe/London:20230706T223000
DTSTAMP:20260425T043354
CREATED:20230201T191747Z
LAST-MODIFIED:20230201T191748Z
UID:10000090-1688673600-1688682600@craftybelle.uk
SUMMARY:JST Comedy Open Mic
DESCRIPTION:The first (and best) Comedy Open Mic in Oxford\, JST’s Open Mic is the spot to see new emerging talent performing alongside tried and tested semi-pros! Every Thursday join our host King Andy Gleeks and watch the hottest comedy from a mixture of old local favorites and some fresh-faced performers just starting out. You might even find the Next Big Thing right on your doorstep!\n \nFancy giving it a go? Want to come and try out new comedy material? Stand-Up? Sketch? Musical Comedy? Whatever you’ve got we want to see it. Feel free to message us with any questions you might have.\n \nNote to performers: The best way to test new material is in front of a good crowd\, so if you’d like to perform on the mic please share on social media\, spread the word\, and bring people along! The bigger and friendlier the crowd the better the show! Thanks
URL:https://craftybelle.uk/event/comedy-open-mic/2023-07-06/
LOCATION:James St. Tavern\, 47-48 James Street\, Oxford\, Oxfordshire\, OX4 1EU\, United Kingdom
CATEGORIES:James St.
END:VEVENT
BEGIN:VEVENT
DTSTART;TZID=Europe/London:20230709T143000
DTEND;TZID=Europe/London:20230709T183000
DTSTAMP:20260425T043354
CREATED:20220127T141805Z
LAST-MODIFIED:20220209T123751Z
UID:10000243-1688913000-1688927400@craftybelle.uk
SUMMARY:James St Open Mic
DESCRIPTION:The finest Open Mic this side of town! Hosted by the amazing Lee Bo. Join the best talent in Oxford\, have a sing\, or just sit and enjoy the vibes.\nWhat more could you want on a Sunday afternoon?
URL:https://craftybelle.uk/event/james-st-open-mic-2/2023-07-09/
LOCATION:James St. Tavern\, 47-48 James Street\, Oxford\, Oxfordshire\, OX4 1EU\, United Kingdom
CATEGORIES:James St.
ATTACH;FMTTYPE=image/jpeg:https://craftybelle.uk/wp-content/uploads/2022/01/Open-Mic-2.jpg
END:VEVENT
BEGIN:VEVENT
DTSTART;TZID=Europe/London:20230711T200000
DTEND;TZID=Europe/London:20230711T220000
DTSTAMP:20260425T043354
CREATED:20220127T143838Z
LAST-MODIFIED:20220209T124238Z
UID:10000393-1689105600-1689112800@craftybelle.uk
SUMMARY:Old Bookbinders Pub Quiz
DESCRIPTION:Our fiendish Pub Quiz comes in every Tuesday and helps raise funds for Helen & Douglas House\, Oxford’s local children’s hospice. 6 tricky rounds for you to answer\, hosted by our gorgeous Landlord Josh. £1 per person to enter\, liquid prizes for winners! PLEASE ARRIVE EARLY AS IT STARTS AT 8PM PROMPTLY!
URL:https://craftybelle.uk/event/old-bookbinders-pub-quiz/2023-07-11/
LOCATION:The Old Bookbinders\, 17-18 Victor Street\, Oxford\, Oxfordshire\, OX2 6BT\, United Kingdom
CATEGORIES:Bookbinders
ATTACH;FMTTYPE=image/png:https://craftybelle.uk/wp-content/uploads/2022/01/Helen-Douglas.png
END:VEVENT
BEGIN:VEVENT
DTSTART;TZID=Europe/London:20230713T200000
DTEND;TZID=Europe/London:20230713T223000
DTSTAMP:20260425T043354
CREATED:20230201T191747Z
LAST-MODIFIED:20230201T191748Z
UID:10000091-1689278400-1689287400@craftybelle.uk
SUMMARY:JST Comedy Open Mic
DESCRIPTION:The first (and best) Comedy Open Mic in Oxford\, JST’s Open Mic is the spot to see new emerging talent performing alongside tried and tested semi-pros! Every Thursday join our host King Andy Gleeks and watch the hottest comedy from a mixture of old local favorites and some fresh-faced performers just starting out. You might even find the Next Big Thing right on your doorstep!\n \nFancy giving it a go? Want to come and try out new comedy material? Stand-Up? Sketch? Musical Comedy? Whatever you’ve got we want to see it. Feel free to message us with any questions you might have.\n \nNote to performers: The best way to test new material is in front of a good crowd\, so if you’d like to perform on the mic please share on social media\, spread the word\, and bring people along! The bigger and friendlier the crowd the better the show! Thanks
URL:https://craftybelle.uk/event/comedy-open-mic/2023-07-13/
LOCATION:James St. Tavern\, 47-48 James Street\, Oxford\, Oxfordshire\, OX4 1EU\, United Kingdom
CATEGORIES:James St.
END:VEVENT
END:VCALENDAR