BEGIN:VCALENDAR
VERSION:2.0
PRODID:-//Crafty Belle Group - ECPv6.15.18//NONSGML v1.0//EN
CALSCALE:GREGORIAN
METHOD:PUBLISH
X-ORIGINAL-URL:https://craftybelle.uk
X-WR-CALDESC:Events for Crafty Belle Group
REFRESH-INTERVAL;VALUE=DURATION:PT1H
X-Robots-Tag:noindex
X-PUBLISHED-TTL:PT1H
BEGIN:VTIMEZONE
TZID:Europe/London
BEGIN:DAYLIGHT
TZOFFSETFROM:+0000
TZOFFSETTO:+0100
TZNAME:BST
DTSTART:20220327T010000
END:DAYLIGHT
BEGIN:STANDARD
TZOFFSETFROM:+0100
TZOFFSETTO:+0000
TZNAME:GMT
DTSTART:20221030T010000
END:STANDARD
BEGIN:DAYLIGHT
TZOFFSETFROM:+0000
TZOFFSETTO:+0100
TZNAME:BST
DTSTART:20230326T010000
END:DAYLIGHT
BEGIN:STANDARD
TZOFFSETFROM:+0100
TZOFFSETTO:+0000
TZNAME:GMT
DTSTART:20231029T010000
END:STANDARD
BEGIN:DAYLIGHT
TZOFFSETFROM:+0000
TZOFFSETTO:+0100
TZNAME:BST
DTSTART:20240331T010000
END:DAYLIGHT
BEGIN:STANDARD
TZOFFSETFROM:+0100
TZOFFSETTO:+0000
TZNAME:GMT
DTSTART:20241027T010000
END:STANDARD
END:VTIMEZONE
BEGIN:VEVENT
DTSTART;TZID=Europe/London:20230211T120000
DTEND;TZID=Europe/London:20230211T140000
DTSTAMP:20260424T225832
CREATED:20230118T182442Z
LAST-MODIFIED:20230118T182549Z
UID:10000518-1676116800-1676124000@craftybelle.uk
SUMMARY:Wine Tasting!
DESCRIPTION:We’d like to invite you to our inaugural wine tasting event on Saturday 11th February in the gorgeous Pavilion at James Street Tavern. The afternoon will be hosted by Toby Chiles DipWSET and will consist of 9 wines with accompaniments. \nWine Tasting should be all about enjoying wine and having fun. Learn about wine with like-minded people in an un-stuffy way! \nThe afternoon will be educational yet fun\, with a focus on wine tasting techniques\, wine trivia and wine and food matching\, and we’ll even throw some surprises in along the way. No prior wine knowledge is required\, just a love of wine! \nDo you think red wine works with all cheeses? Why doesn’t fish work with red wine? Would a dab of salt on your tongue ruin a red wine? How do you cope with spicy food and wine? \nAll these questions\, and more\, can be answered on the day in a way you are sure to remember. \nPlaces are limited\, so book your places to avoid disappointment. Special introductory price of £30 per head.
URL:https://craftybelle.uk/event/wine-tasting/
LOCATION:James St. Tavern\, 47-48 James Street\, Oxford\, Oxfordshire\, OX4 1EU\, United Kingdom
CATEGORIES:James St.
ATTACH;FMTTYPE=image/jpeg:https://craftybelle.uk/wp-content/uploads/2023/01/Wine-tasting.jpg
END:VEVENT
END:VCALENDAR